{"text_format":"1","workbook":"xlsx","n_sheets":8,"sheets":["Ведомственная 2008","коды","разделы","Функц. 2022-2024","Целевые 2022-2024","Р., Пр.2022-2024","ведом. 2022-2024","Лист1"],"not_rendered":{"charts":0,"images":0,"macros":0,"external_links":1,"defined_names":9,"comments":2,"pivot_tables":0},"unopened":[],"bounds":{"document_bytes":16777216,"sheet_cells":100000,"rows_first":2000,"rows_last":500,"rows_between":2000,"halvings":0,"cell_chars":16384,"cell_head_chars":4096},"cells_cut":0,"cells_raw":0,"read":"whole","date_system":"1900"}

{"sheet":"Ведомственная 2008","index":0,"n_rows":2623,"n_cols":9,"rows_kept":2623,"cut":false,"hidden":true,"merged":[[2622,1,2622,7],[2621,1,2621,7],[10,1,10,7],[11,1,11,7]]}
[null,"                                                              Приложение 13"]
[null,"                                                              к Закону Московской области №"]
[null,"                                                             \"О внесении изменений в Закон Московской области   "]
[null,"                                                             \"О бюджете Московской области на 2008 год\""]
[]
[null,"                                                            Приложение 19"]
[null,"                                                             к Закону Московской области №"]
[null,"                                                            \"О бюджете Московской области на 2008 год\""]
[]
[]
[null,"Ведомственная структура расходов"]
[null,"бюджета Московской области на 2008 год"]
[]
[null,null,null,null,null,null,null,"(тыс. рублей)"]
[null,"Наименования","Код","Рз","ПР","ЦСР","ВР","Сумма"]
[]
[0,"Московская областная Дума","001",null,null,null,null,{"$f":"H18+H42+H47+H52","v":926254}]
[1,"Общегосударственные вопросы","001","01",null,null,null,{"$f":"H19+H34","v":818155}]
[103,"Функционирование законодательных (представительных) органов государственной власти и представительных органов муниципальных образований","001","01","03",null,null,{"$f":"H20+H27","v":806070}]
[103002,"Руководство и управление в сфере установленных функций органов государственной власти субъектов Российской Федерации  и органов местного самоуправления","001","01","03","002 00 00",null,{"$f":"H21+H23+H25","v":797591}]
[10300204,"Центральный аппарат","001","01","03","002 04 00",null,{"$f":"H22","v":709475}]
[10300204012,"Выполнение функций государственными органами","001","01","03","002 04 00","012",709475]
[10300209,"Председатель законодательного (представительного) органа государственной власти субъекта Российской Федерации","001","01","03","002 09 00",null,{"$f":"H24","v":2381}]
[10300209012,"Выполнение функций государственными органами","001","01","03","002 09 00","012",2381]
[10300210,"Депутаты (члены) законодательного (представительного) органа государственной власти субъекта Российской Федерации","001","01","03","002 10 00",null,{"$f":"H26","v":85735}]
[10300210012,"Выполнение функций государственными органами","001","01","03","002 10 00","012",85735]
[103803,"Расходы на страхование ","001","01","03","803 00 00",null,{"$f":"H28+H30+H32","v":8479}]
[1038030001,"Расходы на страхование имущества, находящегося в государственной собственности Московской области","001","01","03","803 00 01",null,{"$f":"H29","v":7300}]
[1038030001013,"Прочие расходы","001","01","03","803 00 01","013",7300]
[1038030003,"Расходы на обязательное страхование гражданской ответственности владельцев транспортных средств","001","01","03","803 00 03",null,{"$f":"H31","v":1055}]
[1038030003013,"Прочие расходы","001","01","03","803 00 03","013",1055]
[1038030004,"Расходы на добровольное страхование гражданской ответственности владельцев транспортных средств","001","01","03","803 00 04",null,{"$f":"H33","v":124}]
[1038030004013,"Прочие расходы","001","01","03","803 00 04","013",124]
[114,"Другие общегосударственные вопросы","001","01",14,null,null,{"$f":"H35","v":12085}]
[114001,"Руководство и управление в сфере установленных функций","001","01",14,"001 00 00",null,{"$f":"H36+H38+H40","v":12085}]
[11400112,"Члены Совета Федерации и их помощники","001","01",14,"001 12 00",null,{"$f":"H37","v":364}]
[11400112012,"Выполнение функций государственными органами","001","01",14,"001 12 00","012",364]
[11400161,"Расходы, связанные с выплатой Премии Московской областной Думы","001","01",14,"001 61 00",null,{"$f":"H39","v":8621}]
[11400161013,"Прочие расходы","001","01",14,"001 61 00","013",{"$f":"8621-8621+8621","v":8621}]
[11400162,"Расходы на выплату премий победителям конкурсов профессионального мастерства и награждения ценными подарками в связи с проведение профессиональных праздников","001","01",14,"001 62 00",null,{"$f":"H41","v":3100}]
[11400162013,"Прочие расходы","001","01",14,"001 62 00","013",3100]
[5,"Жилищно-коммунальное хозяйство","001","05",null,null,null,{"$f":"H43","v":65000}]
[501,"Жилищное хозяйство","001","05","01",null,null,{"$f":"H44","v":65000}]
[501350,"Поддержка жилищного хозяйства","001","05","01","350 00 00",null,{"$f":"H45","v":65000}]
[50135003,"Мероприятия в области жилищного хозяйства ","001","05","01","350 03 00",null,{"$f":"H46","v":65000}]
[50135003012,"Выполнение функций государственными органами","001","05","01","350 03 00","012",65000]
[7,"Образование","001","07",null,null,null,{"$f":"H48","v":450}]
[707,"Молодежная политика и оздоровление детей","001","07","07",null,null,{"$f":"H49","v":450}]
[707432,"Мероприятия по проведению оздоровительной кампании детей ","001","07","07","432 00 00",null,{"$f":"H50","v":450}]
[70743202,"Оздоровление детей ","001","07","07","432 02 00",null,{"$f":"H51","v":450}]
[70743202001,"Выполнение функций бюджетными учреждениями","001","07","07","432 02 00","001",450]
[9,"Здравоохранение, физическая культура и спорт","001","09",null,null,null,{"$f":"H53","v":42649}]
[910,"Другие вопросы в области здравоохранения, физической культуры и спорта","001","09",10,null,null,{"$f":"H54","v":42649}]
[910485,"Реализация государственных функций в области здравоохранения, спорта и туризма","001","09",10,"485 00 00",null,{"$f":"H55","v":42649}]
[91048597,"Мероприятия в области здравохранения, спорта и физической культуры, туризма","001","09",10,"485 97 00",null,{"$f":"H56","v":42649}]
[91048597079,"Мероприятия в области здравоохранения, спорта и физической культуры","001","09",10,"485 97 00","079",42649]
[]
[0,"Правительство  Московской области ","002",null,null,null,null,{"$f":"H59+H87+H92+H97","v":2730114}]
[1,"Общегосударственные вопросы","002","01",null,null,null,{"$f":"H60+H64+H70","v":1958797}]
[102,"Функционирование высшего должностного лица субъекта Российской Федерации и муниципального образования","002","01","02",null,null,{"$f":"H61","v":2114}]
[102002,"Руководство и управление в сфере установленных функций органов государственной власти субъектов Российской Федерации  и органов местного самоуправления","002","01","02","002 00 00",null,{"$f":"H62","v":2114}]
[10200201,"Высшее должностное лицо субъекта Российской Федерации","002","01","02","002 01 00",null,{"$f":"H63","v":2114}]
[10200201012,"Выполнение функций государственными органами","002","01","02","002 01 00","012",2114]
[104,"Функционирование Правительства Российской Федерации, высших исполнительных органов государственной власти субъектов Российской Федерации, местных администраций","002","01","04",null,null,{"$f":"H65","v":902951}]
[104002,"Руководство и управление в сфере установленных функций органов государственной власти субъектов Российской Федерации  и органов местного самоуправления","002","01","04","002 00 00",null,{"$f":"H66+H68","v":902951}]
[10400204,"Центральный аппарат","002","01","04","002 04 00",null,{"$f":"H67","v":886096}]
[10400204012,"Выполнение функций государственными органами","002","01","04","002 04 00","012",886096]
[10400206,"Высшее должностное лицо субъекта Российской Федерации (руководитель высшего исполнительного органа государственной власти субъекта Российской Федерации) и его заместители ","002","01","04","002 06 00",null,{"$f":"H69","v":16855}]
[10400206012,"Выполнение функций государственными органами","002","01","04","002 06 00","012",16855]
[114,"Другие общегосударственные вопросы","002","01",14,null,null,{"$f":"H71+H82","v":1053732}]
[114001,"Руководство и управление в сфере установленных функций","002","01",14,"001 00 00",null,{"$f":"H72+H74+H76+H78+H80","v":26458}]
[11400110,"Депутаты Государственной Думы и их помощники","002","01",14,"001 10 00",null,{"$f":"H73","v":20804}]
[11400110012,"Выполнение функций государственными органами","002","01",14,"001 10 00","012",20804]
[11400112,"Члены Совета Федерации и их помощники","002","01",14,"001 12 00",null,{"$f":"H75","v":484}]
[11400112012,"Выполнение функций государственными органами","002","01",14,"001 12 00","012",484]
[11400163,"Расходы на выплату Премии Губернатора Московской области","002","01",14,"001 63 00",null,{"$f":"H77","v":2000}]
[11400163013,"Прочие расходы","002","01",14,"001 63 00","013",2000]
[11400164,"Взносы Московской области в общественные организации, фонды, ассоциации","002","01",14,"001 64 00",null,{"$f":"H79","v":600}]
[11400164013,"Прочие расходы","002","01",14,"001 64 00","013",600]
[11400165,"Расходы на реализацию Закона Московской области \"О наградах Московской области\"","002","01",14,"001 65 00",null,{"$f":"H81","v":2570}]
[11400165013,"Прочие расходы","002","01",14,"001 65 00","013",2570]
[114093,"Учреждения по обеспечению хозяйственного обслуживания","002","01",14,"093 00 00",null,{"$f":"H83+H85","v":1027274}]
[11409310,"Обеспечение эксплуатации и надлежащего содержания зданий и помещений, занимаемых Правительством Московской области","002","01",14,"093 10 00",null,{"$f":"H84","v":27274}]
[11409310001,"Выполнение функций бюджетными учреждениями","002","01",14,"093 10 00","001",27274]
[11409311,"Обеспечение эксплуатации и надлежащего содержания зданий и помещений, занимаемых органами исполнительной власти Московской области","002","01",14,"093 11 00",null,{"$f":"H86","v":1000000}]
[11409311001,"Выполнение функций бюджетными учреждениями","002","01",14,"093 11 00","001",1000000]
[5,"Жилищно - коммунальное хозяйство","002","05",null,null,null,{"$f":"H88","v":400000}]
[501,"Жилищное хозяйство","002","05","01",null,null,{"$f":"H89","v":400000}]
[501350,"Поддержка жилищного хозяйства","002","05","01","350 00 00",null,{"$f":"H90","v":400000}]
[50135003,"Мероприятия в области жилищного хозяйства ","002","05","01","350 03 00",null,{"$f":"H91","v":400000}]
[50135003012,"Выполнение функций государственными органами","002","05","01","350 03 00","012",400000]
[7,"Образование","002","07",null,null,null,{"$f":"H93","v":2104}]
[707,"Молодежная политика и оздоровление детей","002","07","07",null,null,{"$f":"H94","v":2104}]
[707432,"Мероприятия по проведению оздоровительной кампании детей ","002","07","07","432 00 00",null,{"$f":"H95","v":2104}]
[70743202,"Оздоровление детей ","002","07","07","432 02 00",null,{"$f":"H96","v":2104}]
[70743202001,"Выполнение функций бюджетными учреждениями","002","07","07","432 02 00","001",2104]
[9,"Здравоохранение, физическая культура и спорт","002","09",null,null,null,{"$f":"H98","v":369213}]
[910,"Другие вопросы в области здравоохранения, физической культуры и спорта","002","09",10,null,null,{"$f":"H99","v":369213}]
[910485,"Реализация государственных функций в области здравоохранения, спорта и туризма","002","09",10,"485 00 00",null,{"$f":"H100","v":369213}]
[91048597,"Мероприятия в области здравохранения, спорта и физической культуры, туризма","002","09",10,"485 97 00",null,{"$f":"H101","v":369213}]
[91048597079,"Мероприятия в области здравоохранения, спорта и физической культуры","002","09",10,"485 97 00","079",369213]
[]
[0,"Министерство внешнеэкономических связей Московской области","003",null,null,null,null,{"$f":"H104+H116+H121+H126","v":287272}]
[1,"Общегосударственные вопросы","003","01",null,null,null,{"$f":"H105+H112","v":286941}]
[108,"Международные отношения и международное сотрудничество","003","01","08",null,null,{"$f":"H106+H109","v":200130}]
[108030,"Международное сотрудничество","003","01","08","030 00 00",null,{"$f":"H107","v":200000}]
[10803005,"Прочие расходы, связанные с международной деятельностью","003","01","08","030 05 00",null,{"$f":"H108","v":200000}]
[10803005012,"Выполнение функций государственными органами","003","01","08","030 05 00","012",200000]
[108522,"Региональные целевые программы","003","01","08","522 00 00",null,{"$f":"H110","v":130}]
[10852209,"Областная целевая программа \"Поддержка Московской областью соотечественников за рубежом на 2007-2010 годы\"","003","01","08","522 09 00",null,{"$f":"H111","v":130}]
[10852209012,"Выполнение функций государственными органами","003","01","08","522 09 00","012",130]
[114,"Другие общегосударственные вопросы","003","01",14,null,null,{"$f":"H113","v":86811}]
[114002,"Руководство и управление в сфере установленных функций органов государственной власти субъектов Российской Федерации  и органов местного самоуправления","003","01",14,"002 00 00",null,{"$f":"H114","v":86811}]
[11400204,"Центральный аппарат","003","01",14,"002 04 00",null,{"$f":"H115","v":86811}]
[11400204012,"Выполнение функций государственными органами","003","01",14,"002 04 00","012",86811]
[2,"Национальная оборона","003","02",null,null,null,{"$f":"H117","v":200}]
[204,"Мобилизационная подготовка экономики","003","02","04",null,null,{"$f":"H118","v":200}]
[204209,"Реализация государственных функций по мобилизационной подготовке экономики","003","02","04","209 00 00",null,{"$f":"H119","v":200}]
[20420901,"Мероприятия по обеспечению  мобилизационной готовности экономики","003","02","04","209 01 00",null,{"$f":"H120","v":200}]
[20420901012,"Выполнение функций государственными органами","003","02","04","209 01 00","012",200]
[3,"Национальная безопасность и правоохранительная деятельность","003","03",null,null,null,{"$f":"H122+H131","v":69}]
[309,"Защита населения и территории от последствий чрезвычайных ситуаций природного и техногенного характера, гражданская оборона ","003","03","09",null,null,{"$f":"H123","v":69}]
[309219,"Мероприятия по гражданской обороне","003","03","09","219 00 00",null,{"$f":"H124","v":69}]
[30921901,"Подготовка населения и организаций к действиям в чрезвычайной ситуации в мирное и военное время","003","03","09","219 01 00",null,{"$f":"H125","v":69}]
[30921901012,"Выполнение функций государственными органами","003","03","09","219 01 00","012",69]
[7,"Образование","003","07",null,null,null,{"$f":"H127","v":62}]
[707,"Молодежная политика и оздоровление детей","003","07","07",null,null,{"$f":"H128","v":62}]
[707432,"Мероприятия по проведению оздоровительной кампании детей ","003","07","07","432 00 00",null,{"$f":"H129","v":62}]
[70743202,"Оздоровление детей ","003","07","07","432 02 00",null,{"$f":"H130","v":62}]
[70743202001,"Выполнение функций бюджетными учреждениями","003","07","07","432 02 00","001",62]
[]
[0,"Министерство жилищно-коммунального  хозяйства Московской области","004",null,null,null,null,{"$f":"H133+H138+H143+H148+H170","v":1381721}]
[2,"Национальная оборона","004","02",null,null,null,{"$f":"H134","v":200}]
[204,"Мобилизационная подготовка экономики","004","02","04",null,null,{"$f":"H135","v":200}]
[204209,"Реализация государственных функций по мобилизационной подготовке экономики","004","02","04","209 00 00",null,{"$f":"H136","v":200}]
[20420901,"Мероприятия по обеспечению  мобилизационной готовности экономики","004","02","04","209 01 00",null,{"$f":"H137","v":200}]
[20420901012,"Выполнение функций государственными органами","004","02","04","209 01 00","012",200]
[3,"Национальная безопасность и правоохранительная деятельность","004","03",null,null,null,{"$f":"H139","v":78}]
[309,"Защита населения и территории от последствий чрезвычайных ситуаций природного и техногенного характера, гражданская оборона ","004","03","09",null,null,{"$f":"H140","v":78}]
[309219,"Мероприятия по гражданской обороне","004","03","09","219 00 00",null,{"$f":"H141","v":78}]
[30921901,"Подготовка населения и организаций к действиям в чрезвычайной ситуации в мирное и военное время","004","03","09","219 01 00",null,{"$f":"H142","v":78}]
[30921901012,"Выполнение функций государственными органами","004","03","09","219 01 00","012",78]
[4,"Национальная экономика","004","04",null,null,null,{"$f":"H144","v":500000}]
[412,"Другие вопросы в области национальной экономики","004","04",12,null,null,{"$f":"H145","v":500000}]
[412340,"Реализация государственных функций в области национальной экономики","004","04",12,"340 00 00",null,{"$f":"H146","v":500000}]
[41234004,"Мероприятия в области гражданской промышленности","004","04",12,"340 04 00",null,{"$f":"H147","v":500000}]
[41234004006,"Субсидии юридическим лицам","004","04",12,"340 04 00","006",500000]
[5,"Жилищно - коммунальное хозяйство","004","05",null,null,null,{"$f":"H149+H157+H162","v":881399}]
[501,"Жилищное хозяйство","004","05","01",null,null,{"$f":"H150+H154","v":384531}]
[501102,"Бюджетные инвестиции в объекты капитального строительства, не включенные в целевые программы","004","05","01","102 00 00",null,{"$f":"H151","v":190153}]
[50110201,"Бюджетные инвестиции в объекты капитального строительства государственной собственности субъектов Российской Федерации (объекты капитального строительства собственности муниципальных образований)","004","05","01","102 01 00",null,{"$f":"H152","v":190153}]
[5011020102,"Бюджетные инвестиции в объекты капитального строительства собственности муниципальных образований ","004","05","01","102 01 02",null,{"$f":"H153","v":190153}]
[5011020102003,"Бюджетные инвестиции","004","05","01","102 01 02","003",190153]
[501104,"Федеральная целевая программа \"Жилище\" на 2002 - 2010 годы (второй этап)","004","05","01","104 00 00",null,{"$f":"H155","v":194378}]
[50110407,"Расходы общепрограммного характера по федеральной целевой программе \"Жилище\" на 2002 - 2010 годы (второй этап)","004","05","01","104 07 00",null,{"$f":"H156","v":194378}]
[50110407012,"Выполнение функций государственными органами","004","05","01","104 07 00","012",194378]
[502,"Коммунальное хозяйство","004","05","02",null,null,{"$f":"H158","v":143500}]
[502522,"Региональные целевые программы","004","05","02","522 00 00",null,{"$f":"H159","v":143500}]
[50252201,"Областная целевая программа \"Экология Подмосковья на 2007-2008 годы\"","004","05","02","522 01 00",null,{"$f":"H160","v":143500}]
[5025220102,"Подпрограмма \"Строительство и реконструкция  природоохранных объектов коммунального  назначения\"","004","05","02","522 01 02",null,{"$f":"H161","v":143500}]
[5025220102003,"Бюджетные инвестиции","004","05","02","522 01 02","003",143500]
[505,"Другие вопросы в области жилищно-коммунального хозяйства","004","05","05",null,null,{"$f":"H163+H168","v":353368}]
[505002,"Руководство и управление в сфере установленных функций органов государственной власти субъектов Российской Федерации  и органов местного самоуправления","004","05","05","002 00 00",null,{"$f":"H164+H166","v":346710}]
[50500204,"Центральный аппарат","004","05","05","002 04 00",null,{"$f":"H165","v":205458}]
[50500204012,"Выполнение функций государственными органами","004","05","05","002 04 00","012",{"$f":"182658+22800","v":205458}]
[50500299,"Обеспечение деятельности подведомственных учреждений","004","05","05","002 99 00",null,{"$f":"H167","v":141252}]
[50500299001,"Выполнение функций бюджетными учреждениями","004","05","05","002 99 00","001",141252]
[505806,"Прочие расходы, не отнесенные к другим целевым статьям","004","05","05","806 00 00",null,{"$f":"H169","v":6658}]
[505806006,"Субсидии юридическим лицам","004","05","05","806 00 00","006",6658]
[7,"Образование","004","07",null,null,null,{"$f":"H171","v":44}]
[707,"Молодежная политика и оздоровление детей","004","07","07",null,null,{"$f":"H172","v":44}]
[707432,"Мероприятия по проведению оздоровительной кампании детей ","004","07","07","432 00 00",null,{"$f":"H173","v":44}]
[70743202,"Оздоровление детей ","004","07","07","432 02 00",null,{"$f":"H174","v":44}]
[70743202001,"Выполнение функций бюджетными учреждениями","004","07","07","432 02 00","001",44]
[]
[0,"Министерство  промышленности и науки Московской области","005",null,null,null,null,{"$f":"H177+H182+H187+H192+H211","v":226908}]
[1,"Общегосударственные вопросы","005","01",null,null,null,{"$f":"H178","v":72}]
[114,"Другие общегосударственные вопросы","005","01",14,null,null,{"$f":"H179","v":72}]
[114001,"Руководство и управление в сфере установленных функций","005","01",14,"001 00 00",null,{"$f":"H180","v":72}]
[11400164,"Взносы Московской области в общественные организации, фонды, ассоциации","005","01",14,"001 64 00",null,{"$f":"H181","v":72}]
[11400164013,"Прочие расходы","005","01",14,"001 64 00","013",72]
[2,"Национальная оборона","005","02",null,null,null,{"$f":"H183","v":750}]
[204,"Мобилизационная подготовка экономики","005","02","04",null,null,{"$f":"H184","v":750}]
[204209,"Реализация государственных функций по мобилизационной подготовке экономики","005","02","04","209 00 00",null,{"$f":"H185","v":750}]
[20420901,"Мероприятия по обеспечению  мобилизационной готовности экономики","005","02","04","209 01 00",null,{"$f":"H186","v":750}]
[20420901012,"Выполнение функций государственными органами","005","02","04","209 01 00","012",750]
[3,"Национальная безопасность и правоохранительная деятельность","005","03",null,null,null,{"$f":"H188","v":615}]
[309,"Защита населения и территории от последствий чрезвычайных ситуаций природного и техногенного характера, гражданская оборона ","005","03","09",null,null,{"$f":"H189","v":615}]
[309219,"Мероприятия по гражданской обороне","005","03","09","219 00 00",null,{"$f":"H190","v":615}]
[30921901,"Подготовка населения и организаций к действиям в чрезвычайной ситуации в мирное и военное время","005","03","09","219 01 00",null,{"$f":"H191","v":615}]
[30921901012,"Выполнение функций государственными органами","005","03","09","219 01 00","012",615]
[4,"Национальная экономика","005","04",null,null,null,{"$f":"H193+H198+H202","v":225371}]
[401,"Общеэкономические вопросы","005","04","01",null,null,{"$f":"H194","v":120224}]
[401002,"Руководство и управление в сфере установленных функций органов государственной власти субъектов Российской Федерации  и органов местного самоуправления","005","04","01","002 00 00",null,{"$f":"H195","v":120224}]
[40100204,"Центральный аппарат","005","04","01","002 04 00",null,{"$f":"H196+H197","v":120224}]
[40100204012,"Выполнение функций государственными органами","005","04","01","002 04 00","012",119724]
[40100204902,"Проведение мероприятий по защите информации, обеспечению безопасности информационных систем и баз данных, содержащих конфиденциальную информацию, в том числе персональные данные населения Московской области","005","04","01","002 04 00",902,500]
[411,"Прикладные научные исследования в области национальной экономики","005","04",11,null,null,{"$f":"H199","v":53000}]
[411081,"Прикладные научные исследования и разработки","005","04",11,"081 00 00",null,{"$f":"H200","v":53000}]
[41108169,"Выполнение научно- исследовательских и опытно-конструкторских работ по государственным контрактам","005","04",11,"081 69 00",null,{"$f":"H201","v":53000}]
[41108169012,"Выполнение функций государственными органами","005","04",11,"081 69 00","012",53000]
[412,"Другие вопросы в области национальной экономики","005","04",12,null,null,{"$f":"H203","v":52147}]
[412340,"Реализация государственных функций в области национальной экономики","005","04",12,"340 00 00",null,{"$f":"H204","v":52147}]
[41234083,"Государственная поддержка отдельных отраслей промышленности и топливно-энергетического комплекса","005","04",12,"340 83 00",null,{"$f":"H205+H207+H209","v":52147}]
[4123408303,"Субсидии организациям легкой и текстильной промышленности на возмещение части затрат на уплату процентов по кредитам, полученным в российских кредитных организациях в 2007-2010 годах, на осуществление сезонных закупок сырья и материалов для производства товаров народного потребления и продукции производственно-технического назначения","005","04",12,"340 83 03",null,{"$f":"H206","v":40000}]
[4123408303006,"Субсидии юридическим лицам","005","04",12,"340 83 03","006",40000]
[4123408304,"Субсидии организациям легкой и текстильной промышленности на возмещение части затрат на уплату процентов по кредитам, полученным в российских кредитных организациях в 2008-2010 годах, на осуществление технического перевооружения","005","04",12,"340 83 04",null,{"$f":"H208","v":10000}]
[4123408304006,"Субсидии юридическим лицам","005","04",12,"340 83 04","006",10000]
[4123408320,"Расходы на проведение мероприятий, общегосударственных праздников и юбилейных дат Московской области в области промышленности","005","04",12,"340 83 20",null,{"$f":"H210","v":2147}]
[4123408320013,"Прочие расходы","005","04",12,"340 83 20","013",2147]
[7,"Образование","005","07",null,null,null,{"$f":"H212","v":100}]
[707,"Молодежная политика и оздоровление детей","005","07","07",null,null,{"$f":"H213","v":100}]
[707432,"Мероприятия по проведению оздоровительной кампании детей ","005","07","07","432 00 00",null,{"$f":"H214","v":100}]
[70743202,"Оздоровление детей ","005","07","07","432 02 00",null,{"$f":"H215","v":100}]
[70743202001,"Выполнение функций бюджетными учреждениями","005","07","07","432 02 00","001",100]
[]
[0,"Министерство  сельского хозяйства и продовольствия Московской области","006",null,null,null,null,{"$f":"H218+H223+H228+H291+H296+H318+H324","v":2178172}]
[2,"Национальная оборона","006","02",null,null,null,{"$f":"H219","v":299}]
[204,"Мобилизационная подготовка экономики","006","02","04",null,null,{"$f":"H220","v":299}]
[204209,"Реализация государственных функций по мобилизационной подготовке экономики","006","02","04","209 00 00",null,{"$f":"H221","v":299}]
[20420901,"Мероприятия по обеспечению  мобилизационной готовности экономики","006","02","04","209 01 00",null,{"$f":"H222","v":299}]
[20420901012,"Выполнение функций государственными органами","006","02","04","209 01 00","012",299]
[3,"Национальная безопасность и правоохранительная деятельность","006","03",null,null,null,{"$f":"H224","v":645}]
[309,"Защита населения и территории от последствий чрезвычайных ситуаций природного и техногенного характера, гражданская оборона ","006","03","09",null,null,{"$f":"H225","v":645}]
[309219,"Мероприятия по гражданской обороне","006","03","09","219 00 00",null,{"$f":"H226","v":645}]
[30921901,"Подготовка населения и организаций к действиям в чрезвычайной ситуации в мирное и военное время","006","03","09","219 01 00",null,{"$f":"H227","v":645}]
[30921901012,"Выполнение функций государственными органами","006","03","09","219 01 00","012",645]
[4,"Национальная экономика","006","04",null,null,null,{"$f":"H229","v":1935857}]
[405,"Сельское хозяйство и рыболовство","006","04","05",null,null,{"$f":"H230+H234+H237+H242+H246+H277+H280+H283+H288","v":1935857}]
[405001,"Руководство и управление в сфере установленных функций","006","04","05","001 00 00",null,{"$f":"H231","v":7724}]
[40500151,"Осуществление полномочий по контролю, надзору, выдаче лицензий и разрешений в области охраны и использования объектов животного мира и среды их обитания","006","04","05","001 51 00",null,{"$f":"SUM(H232:H233)","v":7724}]
[40500151001,"Выполнение функций бюджетными учреждениями","006","04","05","001 51 00","001",4268]
[40500151012,"Выполнение функций государственными органами","006","04","05","001 51 00","012",{"$f":"7724-4268","v":3456}]
[405002,"Руководство и управление в сфере установленных функций органов государственной власти субъектов Российской Федерации  и органов местного самоуправления","006","04","05","002 00 00",null,{"$f":"H235","v":128333}]
[40500204,"Центральный аппарат","006","04","05","002 04 00",null,{"$f":"H236","v":128333}]
[40500204012,"Выполнение функций государственными органами","006","04","05","002 04 00","012",{"$f":"113789+14544","v":128333}]
[405100,"Федеральные целевые программы","006","04","05","100 00 00",null,{"$f":"H238+H240","v":70400}]
[40510011,"Федеральная целевая программа \"Социальное развитие села до 2010 года\"","006","04","05","100 11 00",null,{"$f":"H239","v":5300}]
[40510011013,"Прочие расходы","006","04","05","100 11 00","013",5300]
[40510060,"Федеральная целевая программа \"Сохранение и восстановление плодородия почв земель сельскохозяйственного назначения и агроландшафтов как национального достояния России на 2006 - 2010 годы\"","006","04","05","100 60 00",null,{"$f":"H241","v":65100}]
[40510060006,"Субсидии юридическим лицам","006","04","05","100 60 00","006",{"$f":"11000+54100","v":65100}]
[405102,"Бюджетные инвестиции в объекты капитального строительства, не включенные в целевые программы","006","04","05","102 00 00",null,{"$f":"H243","v":54000}]
[40510202,"Строительство объектов общегражданского назначения","006","04","05","102 02 00",null,{"$f":"H244","v":54000}]
[4051020201,"Строительство объектов социального и производственного комплексов, в том числе объектов общегражданского назначения, жилья, инфраструктуры","006","04","05","102 02 01",null,{"$f":"H245","v":54000}]
[4051020201003,"Бюджетные инвестиции","006","04","05","102 02 01","003",54000]
[405260,"Государственная поддержка сельского хозяйства","006","04","05","260 00 00",null,{"$f":"H247+H251+H249+H253+H255+H257+H259+H261+H263+H265+H267+H269+H271+H273+H275","v":612270}]
[40526001,"Субсидии на возмещение части затрат на уплату процентов сельскохозяйственным товаропроизводителям, организациям агропромышленного комплекса, независимо от их организационно-правовых форм и крестьянским (фермерским) хозяйствам, сельскохозяйственным потребительским кооперативам  по инвестиционным кредитам, полученным в российских кредитных организациях и займам, полученным в сельскохозяйственных кредитных кооперативах в 2004-2009 годах, на срок от 2 до 8 лет","006","04","05","260 01 00",null,{"$f":"H248","v":286100}]
[40526001006,"Субсидии юридическим лицам","006","04","05","260 01 00","006",286100]
[40526002,"Субсидии на возмещение части затрат на уплату процентов по кредитам, полученным в российских кредитных организациях, и займам, полученным в сельскохозяйственных кредитных потребительских кооперативах в 2005-2009 годах, личным подсобным хозяйствам, сельскохозяйственным потребительским кооперативам, крестьянским (фермерским) хозяйствам на срок от 2 до 8 лет ","006","04","05","260 02 00",null,{"$f":"H250","v":4000}]
[40526002006,"Субсидии юридическим лицам","006","04","05","260 02 00","006",4000]
[40526004,"Мероприятия в области сельскохозяйственного производства","006","04","05","260 04 00",null,{"$f":"H252","v":16800}]
[40526004006,"Субсидии юридическим лицам","006","04","05","260 04 00","006",16800]
[40526007,"Субсидии на поддержку элитного семеноводства","006","04","05","260 07 00",null,{"$f":"H254","v":9900}]
[40526007006,"Субсидии юридическим лицам","006","04","05","260 07 00","006",9900]
[40526010,"Субсидии на закладку и уход за многолетними насаждениями","006","04","05","260 10 00",null,{"$f":"H256","v":1690}]
[40526010006,"Субсидии юридическим лицам","006","04","05","260 10 00","006",1690]
[40526011,"Субсидии на компенсацию части затрат по страхованию урожая сельскохозяйственных культур, урожая многолетних насаждений и посадок многолетних насаждений","006","04","05","260 11 00",null,{"$f":"H258","v":800}]
[40526011006,"Субсидии юридическим лицам","006","04","05","260 11 00","006",800]
[40526013,"Субсидии на поддержку племенного животноводства","006","04","05","260 13 00",null,{"$f":"H260","v":77000}]
[40526013006,"Субсидии юридическим лицам","006","04","05","260 13 00","006",77000]
[40526014,"Субсидии на возмещение части затрат на уплату процентов по кредитам, полученным в российских кредитных организациях, и займам, полученным в сельскохозяйственных кредитных потребительских кооперативах в 2007-2009 годах на срок до одного года,  сельскохозяйственным товаропроизводителям, организациям агропромышленного комплекса,  независимо от их организационно- правовых форм, крестьянским (фермерским) хозяйствам и организациям потребительской кооперации","006","04","05","260 14 00",null,{"$f":"H262","v":10000}]
[40526014006,"Субсидии юридическим лицам","006","04","05","260 14 00","006",10000]
[40526015,"Субсиди на возмещение части затрат на уплату процентов организациям, осуществляющим промышленное рыбоводство, независимо от их организационно- правовых форм: по инвестиционным кредитам, полученным в российских кредитных организациях в 2007-2009 годах - на приобретение племенного материала рыб, техники и оборудования для  промышленного рыбоводства- на срок до пяти лет; на строительство, реконструкцию и модернизацию комплексов (ферм) по осуществлению промышленного рыбоводства – на срок до восьми лет","006","04","05","260 15 00",null,{"$f":"H264","v":12000}]
[40526015006,"Субсидии юридическим лицам","006","04","05","260 15 00","006",12000]
[40526030,"Субсидии на поддержку животноводства","006","04","05","260 30 00",null,{"$f":"H266","v":160000}]
[40526030006,"Субсидии юридическим лицам","006","04","05","260 30 00","006",160000]
[40526031,"Компенсация части затрат на приобретение средств химизации","006","04","05","260 31 00",null,{"$f":"H268","v":0}]
[40526031006,"Субсидии юридическим лицам","006","04","05","260 31 00","006",{"$f":"54100-54100","v":0}]
[40526032,"Субсидирование части затрат на приобретение дизельного топлива, использованного на проведение сезонных сельскохозяйственных работ","006","04","05","260 32 00",null,{"$f":"H270","v":0}]
[40526032006,"Субсидии юридическим лицам","006","04","05","260 32 00","006",{"$f":"16300-16300","v":0}]
[40526040,"Компенсация части затрат по агрохимической мелиорации и агрохимическому обследованию почв","006","04","05","260 40 00",null,{"$f":"H272","v":26480}]
[40526040006,"Субсидии юридическим лицам","006","04","05","260 40 00","006",26480]
[40526041,"Компенсация части затрат на приобретение ветеринарных препаратов и дезинфицирующих средств для проведения противоэпизоотических мероприятий","006","04","05","260 41 00",null,{"$f":"H274","v":0}]
[40526041006,"Субсидии юридическим лицам","006","04","05","260 41 00","006",{"$f":"16800-16800","v":0}]
[40526045,"Другие расходы на государственную поддержку сельского хозяйства","006","04","05","260 45 00",null,{"$f":"H276","v":7500}]
[40526045013,"Прочие расходы","006","04","05","260 45 00","013",7500]
[405261,"Учреждения, обеспечивающие предоставление услуг в области сельского хозяйства, охраны и использования объектов животного мира","006","04","05","261 00 00",null,{"$f":"H278","v":1044505}]
[40526199,"Обеспечение деятельности подведомственных учреждений","006","04","05","261 00 00",null,{"$f":"H279","v":1044505}]
[40526199001,"Выполнение функций бюджетными учреждениями","006","04","05","261 00 00","001",1044505]
[405263,"Учреждения, обеспечивающие предоставление услуг в области животноводства","006","04","05","263 00 00",null,{"$f":"H281","v":0}]
[40526399,"Обеспечение деятельности подведомственных учреждений","006","04","05","263 99 00",null,{"$f":"H282","v":0}]
[40526399001,"Выполнение функций бюджетными учреждениями","006","04","05","263 99 00","001",{"$f":"1044505-1044505","v":0}]
[405264,"Охрана и использование объектов животного мира","006","04","05","264 00 00",null,{"$f":"H284+H286","v":18625}]
[40526401,"Охрана и использование объектов животного мира, отнесенных к объектам охоты","006","04","05","264 01 00",null,{"$f":"H285","v":669}]
[40526401013,"Прочие расходы","006","04","05","264 01 00","013",669]
[40526499,"Обеспечение деятельности подведомственных учреждений","006","04","05","264 99 00",null,{"$f":"H287","v":17956}]
[40526499001,"Выполнение функций бюджетными учреждениями","006","04","05","264 99 00","001",17956]
[405267,"Государственная программа развития сельского хозяйства","006","04","05","267 00 00",null,{"$f":"H289","v":0}]
[40526701,"Государственная программа развития сельского хозяйства","006","04","05","267 01 00",null,{"$f":"H290","v":0}]
[40526701013,"Прочие расходы","006","04","05","267 01 00","013",{"$f":"5300-5300","v":0}]
[6,"Охрана окружающей среды","006","06",null,null,null,{"$f":"H292","v":0}]
[603,"Охрана объектов растительного и животного мира и среды их обитания","006","06","03",null,null,{"$f":"H293","v":0}]
[603264,"Охрана и использование объектов животного мира","006","06","03","264 00 00",null,{"$f":"H294","v":0}]
[60326401,"Охрана и использование объектов животного мира, отнесенных к объектам охоты","006","06","03","264 01 00",null,{"$f":"H295","v":0}]
[60326401009,"Фонд компенсаций","006","06","03","264 01 00","009",{"$f":"669-669","v":0}]
[7,"Образование","006","07",null,null,null,{"$f":"H297+H314","v":55371}]
[704,"Среднее профессиональное образование","006","07","04",null,null,{"$f":"H298","v":55371}]
[704427,"Средние специальные учебные заведения","006","07","04","427 00 00",null,{"$f":"H299","v":55371}]
[70442799,"Обеспечение деятельности подведомственных учреждений","006","07","04","427 99 00",null,{"$f":"H300+H302+H304+H306+H308+H310+H312","v":55371}]
[7044279901,"Выплаты стипендий и прочие расходы стипендиального фонда в средних специальных учебных заведениях","006","07","04","427 99 01",null,{"$f":"H301","v":3275}]
[7044279901001,"Выполнение функций бюджетными учреждениями","006","07","04","427 99 01","001",3275]
[7044279902,"Обеспечение питанием учащихся средних специальных учебных заведений","006","07","04","427 99 02",null,{"$f":"H303","v":544}]
[7044279902001,"Выполнение функций бюджетными учреждениями","006","07","04","427 99 02","001",544]
[7044279904,"Единовременное денежное пособие детям-сиротам - выпускникам областных образовательных учрежедний*","006","07","04","427 99 04",null,{"$f":"H305","v":240}]
[7044279904001,"Выполнение функций бюджетными учреждениями","006","07","04","427 99 04","001",240]
[7044279907,"Бесплатный проезд детей-сирот и детей, оставшихся без попечения родителей, обучающихся в государственных образовательных учреждениях Московской области*","006","07","04","427 99 07",null,{"$f":"H307","v":43}]
[7044279907001,"Выполнение функций бюджетными учреждениями","006","07","04","427 99 07","001",43]
[7044279908,"Ежемесячные стипендии Губернатора Московской области детям-сиротам, обучающимся в образовательных учреждениях среднего профессионального образования*","006","07","04","427 99 08",null,{"$f":"H309","v":864}]
[7044279908001,"Выполнение функций бюджетными учреждениями","006","07","04","427 99 08","001",864]
[7044279912,"Частичная компенсация стоимости питания  обучающихся в средних специальных учебных заведений*","006","07","04","427 99 12",null,{"$f":"H311","v":516}]
[7044279912001,"Выполнение функций бюджетными учреждениями","006","07","04","427 99 12","001",516]
[7044279999,"Другие расходы на содержание средних специальных учебных заведений","006","07","04","427 99 99",null,{"$f":"H313","v":49889}]
[7044279999001,"Выполнение функций бюджетными учреждениями","006","07","04","427 99 99","001",49889]
[707,"Молодежная политика и оздоровление детей","006","07","07",null,null,{"$f":"H315","v":0}]
[707432,"Мероприятия по проведению оздоровительной кампании детей ","006","07","07","432 00 00",null,{"$f":"H316","v":0}]
[70743202,"Оздоровление детей ","006","07","07","432 02 00",null,{"$f":"H317","v":0}]
[70743202001,"Выполнение функций бюджетными учреждениями","006","07","07","432 02 00","001"]
[10,"Социальная политика","006","10",null,null,null,{"$f":"H319","v":120000}]
[1003,"Социальное обеспечение населения","006",10,"03",null,null,{"$f":"H320","v":120000}]
[1003100,"Федеральные целевые программы","006",10,"03","100 00 00",null,{"$f":"H321","v":120000}]
[100310011,"Федеральная целевая программа \"Социальное развитие села до 2010 года\"","006",10,"03","100 11 00",null,{"$f":"H322+H323","v":120000}]
[100310011021,"Субсидии на обеспечение жильем молодых семей и молодых специалистов, проживающих и работающих в сельской местности","006",10,"03","100 11 00","021",80000]
[100310011099,"Субсидии на обеспечение жильем граждан Российской Федерации, проживающих в сельской местности","006",10,"03","100 11 00","099",40000]
[11,"Межбюджетные трансферты","006",11,null,null,null,{"$f":"H325","v":66000}]
[1102,"Субсидии бюджетам субъектов Российской Федерации и муниципальных образований (межбюджетные субсидии)","006",11,"02",null,null,{"$f":"H326","v":66000}]
[1102100,"Федеральные целевые программы","006",11,"02","100 00 00",null,{"$f":"H327","v":66000}]
[110210011,"Федеральная целевая программа \"Социальное развитие села до 2010 года\"","006",11,"02","100 11 00",null,{"$f":"H328","v":66000}]
[110210011020,"Софинансирование объектов капитального строительства государственной собственности субъектов Российской Федерации  (объектов капитального строительства собственности муниципальных образований)","006",11,"02","100 11 00","020",66000]
[]
[0,"Министерство строительного комплекса Московской области","007",null,null,null,null,{"$f":"H331+H340+H345+H350+H366+H383+H425+H444+H452","v":10241117}]
[1,"Общегосударственные вопросы","007","01",null,null,null,{"$f":"H332","v":720230}]
[114,"Другие общегосударственные вопросы","007","01",14,null,null,{"$f":"H333+H336","v":720230}]
[114001,"Руководство и управление в сфере установленных функций","007","01",14,"001 00 00",null,{"$f":"H334","v":230}]
[11400166,"Подготовка и проведение Праздника труда в Московской области","007","01",14,"001 66 00",null,{"$f":"H335","v":230}]
[11400166013,"Прочие расходы","007","01",14,"001 66 00","013",230]
[114102,"Бюджетные инвестиции в объекты капитального строительства, не включенные в целевые программы","007","01",14,"102 00 00",null,{"$f":"H337","v":720000}]
[11410201,"Бюджетные инвестиции в объекты капитального строительства государственной собственности субъектов Российской Федерации (объекты капитального строительства собственности муниципальных образований)","007","01",14,"102 01 00",null,{"$f":"H338","v":720000}]
[1141020101,"Бюджетные инвестиции в объекты капитального строительства государственной собственности субъектов Российской Федерации ","007","01",14,"102 01 01",null,{"$f":"H339","v":720000}]
[1141020101003,"Бюджетные инвестиции","007","01",14,"102 01 01","003",720000]
[2,"Национальная оборона","007","02",null,null,null,{"$f":"H341","v":1565}]
[204,"Мобилизационная подготовка экономики","007","02","04",null,null,{"$f":"H342","v":1565}]
[204209,"Реализация государственных функций по мобилизационной подготовке экономики","007","02","04","209 00 00",null,{"$f":"H343","v":1565}]
[20420901,"Мероприятия по обеспечению  мобилизационной готовности экономики","007","02","04","209 01 00",null,{"$f":"H344","v":1565}]
[20420901012,"Выполнение функций государственными органами","007","02","04","209 01 00","012",1565]
[3,"Национальная безопасность и правоохранительная деятельность","007","03",null,null,null,{"$f":"H346","v":93}]
[309,"Защита населения и территории от последствий чрезвычайных ситуаций природного и техногенного характера, гражданская оборона ","007","03","09",null,null,{"$f":"H347","v":93}]
[309219,"Мероприятия по гражданской обороне","007","03","09","219 00 00",null,{"$f":"H348","v":93}]
[30921901,"Подготовка населения и организаций к действиям в чрезвычайной ситуации в мирное и военное время","007","03","09","219 01 00",null,{"$f":"H349","v":93}]
[30921901012,"Выполнение функций государственными органами","007","03","09","219 01 00","012",93]
[4,"Национальная экономика","007","04",null,null,null,{"$f":"H351+H356","v":2682745}]
[401,"Общеэкономические вопросы","007","04","01",null,null,{"$f":"H352","v":294515}]
[401002,"Руководство и управление в сфере установленных функций органов государственной власти субъектов Российской Федерации  и органов местного самоуправления","007","04","01","002 00 00",null,{"$f":"H353","v":294515}]
[40100204,"Центральный аппарат","007","04","01","002 04 00",null,{"$f":"SUM(H354:H355)","v":294515}]
[40100204012,"Выполнение функций государственными органами","007","04","01","002 04 00","012",293955]
[40100204902,"Проведение мероприятий по защите информации, обеспечению безопасности информационных систем и баз данных, содержащих конфиденциальную информацию, в том числе персональные данные населения Московской области","007","04","01","002 04 00",902,560]
[412,"Другие вопросы в области национальной экономики","007","04",12,null,null,{"$f":"H357+H363","v":2388230}]
[412340,"Реализация государственных функций в области национальной экономики","007","04",12,"340 00 00",null,{"$f":"H358+H361","v":2294230}]
[41234004,"Мероприятия в области гражданской промышленности","007","04",12,"340 04 00",null,{"$f":"SUM(H359:H360)","v":1300133}]
[41234004006,"Субсидии юридическим лицам","007","04",12,"340 04 00","006",305903]
[41234004013,"Прочие расходы","007","04",12,"340 04 00","013",994230]
[41234010,"Субсидии юридическим лицам на компенсацию (оплату) процентов и иных платежей по привлеченным кредитам (займам)","007","04",12,"340 10 00",null,{"$f":"H362","v":994097}]
[41234010006,"Субсидии юридическим лицам","007","04",12,"340 10 00","006",994097]
[412522,"Региональные целевые программы","007","04",12,"522 00 00",null,{"$f":"H364","v":94000}]
[41252203,"Областная целевая программа \"Разработка Генерального плана развития Московской области на период до 2020 года\"","007","04",12,"522 03 00",null,{"$f":"H365","v":94000}]
[41252203012,"Выполнение функций государственными органами","007","04",12,"522 03 00","012",94000]
[5,"Жилищно-коммунальное хозяйство","007","05",null,null,null,{"$f":"H372","v":283200}]
[501,"Жилищное хозяйство","007","05","01",null,null,{"$f":"H368","v":0}]
[501522,"Региональные целевые программы","007","05","01","522 00 00",null,{"$f":"H369","v":0}]
[50152202,"Областная целевая программа \"Жилище\" на 2006-2010 годы","007","05","01","522 02 00",null,{"$f":"H370","v":0}]
[5015220202,"Подпрограмма \"Переселение граждан из ветхого и аварийного жилищного фонда\"","007","05","01","522 02 02",null,{"$f":"H371","v":0}]
[5015220202006,"Субсидии юридическим лицам","007","05","01","522 02 02","006"]
[502,"Коммунальное хозяйство","007","05","02",null,null,{"$f":"H373+H377","v":283200}]
[502102,"Бюджетные инвестиции в объекты капитального строительства, не включенные в целевые программы","007","05","02","102 00 00",null,{"$f":"H374","v":108000}]
[50210201,"Бюджетные инвестиции в объекты капитального строительства государственной собственности субъектов Российской Федерации (объекты капитального строительства собственности муниципальных образований)","007","05","02","102 01 00",null,{"$f":"H375","v":108000}]
[5021020101,"Бюджетные инвестиции в объекты капитального строительства государственной собственности субъектов Российской Федерации ","007","05","02","102 01 01",null,{"$f":"H376","v":108000}]
[5021020101003,"Бюджетные инвестиции","007","05","02","102 01 01","003",108000]
[502522,"Региональные целевые программы","007","05","02","522 00 00",null,{"$f":"H378","v":175200}]
[50252202,"Областная целевая программа \"Жилище\" на 2006-2010 годы","007","05","02","522 02 00",null,{"$f":"H379+H381","v":175200}]
[5025220201,"Подпрограмма \"Модернизация объектов коммунальной инфраструктуры\"","007","05","02","522 02 01",null,{"$f":"H380","v":115300}]
[5025220201003,"Бюджетные инвестиции","007","05","02","522 02 01","003",115300]
[5025220203,"Подпрограмма \"Обеспечение земельных участков коммунальной инфраструктурой в целях жилищного строительства\"","007","05","02","522 02 03",null,{"$f":"H382","v":59900}]
[5025220203006,"Субсидии юридическим лицам","007","05","02","522 02 03","006",59900]
[7,"Образование","007","07",null,null,null,{"$f":"H384+H389+H411+H416+H421","v":783113}]
[702,"Общее образование","007","07","02",null,null,{"$f":"H385","v":16320}]
[702102,"Бюджетные инвестиции в объекты капитального строительства, не включенные в целевые программы","007","07","02","102 00 00",null,{"$f":"H386","v":16320}]
[70210201,"Бюджетные инвестиции в объекты капитального строительства государственной собственности субъектов Российской Федерации (объекты капитального строительства собственности муниципальных образований)","007","07","02","102 01 00",null,{"$f":"H387","v":16320}]
[7021020101,"Бюджетные инвестиции в объекты капитального строительства государственной собственности субъектов Российской Федерации ","007","07","02","102 01 01",null,{"$f":"H388","v":16320}]
[7021020101003,"Бюджетные инвестиции","007","07","02","102 01 01","003",16320]
[704,"Среднее профессиональное образование","007","07","04",null,null,{"$f":"H390+H394","v":251895}]
[704102,"Бюджетные инвестиции в объекты капитального строительства, не включенные в целевые программы","007","07","04","102 00 00",null,{"$f":"H391","v":30220}]
[70410201,"Бюджетные инвестиции в объекты капитального строительства государственной собственности субъектов Российской Федерации (объекты капитального строительства собственности муниципальных образований)","007","07","04","102 01 00",null,{"$f":"H392","v":30220}]
[7041020101,"Бюджетные инвестиции в объекты капитального строительства государственной собственности субъектов Российской Федерации ","007","07","04","102 01 01",null,{"$f":"H393","v":30220}]
[7041020101003,"Бюджетные инвестиции","007","07","04","102 01 01","003",30220]
[704427,"Средние специальные учебные заведения","007","07","04","427 00 00",null,{"$f":"H395","v":221675}]
[70442799,"Обеспечение деятельности подведомственных учреждений","007","07","04","427 99 00",null,{"$f":"H396+H398+H400+H402+H404+H406+H408+H410","v":221675}]
[7044279901,"Выплаты стипендий и прочие расходы стипендиального фонда в средних специальных учебных заведениях","007","07","04","427 99 01",null,{"$f":"H397","v":13607}]
[7044279901001,"Выполнение функций бюджетными учреждениями","007","07","04","427 99 01","001",13607]
[7044279902,"Обеспечение питанием учащихся средних специальных учебных заведений","007","07","04","427 99 02",null,{"$f":"H399","v":952}]
[7044279902001,"Выполнение функций бюджетными учреждениями","007","07","04","427 99 02","001",952]
[7044279904,"Единовременное денежное пособие детям-сиротам - выпускникам областных образовательных учрежедний*","007","07","04","427 99 04",null,{"$f":"H401","v":420}]
[7044279904001,"Выполнение функций бюджетными учреждениями","007","07","04","427 99 04","001",420]
[7044279907,"Бесплатный проезд детей-сирот и детей, оставшихся без попечения родителей, обучающихся в государственных образовательных учреждениях Московской области*","007","07","04","427 99 07",null,{"$f":"H403","v":76}]
[7044279907001,"Выполнение функций бюджетными учреждениями","007","07","04","427 99 07","001",76]
[7044279908,"Ежемесячные стипендии Губернатора Московской области детям-сиротам, обучающимся в образовательных учреждениях среднего профессионального образования*","007","07","04","427 99 08",null,{"$f":"H405","v":1512}]
[7044279908001,"Выполнение функций бюджетными учреждениями","007","07","04","427 99 08","001",1512]
[7044279912,"Частичная компенсация стоимости питания  обучающихся в средних специальных учебных заведений*","007","07","04","427 99 12",null,{"$f":"H407","v":2267}]
[7044279912001,"Выполнение функций бюджетными учреждениями","007","07","04","427 99 12","001",2267]
[7044279999,"Другие расходы на содержание средних специальных учебных заведений","007","07","04","427 99 99",null,{"$f":"H409","v":198843}]
[7044279999001,"Выполнение функций бюджетными учреждениями","007","07","04","427 99 99","001",{"$f":"189343+9500","v":198843}]
[70442799910,"Финансирование расходов, осуществляемое за счет средств, поступающих от сдачи в аренду имущества, закрепленного за государственными организациями","007","07","04","427 99 00",910,3998]
[705,"Профессиональная подготовка, переподготовка и повышение квалификации","007","07","05",null,null,{"$f":"H412","v":7119}]
[705429,"Учебные заведения и курсы по переподготовке кадров","007","07","05","429 00 00",null,{"$f":"H413","v":7119}]
[70542999,"Обеспечение деятельности подведомственных учреждений","007","07","05","429 99 00",null,{"$f":"H414","v":7119}]
[7054299999,"Другие расходы на содержание учебных заведений и курсов по переподготовке, повышению кадров","007","07","05","429 99 99",null,{"$f":"H415","v":7119}]
[7054299999001,"Выполнение функций бюджетными учреждениями","007","07","05","429 99 99","001",7119]
[706,"Высшее и послевузовское профессиональное образование","007","07","06",null,null,{"$f":"H417","v":507500}]
[706102,"Бюджетные инвестиции в объекты капитального строительства, не включенные в целевые программы","007","07","06","102 00 00",null,{"$f":"H418","v":507500}]
[70610201,"Бюджетные инвестиции в объекты капитального строительства государственной собственности субъектов Российской Федерации (объекты капитального строительства собственности муниципальных образований)","007","07","06","102 01 00",null,{"$f":"H419","v":507500}]
[7061020101,"Бюджетные инвестиции в объекты капитального строительства государственной собственности субъектов Российской Федерации ","007","07","06","102 01 01",null,{"$f":"H420","v":507500}]
[7061020101003,"Бюджетные инвестиции","007","07","06","102 01 01","003",507500]
[707,"Молодежная политика и оздоровление детей","007","07","07",null,null,{"$f":"H422","v":279}]
[707432,"Мероприятия по проведению оздоровительной кампании детей ","007","07","07","432 00 00",null,{"$f":"H423","v":279}]
[70743202,"Оздоровление детей ","007","07","07","432 02 00",null,{"$f":"H424","v":279}]
[70743202001,"Выполнение функций бюджетными учреждениями","007","07","07","432 02 00","001",279]
[9,"Здравоохранение, физическая культура и спорт","007","09",null,null,null,{"$f":"H426+H431+H436","v":1235590}]
[901,"Стационарная медицинская помощь","007","09","01",null,null,{"$f":"H427","v":820590}]
[901102,"Бюджетные инвестиции в объекты капитального строительства, не включенные в целевые программы","007","09","01","102 00 00",null,{"$f":"H428","v":820590}]
[90110201,"Бюджетные инвестиции в объекты капитального строительства государственной собственности субъектов Российской Федерации (объекты капитального строительства собственности муниципальных образований)","007","09","01","102 01 00",null,{"$f":"H429","v":820590}]
[9011020101,"Бюджетные инвестиции в объекты капитального строительства государственной собственности субъектов Российской Федерации ","007","09","01","102 01 01",null,{"$f":"H430","v":820590}]
[9011020101003,"Бюджетные инвестиции","007","09","01","102 01 01","003",820590]
[908,"Физическая культура и спорт","007","09","08",null,null,{"$f":"H432","v":370000}]
[908102,"Бюджетные инвестиции в объекты капитального строительства, не включенные в целевые программы","007","09","08","102 00 00",null,{"$f":"H433","v":370000}]
[90810201,"Бюджетные инвестиции в объекты капитального строительства государственной собственности субъектов Российской Федерации (объекты капитального строительства собственности муниципальных образований)","007","09","08","102 01 00",null,{"$f":"H434","v":370000}]
[9081020101,"Бюджетные инвестиции в объекты капитального строительства государственной собственности субъектов Российской Федерации ","007","09","08","102 01 01",null,{"$f":"H435","v":370000}]
[9081020101003,"Бюджетные инвестиции","007","09","08","102 01 01","003",370000]
[910,"Другие вопросы в области здравоохранения, физической культуры и спорта","007","09",10,null,null,{"$f":"H437+H441","v":45000}]
[910102,"Бюджетные инвестиции в объекты капитального строительства, не включенные в целевые программы","007","09",10,"102 00 00",null,{"$f":"H438","v":45000}]
[91010201,"Бюджетные инвестиции в объекты капитального строительства государственной собственности субъектов Российской Федерации (объекты капитального строительства собственности муниципальных образований)","007","09",10,"102 01 00",null,{"$f":"H439","v":45000}]
[9101020101,"Бюджетные инвестиции в объекты капитального строительства государственной собственности субъектов Российской Федерации ","007","09",10,"102 01 01",null,{"$f":"H440","v":45000}]
[9101020101003,"Бюджетные инвестиции","007","09",10,"102 01 01","003",45000]
[910485,"Реализация государственных функций  в области здравоохранения, спорта и туризма","007","09",10,"485 00 00",null,{"$f":"H442","v":0}]
[91048597,"Мероприятия в области здравоохранения, спорта и физической культуры, туризма","007","09",10,"485 97 00",null,{"$f":"H443","v":0}]
[91048597006,"Субсидии юридическим лицам","007","09",10,"485 97 00","006",{"$f":"58095-58095","v":0}]
[10,"Социальная политика","007","10",null,null,null,{"$f":"H445+H446+H449","v":0}]
[1003,"Социальное обеспечение населения","007",10,"03"]
[1004,"Борьба с беспризорностью, опека, попечительство","007","10","04",null,null,{"$f":"H447","v":0}]
[1004102,"Непрограммные инвестиции в основные фонды","007","10","04","102 00 00",null,{"$f":"H448","v":0}]
[1004102214,"Строительство объектов общегражданского назначения","007","10","04","102 00 00",214]
[1006,"Другие вопросы в области социальной политики","007","10","06",null,null,{"$f":"H450","v":0}]
[1006102,"Непрограммные инвестиции в основные фонды","007","10","06","102 00 00",null,{"$f":"H451","v":0}]
[1006102214,"Строительство объектов общегражданского назначения","007","10","06","102 00 00",214]
[11,"Межбюджетные трансферты","007",11,null,null,null,{"$f":"H453+H461","v":4534581}]
[1102,"Субсидии бюджетам субъектов Российской Федерации и муниципальных образований (межбюджетные субсидии)","007",11,"02",null,null,{"$f":"H454+H458","v":4375200}]
[1102102,"Бюджетные инвестиции в объекты капитального строительства, не включенные в целевые программы","007",11,"02","102 00 00",null,{"$f":"H455","v":4000000}]
[110210201,"Бюджетные инвестиции в объекты капитального строительства государственной собственности субъектов Российской Федерации (объекты капитального строительства собственности муниципальных образований)","007",11,"02","102 01 00",null,{"$f":"H456","v":4000000}]
[11021020102,"Бюджетные инвестиции в объекты капитального строительства собственности муниципальных образований ","007",11,"02","102 01 02",null,{"$f":"H457","v":4000000}]
[11021020102903,"Бюджетные инвестиции в объекты капитального строительства собственности муниципальных образований, софинансирование которых осуществляется за счет средств федерального бюджета","007",11,"02","102 01 02",903,4000000]
[1102104,"Федеральная целевая программа \"Жилище\" на 2002 - 2010 годы (второй этап)","007",11,"02","104 00 00",null,{"$f":"H459","v":375200}]
[110210403,"Подпрограмма \"Модернизация объектов коммунальной инфраструктуры\"","007",11,"02","104 03 00",null,{"$f":"H460","v":375200}]
[110210403003,"Бюджетные инвестиции","007",11,"02","104 03 00","003",375200]
[1103,"Субвенции бюджетам субъектов Российской Федерации и муниципальных образований","007",11,"03",null,null,{"$f":"H462","v":159381}]
[1103521,"Межбюджетные трансферты","007",11,"03","521 00 00",null,{"$f":"H463+H466","v":159381}]
[110352102,"Иные субвенции местным бюджетам для финансового обеспечения расходных обязательств по переданным для осуществления государственным полномочиям","007",11,"03","521 02 00",null,{"$f":"H464","v":159381}]
[11035210203,"Субвенции, предоставляемые из бюджета Московской области бюджетам муниципальных образований Московской области на оказание мер государственной поддержки отдельным категориям работников бюджетной сферы Московской области по обеспечению жильем в рамках льготного (социального) ипотечного кредитования ","007",11,"03","521 02 03",null,{"$f":"H465","v":159381}]
[11035210203009,"Фонд компенсаций","007",11,"03","521 02 03","009",159381]
[]
[0,"Министерство финансов Московской области","008",null,null,null,null,{"$f":"H468+H495+H500+H505+H514+H532","v":66650100}]
[1,"Общегосударственные вопросы","008","01",null,null,null,{"$f":"H469+H475+H479+H483","v":12363707}]
[106,"Обеспечение деятельности финансовых, налоговых и таможенных органов и органов финансового (финансово-бюджетного) надзора","008","01","06",null,null,{"$f":"H470","v":2203799}]
[106002,"Руководство и управление в сфере установленных функций органов государственной власти субъектов Российской Федерации  и органов местного самоуправления","008","01","06","002 00 00",null,{"$f":"H471","v":2203799}]
[10600204,"Центральный аппарат","008","01","06","002 04 00",null,{"$f":"SUM(H472:H474)","v":2203799}]
[10600204012,"Выполнение функций государственными органами","008","01","06","002 04 00","012",{"$f":"2054749+141000","v":2195749}]
[10600204013,"Прочие расходы","008","01","06","002 04 00","013",3000]
[10600204902,"Проведение мероприятий по защите информации, обеспечению безопасности информационных систем и баз данных, содержащих конфиденциальную информацию, в том числе персональные данные населения Московской области","008","01","06","002 04 00",902,5050]
[111,"Обслуживание государственного и муниципального долга","008","01",11,null,null,{"$f":"H476","v":8537000}]
[111065,"Процентные платежи по долговым обязательствам","008","01",11,"065 00 00",null,{"$f":"H477","v":8537000}]
[11106502,"Процентные платежи по государственному долгу субъекта Российской Федерации ","008","01",11,"065 02 00",null,{"$f":"H478","v":8537000}]
[11106502013,"Прочие расходы","008","01",11,"065 02 00","013",8537000]
[112,"Резервные фонды","008","01",12,null,null,{"$f":"H480","v":1555107}]
[112070,"Резервные фонды","008","01",12,"070 00 00",null,{"$f":"H481","v":1555107}]
[11207004,"Резервные фонды исполнительных органов государственной власти субъектов Российской Федерации","008","01",12,"070 04 00",null,{"$f":"H482","v":1555107}]
[11207004013,"Прочие расходы","008","01",12,"070 04 00","013",{"$f":"1500000+55107","v":1555107}]
[114,"Другие общегосударственные вопросы","008","01",14,null,null,{"$f":"H484+H487+H490+H493","v":67801}]
[114001,"Руководство и управление в сфере установленных функций","008","01",14,"001 00 00",null,{"$f":"H485","v":801}]
[11400164,"Взносы Московской области в общественные организации, фонды, ассоциации","008","01",14,"001 64 00",null,{"$f":"H486","v":801}]
[11400164013,"Прочие расходы","008","01",14,"001 64 00","013",801]
[114090,"Реализация государственной политики в области приватизации и управления государственной и муниципальной собственностью","008","01",14,"090 00 00",null,{"$f":"H488","v":55000}]
[11409003,"Расходы, связанные с управлением государственной собственностью","008","01",14,"090 03 00",null,{"$f":"H489","v":55000}]
[11409003012,"Выполнение функций государственными органами","008","01",14,"090 03 00","012",55000]
[114092,"Реализация государственных функций, связанных с общегосударственным управлением","008","01",14,"092 00 00",null,{"$f":"H491","v":2000}]
[11409203,"Выполнение других обязательств государства","008","01",14,"092 03 00",null,{"$f":"H492","v":2000}]
[11409203012,"Выполнение функций государственными органами","008","01",14,"092 03 00","012",2000]
[114806,"Прочие расходы, не отнесенные к другим целевым статьям","008","01",14,"806 00 00",null,{"$f":"H494","v":10000}]
[114806013,"Прочие расходы","008","01",14,"806 00 00","013",10000]
[2,"Национальная оборона","008","02",null,null,null,{"$f":"H496","v":60}]
[204,"Мобилизационная подготовка экономики","008","02","04",null,null,{"$f":"H497","v":60}]
[204209,"Реализация государственных функций по мобилизационной подготовке экономики","008","02","04","209 00 00",null,{"$f":"H498","v":60}]
[20420901,"Мероприятия по обеспечению  мобилизационной готовности экономики","008","02","04","209 01 00",null,{"$f":"H499","v":60}]
[20420901012,"Выполнение функций государственными органами","008","02","04","209 01 00","012",60]
[3,"Национальная безопасность и правоохранительная деятельность","008","03",null,null,null,{"$f":"H501","v":500}]
[309,"Защита населения и территории от последствий чрезвычайных ситуаций природного и техногенного характера, гражданская оборона ","008","03","09",null,null,{"$f":"H502","v":500}]
[309219,"Мероприятия по гражданской обороне","008","03","09","219 00 00",null,{"$f":"H503","v":500}]
[30921901,"Подготовка населения и организаций к действиям в чрезвычайной ситуации в мирное и военное время","008","03","09","219 01 00",null,{"$f":"H504","v":500}]
[30921901012,"Выполнение функций государственными органами","008","03","09","219 01 00","012",500]
[4,"Национальная экономика","008","04",null,null,null,{"$f":"H506+H507+H511","v":899084}]
[405,"Сельское хозяйство и рыболовство","008","04","05"]
[410,"Связь и информатика","008","04","10",null,null,{"$f":"H508","v":99084}]
[410330,"Информационные технологии и связь","008","04","10","330 00 00",null,{"$f":"H509","v":99084}]
[41033082,"Информатика","008","04","10","330 82 00",null,{"$f":"H510","v":99084}]
[41033082012,"Выполнение функций государственными органами","008","04","10","330 82 00","012",99084]
[412,"Другие вопросы в области национальной экономики","008","04",12,null,null,{"$f":"H512","v":800000}]
[412806,"Прочие расходы, не отнесенные к другим целевым статьям","008","04",12,"806 00 00",null,{"$f":"H513","v":800000}]
[412806013,"Прочие расходы","008","04",12,"806 00 00","013",{"$f":"800000","v":800000}]
[7,"Образование","008","07",null,null,null,{"$f":"H515+H528","v":252364}]
[706,"Высшее и послевузовское профессиональное образование","008","07","06",null,null,{"$f":"H516","v":250874}]
[706430,"Высшие учебные заведения","008","07","06","430 00 00",null,{"$f":"H517","v":250874}]
[70643099,"Обеспечение деятельности подведомственных учреждений","008","07","06","430 99 00",null,{"$f":"H518+H520+H522+H524+H526","v":250874}]
[7064309901,"Выплаты стипендий и прочие расходы стипендиального фонда в высших учебных заведениях","008","07","06","430 99 01",null,{"$f":"H519","v":11792}]
[7064309901001,"Выполнение функций бюджетными учреждениями","008","07","06","430 99 01","001",11792]
[7064309902,"Обеспечение питанием учащихся высших учебных заведений","008","07","06","430 99 02",null,{"$f":"H521","v":301}]
[7064309902001,"Выполнение функций бюджетными учреждениями","008","07","06","430 99 02","001",301]
[7064309907,"Бесплатный проезд детей-сирот и детей, оставшихся без попечения родителей, обучающихся в государственных образовательных учреждениях Московской области*","008","07","06","430 99 07",null,{"$f":"H523","v":33}]
[7064309907001,"Выполнение функций бюджетными учреждениями","008","07","06","430 99 07","001",33]
[7064309912,"Частичная компенсация стоимости питания  обучающихся в высших учебных заведений*","008","07","06","430 99 12",null,{"$f":"H525","v":1063}]
[7064309912001,"Выполнение функций бюджетными учреждениями","008","07","06","430 99 12","001",1063]
[7064309999,"Другие расходы на содержание высших учебных заведений","008","07","06","430 99 99",null,{"$f":"H527","v":237685}]
[7064309999001,"Выполнение функций бюджетными учреждениями","008","07","06","430 99 99","001",237685]
[707,"Молодежная политика и оздоровление детей","008","07","07",null,null,{"$f":"H529","v":1490}]
[707432,"Мероприятия по проведению оздоровительной кампании детей ","008","07","07","432 00 00",null,{"$f":"H530","v":1490}]
[70743202,"Оздоровление детей ","008","07","07","432 02 00",null,{"$f":"H531","v":1490}]
[70743202001,"Выполнение функций бюджетными учреждениями","008","07","07","432 02 00","001",1490]
[11,"Межбюджетные трансферты","008",11,null,null,null,{"$f":"H533+H545+H623+H689","v":53134385}]
[1101,"Дотации бюджетам субъектов Российской Федерации и муниципальных образований","008",11,"01",null,null,{"$f":"H534+H540","v":4713428}]
[1101516,"Выравнивание бюджетной обеспеченности","008",11,"01","516 00 00",null,{"$f":"H535","v":3853337}]
[110151601,"Выравнивание бюджетной обеспеченности","008",11,"01","516 01 00",null,{"$f":"H536+H538","v":3853337}]
[11015160120,"Выравнивание бюджетной обеспеченности муниципальных районов (городских округов) из регионального фонда финансовой поддержки","008",11,"01","516 01 20",null,{"$f":"H537","v":3769237}]
[11015160120008,"Фонд финансовой поддержки","008",11,"01","516 01 20","008",{"$f":"4448220-678983","v":3769237}]
[11015160130,"Выравнивание бюджетной обеспеченности поселений из регионального фонда финансовой поддержки, в том числе городских округов по осуществлению ими полномочий по решению вопросов местного значения, отнесенных в соответствии с законодательством Российской Федерации","008",11,"01","516 01 30",null,{"$f":"H539","v":84100}]
[11015160130008,"Фонд финансовой поддержки","008",11,"01","516 01 30","008",84100]
[1101517,"Выравнивание бюджетной обеспеченности","008",11,"01","517 00 00",null,{"$f":"H541+H543","v":860091}]
[110151701,"Дотации бюджетам закрытых административно-территориальных образований","008",11,"01","517 01 00",null,{"$f":"H542","v":189513}]
[110151701007,"Прочие дотации ","008",11,"01","517 01 00","007",189513]
[110151702,"Поддержка мер по обеспечению сбалансированности бюджетов","008",11,"01","517 02 00",null,{"$f":"H544","v":670578}]
[110151702007,"Прочие дотации ","008",11,"01","517 02 00","007",{"$f":"652078+18500","v":670578}]
[1102,"Субсидии бюджетам субъектов Российской Федерации и муниципальных образований (межбюджетные субсидии)","008",11,"02",null,null,{"$f":"H546+H551+H561+H564+H567+H570+H584+H606+H617","v":12112050}]
[1102100,"Федеральные целевые программы","008",11,"02","100 00 00",null,{"$f":"H547","v":230000}]
[110210011,"Федеральная целевая программа \"Социальное развитие села до 2010 года\"","008",11,"02","100 11 00",null,{"$f":"H548+H549+H550","v":230000}]
[110210011021,"Субсидии на обеспечение жильем молодых семей и молодых специалистов, проживающих и работающих в сельской местности","008",11,"02","100 11 00","021",120000]
[110210011908,"Софинансирование строительства объектов газификации собственности муниципальных образований","008",11,"02","100 11 00",908,74000]
[110210011909,"Софинансирование строительства объектов водоснабжения собственности муниципальных образований","008",11,"02","100 11 00",909,36000]
[1102102,"Бюджетные инвестиции в объекты капитального строительства, не включенные в целевые программы","008",11,"02","102 00 00",null,{"$f":"H552","v":2769130}]
[110210201,"Бюджетные инвестиции в объекты капитального строительства государственной собственности субъектов Российской Федерации (объекты капитального строительства собственности муниципальных образований)","008",11,"02","102 01 00",null,{"$f":"H553+H555+H557+H559","v":2769130}]
[11021020102,"Бюджетные инвестиции в объекты капитального строительства собственности муниципальных образований ","008",11,"02","102 01 02",null,{"$f":"H554","v":314471}]
[11021020102908,"Софинансирование строительства объектов газификации собственности муниципальных образований","008",11,"02","102 01 02",908,314471]
[11021020103,"Субсидии бюджетам муниципальных образований Московской области на долевое финансирование расходов бюджетов муниципальных образований Московской области на  проведение инженерных изысканий, проектных работ, строительство и реконструкцию объектов физической культуры и спорта","008",11,"02","102 01 03",null,{"$f":"H556","v":679000}]
[11021020103020,"Софинансирование объектов капитального строительства государственной собственности субъектов Российской Федерации  (объектов капитального строительства собственности муниципальных образований)","008",11,"02","102 01 03","020",679000]
[11021020104,"Субсидии бюджетам муниципальных образований Московской области на долевое финансирование расходов бюджетов муниципальных образований Московской области на проведение инженерных изысканий, проектных работ, строительство пристроек к детским дошкольным учреждениям и реконструкцию детских дошкольных учреждений","008",11,"02","102 01 04",null,{"$f":"H558","v":1244550}]
[11021020104020,"Софинансирование объектов капитального строительства государственной собственности субъектов Российской Федерации  (объектов капитального строительства собственности муниципальных образований)","008",11,"02","102 01 04","020",{"$f":"244550+1000000","v":1244550}]
[11021020105,"Субсидии бюджетам муниципальных образований Московской области на капитальные вложения для финансирования развития социальной и инженерной инфраструктуры муниципальных образований за счет средств, перечисляемых из федерального бюджета ","008",11,"02","102 01 05",null,{"$f":"H560","v":531109}]
[11021020105020,"Софинансирование объектов капитального строительства государственной собственности субъектов Российской Федерации  (объектов капитального строительства собственности муниципальных образований)","008",11,"02","102 01 05","020",531109]
[1102104,"Федеральная целевая программа \"Жилище\" на 2002 - 2010 годы (второй этап)","008",11,"02","104 00 00",null,{"$f":"H562","v":75000}]
[110210402,"Подпрограмма \"Обеспечение жильем молодых семей\"","008",11,"02","104 02 00",null,{"$f":"H563","v":75000}]
[110210402010,"Фонд софинансирования","008",11,"02","104 02 00","010",75000]
[1102450,"Мероприятия в сфере культуры, кинематографии, средств массовой информации","008",11,"02","450 00 00",null,{"$f":"H565","v":13922}]
[110245006,"Комплектование книжных фондов библиотек муниципальных образований","008",11,"02","450 06 00",null,{"$f":"H566","v":13922}]
[110245006010,"Фонд софинансирования","008",11,"02","450 06 00","010",13922]
[1102518,"Реформирование региональных и муниципальных финансов","008",11,"02","518 00 00",null,{"$f":"H568","v":160000}]
[110251802,"Реформирование муниципальных  финансов","008",11,"02","518 02 00",null,{"$f":"H569","v":160000}]
[110251802010,"Фонд софинансирования","008",11,"02","518 02 00","010",160000]
[1102520,"Иные безвозмездные и безвозвратные перечисления","008",11,"02","520 00 00",null,{"$f":"H571+H573+H575+H580+H582","v":2127833}]
[110252003,"Развитие и поддержка социальной и инженерной инфраструктуры закрытых административно-территориальных образований","008",11,"02","520 03 00",null,{"$f":"H572","v":151146}]
[110252003010,"Фонд софинансирования","008",11,"02","520 03 00","010",151146]
[110252004,"Развитие и поддержка социальной, инженерной и инновационной инфраструктуры наукоградов Российской Федерации ","008",11,"02","520 04 00",null,{"$f":"H574","v":770817}]
[110252004010,"Фонд софинансирования","008",11,"02","520 04 00","010",770817]
[110252012,"Государственная поддержка внедрения комплексных мер модернизации образования","008",11,"02","520 12 00",null,{"$f":"H576+H578","v":643960}]
[11025201201,"Субсидии бюджетам муниципальных образований Московской области на государственную поддержку внедрения комплексных проектов модернизации образования за счет средств федерального бюджета","008",11,"02","520 12 01",null,{"$f":"H577","v":383960}]
[11025201201010,"Фонд софинансирования","008",11,"02","520 12 01","010",383960]
[11025201202,"Субсидии бюджетам муниципальных образований Московской области на государственную поддержку внедрения комплексных проектов модернизации образования за счет средств бюджета Московской области","008",11,"02","520 12 02",null,{"$f":"H579","v":260000}]
[11025201202010,"Фонд софинансирования","008",11,"02","520 12 02","010",260000]
[110252019,"Субсидии бюджетам муниципальных образований Московской области на частичное финансирование расходов негосударственных образовательных учреждениях, имеющих государственную аккредитацию и осуществляющих деятельность по предоставлению дошкольного, начального общего, основного общего, среднего (полного) общего образования в пределах государственных образовательных стандартов","008",11,"02","520 19 00",null,{"$f":"H581","v":211910}]
[110252019010,"Фонд софинансирования","008",11,"02","520 19 00","010",211910]
[110252020,"Субсидии бюджетам муниципальных образований Московской области на развитие и поддержку социальной и инженерной инфраструктуры бюджетов муниципальных образований Московской области, имеющих статус наукоградов Российской Федерации","008",11,"02","520 20 00",null,{"$f":"H583","v":350000}]
[110252020010,"Фонд софинансирования","008",11,"02","520 20 00","010",350000]
[1102521,"Межбюджетные трансферты","008",11,"02","521 00 00",null,{"$f":"H585","v":5479980}]
[110252101,"Иные субсидии местным бюджетам для софинансирования расходных обязательств по исполнению полномочий органов местного самоуправления по вопросам местного значения","008",11,"02","521 01 00",null,{"$f":"H586+H588+H590+H592+H594+H596+H598+H600+H602+H604","v":5479980}]
[11025210101,"Субсидии бюджетам муниципальных образований Московской области на частичное финансирование расходов бюджетов муниципальных образований Московской области на проведение работ по подготовке  жилищно-коммунального хозяйства и социальной сферы к осенне-зимнему периоду 2007/2008 года с учетом условий, установленных Правительством Московской области","008",11,"02","521 01 01",null,{"$f":"H587","v":3112363}]
[11025210101010,"Фонд софинансирования","008",11,"02","521 01 01","010",3112363]
[11025210102,"Субсидии бюджетам муниципальных образований Московской области на частичную компенсацию транспортных расходов организаций и индивидуальных предпринимателей по доставке продовольственных и промышленных товаров для населения в сельские населенные пункты Московской области","008",11,"02","521 01 02",null,{"$f":"H589","v":45418}]
[11025210102010,"Фонд софинансирования","008",11,"02","521 01 02","010",{"$f":"46015-878+281","v":45418}]
[11025210103,"Субсидии бюджетам муниципальных образований Московской области на частичную компенсацию выпадающих доходов организациям, предоставляющим населению коммунальные услуги по тарифам, не обеспечивающим возмещение издержек","008",11,"02","521 01 03",null,{"$f":"H591","v":390000}]
[11025210103010,"Фонд софинансирования","008",11,"02","521 01 03","010",390000]
[11025210104,"Субсидии бюджетам муниципальных образований Московской области на оснащение автобусами муниципальных общеобразовательных учреждений, расположенных в сельской местности ","008",11,"02","521 01 04",null,{"$f":"H593","v":21400}]
[11025210104010,"Фонд софинансирования","008",11,"02","521 01 04","010",21400]
[11025210105,"Субсидии бюджетам муниципальных образований Московской области на обеспечение эксплуатации и обслуживания приобретенных автобусов для муниципальных общеобразовательных учреждений, расположенных в сельской местности","008",11,"02","521 01 05",null,{"$f":"H595","v":37000}]
[11025210105010,"Фонд софинансирования","008",11,"02","521 01 05","010",37000]
[11025210106,"Субсидии бюджетам муниципальных образований Московской области на премирование победителей и призеров предварительного этапа Всероссийского конкурса на звание \"Самый благоустроенный город России\" среди городов и поселков городского типа Московской области","008",11,"02","521 01 06",null,{"$f":"H597","v":14000}]
[11025210106010,"Фонд софинансирования","008",11,"02","521 01 06","010",14000]
[11025210107,"Субсидии бюджетам муниципальных образований Московской области на приобретение оборудования для оснащения амбулаторно-поликлинических и стационарно-поликлинических муниципальных учреждений","008",11,"02","521 01 07",null,{"$f":"H599","v":0}]
[11025210107010,"Фонд софинансирования","008",11,"02","521 01 07","010",{"$f":"25040-25040","v":0}]
[11025210108,"Субсидии бюджетам муниципальных образований Московской области на проведение капитального ремонта в муниципальных детских дошкольных учреждениях","008",11,"02","521 01 08",null,{"$f":"H601","v":59309}]
[11025210108010,"Фонд софинансирования","008",11,"02","521 01 08","010",59309]
[11025210109,"Субсидии бюджетам муниципальных образований Московской области на частичную компенсацию расходов бюджетов муниципальных образований Московской области по уплате налога на имущество, находящегося в муниципальной собственности ","008",11,"02","521 01 09",null,{"$f":"H603","v":400000}]
[11025210109010,"Фонд софинансирования","008",11,"02","521 01 09","010",400000]
[11025210113,"Субсидии бюджетам муниципальных образований Московской области на проведение проектно-изыскательских работ, капитального ремонта, технического переоснащения и приобретение оборудования для культурно-досуговых объектов, находящихся в муниципальной собственности и подлежащих модернизации и техническому оснащению в целях обеспечения концертно-гастрольной деятельности на территории Московской области","008",11,"02","521 01 13",null,{"$f":"H605","v":1400490}]
[11025210113010,"Фонд софинансирования","008",11,"02","521 01 13","010",{"$f":"1408490-8000","v":1400490}]
[1102522,"Региональные целевые программы","008",11,"02","522 00 00",null,{"$f":"H607+H612","v":140570}]
[110252202,"Областная целевая программа \"Жилище\" на 2006-2010 годы","008",11,"02","522 02 00",null,{"$f":"H608+H610","v":115530}]
[11025220202,"Подпрограмма \"Переселение граждан из ветхого и аварийного жилищного фонда\"","008",11,"02","522 02 02",null,{"$f":"H609","v":35530}]
[11025220202010,"Фонд софинансирования","008",11,"02","522 02 02","010",35530]
[11025220204,"Подпрограмма \"Обеспечение жильем молодых семей\"","008",11,"02","522 02 04",null,{"$f":"H611","v":80000}]
[11025220204010,"Фонд софинансирования","008",11,"02","522 02 04","010",80000]
[110252212,"Областная целевая программа \"Предупреждение и борьба с заболеваниями социального характера в Московской области на период 2008-2011 годов\"","008",11,"02","522 12 00",null,{"$f":"H613+H615","v":25040}]
[11025221209,"Подпрограмма \"Профилактика и лечение артериальной гипертонии\"","008",11,"02","522 12 09",null,{"$f":"H614","v":5200}]
[11025221209010,"Фонд софинансирования","008",11,"02","522 12 09","010",5200]
[11025221210,"Подпрограмма \"Общая врачебная практика\"","008",11,"02","522 12 10",null,{"$f":"H616","v":19840}]
[11025221210010,"Фонд софинансирования","008",11,"02","522 12 10","010",19840]
[1102523,"Развитие социальной и инженерной инфраструктуры субъектов Российской Федерации и муниципальных образований","008",11,"02","523 00 00",null,{"$f":"H618","v":1115615}]
[110252301,"Развитие социальной и инженерной инфраструктуры","008",11,"02","523 01 00",null,{"$f":"H619+H621","v":1115615}]
[11025230101,"Субсидии бюджетам муниципальных образований Московской области на частичное возмещение расходов бюджетов муниципальных образований Московской области по осуществлению мероприятий по приведению инфраструктуры уличного освещения, находящейся на территории муниципальных образований Московской области, в надлежащее техническое состояние","008",11,"02","523 01 01",null,{"$f":"H620","v":478581}]
[11025230101010,"Фонд софинансирования","008",11,"02","523 01 01","010",478581]
[11025230102,"Субсидии бюджетам муниципальных образований Московской области на частичное возмещение расходов бюджетов муниципальных образований Московской области по приведению лифтов в многоквартирных жилых домах, находящихся на территории Московской области, в надлежащее техническое состояние","008",11,"02","523 01 02",null,{"$f":"H622","v":637034}]
[11025230102010,"Фонд софинансирования","008",11,"02","523 01 02","010",637034]
[1103,"Субвенции бюджетам субъектов Российской Федерации и муниципальных образований","008",11,"03",null,null,{"$f":"H624+H629+H632+H638+H643+H653","v":34352512}]
[1103001,"Руководство и управление в сфере установленных функций","008",11,"03","001 00 00",null,{"$f":"H625+H627","v":103976}]
[110300136,"Осуществление первичного воинского учета на территориях, где отсутствуют военные комиссариаты","008",11,"03","001 36 00",null,{"$f":"H626","v":90840}]
[110300136009,"Фонд компенсаций","008",11,"03","001 36 00","009",90840]
[110300140,"Составление (изменение и дополнение) списков кандидатов в присяжные заседатели  федеральных судов общей юрисдикции в Российской Федерации","008",11,"03","001 40 00",null,{"$f":"H628","v":13136}]
[110300140009,"Фонд компенсаций","008",11,"03","001 40 00","009",13136]
[1103202,"Воинские формирования (органы, подразделения)","008",11,"03","202 00 00",null,{"$f":"H630","v":27834}]
[110320201,"Обеспечение равного с Министерством внутренних дел Российской Федерации повышения денежного довольствия сотрудникам и заработной платы работникам подразделений милиции общественной безопасности","008",11,"03","202 01 00",null,{"$f":"H631","v":27834}]
[110320201009,"Фонд компенсаций","008",11,"03","202 01 00","009",27834]
[1103436,"Мероприятия в области образования","008",11,"03","436 00 00",null,{"$f":"H633","v":161400}]
[110343602,"Внедрение инновационных образовательных программ","008",11,"03","436 02 00",null,{"$f":"H634+H636","v":161400}]
[11034360201,"Субвенции бюджетам муниципальных образований Московской области на поддержку муниципальных общеобразовательных учреждений, реализующих комплекс мероприятий по созданию и внедрению новых качественно усовершенствованных технологий, методов и форм обучения (инновационные образовательные программы) за счет средств федерального бюджета ","008",11,"03","436 02 01",null,{"$f":"H635","v":107000}]
[11034360201009,"Фонд компенсаций","008",11,"03","436 02 01","009",107000]
[11034360202,"Субвенции бюджетам муниципальных образований Московской области на поддержку муниципальных общеобразовательных учреждений, реализующих комплекс мероприятий по созданию и внедрению новых качественно усовершенствованных технологий, методов и форм обучения (инновационные образовательные программы) за счет средств бюджета Московской области","008",11,"03","436 02 02",null,{"$f":"H637","v":54400}]
[11034360202009,"Фонд компенсаций","008",11,"03","436 02 02","009",54400]
[1103505,"Социальная помощь","008",11,"03","505 00 00",null,{"$f":"H639+H641","v":5648889}]
[110350536,"Обеспечение жилыми помещениями детей-сирот, детей, оставшихся без попечения родителей, а также детей, находящихся под опекой (попечительством), не имеющих закрепленного жилого помещения","008",11,"03","505 36 00",null,{"$f":"H640","v":805870}]
[110350536009,"Фонд компенсаций","008",11,"03","505 36 00","009",805870]
[110350548,"Предоставление гражданам субсидий на оплату жилого помещения  и коммунальных услуг","008",11,"03","505 48 00",null,{"$f":"H642","v":4843019}]
[110350548009,"Фонд компенсаций","008",11,"03","505 48 00","009",{"$f":"4668019+175000","v":4843019}]
[1103520,"Иные безвозмездные и безвозвратные перечисления","008",11,"03","520 00 00",null,{"$f":"H644+H646+H651","v":1360602}]
[110352009,"Ежемесячное денежное вознаграждение за классное руководство ","008",11,"03","520 09 00",null,{"$f":"H645","v":369235}]
[110352009009,"Фонд компенсаций","008",11,"03","520 09 00","009",369235]
[110352010,"Компенсация части родительской платы за содержание ребенка в государственных и муниципальных образовательных учреждениях, реализующих основную общеобразовательную программу дошкольного образования","008",11,"03","520 10 00",null,{"$f":"H647+H649","v":538765}]
[11035201001,"Субвенции бюджетам муниципальных образований Московской области на выплаты компенсации части родительской платы за содержание ребенка в государственных и муниципальных образовательных учреждениях, реализующих основную общеобразовательную программу дошкольного образования за счет средств федерального бюджета","008",11,"03","520 10 01",null,{"$f":"H648","v":488765}]
[11035201001009,"Фонд компенсаций","008",11,"03","520 10 01","009",488765]
[11035201002,"Организация выплаты компенсации родительской платы за содержание ребенка в государственных и муниципальных образовательных учреждениях, реализующих основную общеобразовательную программу дошкольного образования за счет средств бюджета Московской области","008",11,"03","520 10 02",null,{"$f":"H650","v":50000}]
[11035201002009,"Фонд компенсаций","008",11,"03","520 10 02","009",50000]
[110352018,"Денежные выплаты медицинскому персоналу фельдшерско-акушерских пунктов, врачам, фельдшерам и медицинским сестрам скорой медицинской помощи*","008",11,"03","520 18 00",null,{"$f":"H652","v":452602}]
[110352018009,"Фонд компенсаций","008",11,"03","520 18 00","009",452602]
[1103521,"Межбюджетные трансферты","008",11,"03","521 00 00",null,{"$f":"H654","v":27049811}]
[110352102,"Иные субвенции местным бюджетам для финансового обеспечения расходных обязательств по переданным для осуществления государственным полномочиям","008",11,"03","521 02 00",null,{"$f":"H655+H657+H659+H661+H663+H665+H667+H669+H671+H673+H675+H677+H679+H681+H683+H685+H687","v":27049811}]
[11035210201,"Субвенции бюджетам муниципальных образований Московской области на предоставление бюджетам городских поселений Московской области, существовавших на территориях муниципальных районов Московской области на день вступления в силу законов Московской области о статусе и границах указанных муниципальных районов, субсидий на частичную компенсацию транспортных расходов организаций и индивидуальных предпринимателей по доставке продовольственных и промышленных товаров для населения в сельские населенные пункты Московской области","008",11,"03","521 02 01",null,{"$f":"H656","v":0}]
[11035210201009,"Фонд компенсаций","008",11,"03","521 02 01","009",{"$f":"281-281","v":0}]
[11035210202,"Субвенции бюджетам муниципальных районов Московской области на предоставление бюджетам поселений Московской области субсидий на частичное финансирование расходов бюджетов поселений на проведение работ по подготовке жилищно-коммунального хозяйства и социальной сферы к осенне-зимнему периоду 2007/2008 года с учетом условий, установленных Правительством Московской области","008",11,"03","521 02 02",null,{"$f":"H658","v":70514}]
[11035210202009,"Фонд компенсаций","008",11,"03","521 02 02","009",{"$f":"70477+37","v":70514}]
[11035210204,"Субвенции бюджетам муниципальных образований Московской области на обеспечение полноценным питанием беременных женщин, кормящих матерей, а также детей в возрасте до трех лет в соответствии с Законом Московской области \"О порядке обеспечения полноценным питанием беременных женщин, кормящих матерей, а также детей в возрасте до трех лет в Московской области\"*","008",11,"03","521 02 04",null,{"$f":"H660","v":870081}]
[11035210204009,"Фонд компенсаций","008",11,"03","521 02 04","009",870081]
[11035210205,"Субвенции бюджетам муниципальных образований Московской области на денежные выплаты медицинскому персоналу фельдшерско - акушерских пунктов, врачам, фельдшерам и медицинским сестрам скорой медицинской помощи за счет средств, перечисляемых из федерального бюджета*","008",11,"03","521 02 05",null,{"$f":"H662","v":0}]
[11035210205009,"Фонд компенсаций","008",11,"03","521 02 05","009",{"$f":"452602-452602","v":0}]
[11035210206,"Субвенции бюджетам муниципальных образований Московской области на обеспечение питанием, одеждой, обувью и мягким инвентарем детей-сирот и детей, оставшихся без попечения родителей, находящихся в лечебно-профилактических учреждениях Московской области ","008",11,"03","521 02 06",null,{"$f":"H664","v":228615}]
[11035210206009,"Фонд компенсаций","008",11,"03","521 02 06","009",228615]
[11035210207,"Субвенции бюджетам муниципальных образований Московской области на финансирование штатной численности работников, обеспечивающих деятельность комиссий по делам несовершеннолетних и защите их прав","008",11,"03","521 02 07",null,{"$f":"H666","v":112161}]
[11035210207009,"Фонд компенсаций","008",11,"03","521 02 07","009",{"$f":"104761+7400","v":112161}]
[11035210208,"Субвенции бюджетам муниципальных образований Московской области на обеспечение преданных муниципальным образованиям государственных полномочий по хранению и комплектованию архивных дел, относящихся к собственности Московской области","008",11,"03","521 02 08",null,{"$f":"H668","v":144394}]
[11035210208009,"Фонд компенсаций","008",11,"03","521 02 08","009",144394]
[11035210209,"Субвенции бюджетам муниципальных образований Московской области на компенсацию затрат бюджетов муниципальных образований Московской области на текущий и капитальный ремонт помещений (зданий) для мировых судей Московской области","008",11,"03","521 02 09",null,{"$f":"H670","v":19306}]
[11035210209009,"Фонд компенсаций","008",11,"03","521 02 09","009",19306]
[11035210210,"Субвенции бюджетам муниципальных образований Московской области на обеспечение в соответствии с законодательством Российской Федерации государственных гарантий прав граждан на получение общедоступного и бесплатного дошкольного, начального общего, основного общего, среднего (полного) общего образования, а также дополнительного образования в общеобразовательных учреждениях в размере, необходимом для реализации основных общеобразовательных программ в части финансирования расходов на оплату труда работников общеобразовательных учреждений, расходов на учебники и учебные пособия, технические средства обучения, расходные материалы и хозяйственные нужды, (за исключением расходов на содержание зданий и коммунальных расходов, осуществляемых из местных бюджетов) и на реализацию приоритетного национального проекта \"Образование\"","008",11,"03","521 02 10",null,{"$f":"H672","v":24468329}]
[11035210210009,"Фонд компенсаций","008",11,"03","521 02 10","009",24468329]
[11035210211,"Субвенции бюджетам муниципальных образований Московской области на реализацию мер социальной поддержки и социального обеспечения детей-сирот, детей, оставшихся без попечения родителей, в муниципальных и негосударственных учреждениях Московской области в соответствии с Законом Московской области №170/2004-ОЗ \"Об обеспечении дополнительных гарантий по социальной поддержке детей-сирот и детей, оставшихся без попечения родителей, и предоставлении им полного государственного обеспечения\"","008",11,"03","521 02 11",null,{"$f":"H674","v":358274}]
[11035210211009,"Фонд компенсаций","008",11,"03","521 02 11","009",358274]
[11035210212,"Субвенции бюджетам муниципальных образований Московской области на финансирование компенсации расходов на проезд к месту учебы и обратно отдельным категориям обучающихся в муниципальных образовательных учреждениях Московской области в соответствии с Законом Московской области №7/2005-ОЗ \" О компенсации расходов на проезд к месту учебы и обратно отдельным категориям обучающихся\"","008",11,"03","521 02 12",null,{"$f":"H676","v":44811}]
[11035210212009,"Фонд компенсаций","008",11,"03","521 02 12","009",44811]
[11035210213,"Субвенции бюджетам муниципальных образований Московской области на финансирование частичной компенсации стоимости питания отдельным категориям обучающихся в муниципальных общеобразовательных учреждениях и в негосударственных общеобразовательных учреждениях, прошедших государственную аккредитацию в соответствии с Законом Московской области №24/2005-ОЗ \"О частич-ной компенсации стоимости питания отдельным категориям обучающихся в образовательных учреждениях Московской области\"","008",11,"03","521 02 13",null,{"$f":"H678","v":554895}]
[11035210213009,"Фонд компенсаций","008",11,"03","521 02 13","009",554895]
[11035210214,"Субвенции бюджетам муниципальных образований Московской области на предоставление бюджетам поселений Московской области субсидий на частичное возмещение расходов бюджетов поселений по осуществлению мероприятий по приведению инфраструктуры уличного освещения, находящейся на территории муниципальных образований Московской области, в надлежащее техническое состояние   ","008",11,"03","521 02 14",null,{"$f":"H680","v":7419}]
[11035210214009,"Фонд компенсаций","008",11,"03","521 02 14","009",7419]
[11035210215,"Субвенции бюджетам муниципальных образований Московской области на предоставление бюджетам поселений Московской области субсидий на частичное возмещение расходов бюджетов поселений по приведению лифтов в многоквартирных жилых домах, находящихся на территории Московской области, в надлежащее техническое состояние","008",11,"03","521 02 15",null,{"$f":"H682","v":14242}]
[11035210215009,"Фонд компенсаций","008",11,"03","521 02 15","009",14242]
[11035210216,"Субвенции бюджетам муниципальных образований Московской области на предоставление дотаций бюджетам поселений на выравнивание бюджетной обеспеченности поселений Московской области ","008",11,"03","521 02 16",null,{"$f":"H684","v":60900}]
[11035210216009,"Фонд компенсаций","008",11,"03","521 02 16","009",{"$f":"59601+1299","v":60900}]
[11035210217,"Субвенции бюджетам муниципальных образований Московской области на предоставление дотаций бюджетам поселений на сбалансированность бюджетов поселений Московской области","008",11,"03","521 02 17",null,{"$f":"H686","v":87870}]
[11035210217009,"Фонд компенсаций","008",11,"03","521 02 17","009",{"$f":"87081+789","v":87870}]
[11035210218,"Субвенции бюджетам муниципальных образований Московской области на предоставление бюджетам поселений субсидий на проведение проектно-изыскательских работ, капитального ремонта, технического переоснащения и приобретение оборудования для культурно-досуговых объектов, находящихся в муниципальной собственности и подлежащих модернизации и техническому оснащению в целях обеспечения концертно-гастрольной деятельности на территории Московской области","008",11,"03","521 02 18",null,{"$f":"H688","v":8000}]
[11035210218009,"Фонд компенсаций","008",11,"03","521 02 18","009",8000]
[1104,"Иные межбюджетные трансферты","008",11,"04",null,null,{"$f":"H690+H693","v":1956395}]
[1104520,"Иные безвозмездные и безвозвратные перечисления","008",11,"04","520 00 00",null,{"$f":"H691","v":23893}]
[110452006,"Переселение граждан из закрытых административно-территориальных образований","008",11,"04","520 06 00",null,{"$f":"H692","v":23893}]
[110452006017,"Иные межбюджетные трансферты","008",11,"04","520 06 00","017",23893]
[1104521,"Межбюджетные трансферты","008",11,"04","521 00 00",null,{"$f":"H694","v":1932502}]
[110452103,"Иные межбюджетные трансферты  бюджетам бюджетной системы","008",11,"04","521 03 00",null,{"$f":"H695","v":1932502}]
[110452103017,"Иные межбюджетные трансферты","008",11,"04","521 03 00","017",{"$f":"6000000+8621+5045-141000-21267-7647-3911250","v":1932502}]
[]
[0,"Министерство экологии и природопользования Московской области","009",null,null,null,null,{"$f":"H698+H703+H714+H737","v":532091}]
[3,"Национальная безопасность и правоохранительная деятельность","009","03",null,null,null,{"$f":"H699","v":458}]
[309,"Защита населения и территории от последствий чрезвычайных ситуаций природного и техногенного характера, гражданская оборона ","009","03","09",null,null,{"$f":"H700","v":458}]
[309219,"Мероприятия по гражданской обороне","009","03","09","219 00 00",null,{"$f":"H701","v":458}]
[30921901,"Подготовка населения и организаций к действиям в чрезвычайной ситуации в мирное и военное время","009","03","09","219 01 00",null,{"$f":"H702","v":458}]
[30921901012,"Выполнение функций государственными органами","009","03","09","219 01 00","012",458]
[4,"Национальная экономика","009","04",null,null,null,{"$f":"H704+H710","v":43721}]
[406,"Водные ресурсы","009","04","06",null,null,{"$f":"H705","v":36721}]
[406280,"Водохозяйственные мероприятия","009","04","06","280 00 00",null,{"$f":"H706+H708","v":36721}]
[40628003,"Осуществление капитального ремонта гидротехнических сооружений, находящихся в собственности субъектов Российской Федерации, муниципальной собственности, и бесхозяйных гидротехнических сооружений ","009","04","06","280 03 00",null,{"$f":"H707","v":14000}]
[40628003010,"Фонд софинансирования","009","04","06","280 03 00","010",14000]
[40628004,"Осуществление отдельных полномочий в области водных отношений","009","04","06","280 04 00",null,{"$f":"H709","v":22721}]
[40628004009,"Фонд компенсаций","009","04","06","280 04 00","009",22721]
[412,"Другие вопросы в области национальной экономики","009","04",12,null,null,{"$f":"H711","v":7000}]
[412522,"Региональные целевые программы","009","04",12,"522 00 00",null,{"$f":"H712","v":7000}]
[41252208,"Областная целевая программа \"Радиационная безопасность Московской области на 2006-2010 годы\"","009","04",12,"522 08 00",null,{"$f":"H713","v":7000}]
[41252208012,"Выполнение функций государственными органами","009","04",12,"522 08 00","012",7000]
[6,"Охрана окружающей среды","009","06",null,null,null,{"$f":"H715+H722","v":487816}]
[603,"Охрана объектов растительного и животного мира и среды их обитания","009","06","03",null,null,{"$f":"H716+H719","v":5125}]
[603264,"Охрана и использование объектов животного мира","009","06","03","264 00 00",null,{"$f":"H717","v":125}]
[60326402,"Охрана и использование объектов животного мира (за исключением отнесенных к объектам охоты, а также водных биологических ресурсов)","009","06","03","264 02 00",null,{"$f":"H718","v":125}]
[60326402009,"Фонд компенсаций","009","06","03","264 02 00","009",125]
[603270,"Рыболовное хозяйство","009","06","03","270 00 00",null,{"$f":"H720","v":5000}]
[60327004,"Организация,  регулирование и охрана водных  биологических ресурсов","009","06","03","270 04 00",null,{"$f":"H721","v":5000}]
[60327004009,"Фонд компенсаций","009","06","03","270 04 00","009",5000]
[605,"Другие вопросы в области охраны окружающей среды","009","06","05",null,null,{"$f":"H723+H727+H732","v":482691}]
[605002,"Руководство и управление в сфере установленных функций органов государственной власти субъектов Российской Федерации  и органов местного самоуправления","009","06","05","002 00 00",null,{"$f":"H724","v":291972}]
[60500204,"Центральный аппарат","009","06","05","002 04 00",null,{"$f":"SUM(H725:H726)","v":291972}]
[60500204012,"Выполнение функций государственными органами","009","06","05","002 04 00","012",291122]
[60500204902,"Проведение мероприятий по защите информации, обеспечению безопасности информационных систем и баз данных, содержащих конфиденциальную информацию, в том числе персональные данные населения Московской области","009","06","05","002 04 00",902,850]
[605410,"Состояние окружающей среды и природопользования","009","06","05","410 00 00",null,{"$f":"H728","v":38511}]
[60541001,"Природоохранные мероприятия","009","06","05","410 01 00",null,{"$f":"SUM(H729:H731)","v":38511}]
[60541001012,"Выполнение функций государственными органами","009","06","05","410 01 00","012",5400]
[60541001906,"Работы по гидрометеорологии и мониторингу окружающей среды","009","06","05","410 01 00",906,32205]
[60541001907,"Проведение государственной экологической экспертизы объектов регионального уровня на территории Московской области","009","06","05","410 01 00",907,906]
[605522,"Региональные целевые программы","009","06","05","522 00 00",null,{"$f":"H733","v":152208}]
[60552201,"Областная целевая программа \"Экология Подмосковья на 2007-2008 годы\"","009","06","05","522 01 00",null,{"$f":"H734","v":152208}]
[6055220101,"Подпрограмма \"Охрана окружающей среды Московской области\"","009","06","05","522 01 01",null,{"$f":"SUM(H735:H736)","v":152208}]
[6055220101003,"Бюджетные инвестиции","009","06","05","522 01 01","003",22000]
[6055220101012,"Выполнение функций государственными органами","009","06","05","522 01 01","012",130208]
[7,"Образование","009","07",null,null,null,{"$f":"H738","v":96}]
[707,"Молодежная политика и оздоровление детей","009","07","07",null,null,{"$f":"H739","v":96}]
[707432,"Мероприятия по проведению оздоровительной кампании детей ","009","07","07","432 00 00",null,{"$f":"H740","v":96}]
[70743202,"Оздоровление детей ","009","07","07","432 02 00",null,{"$f":"H741","v":96}]
[70743202001,"Выполнение функций бюджетными учреждениями","009","07","07","432 02 00","001",96]
[]
[0,"Министерство экономики Московской области","010",null,null,null,null,{"$f":"H744+H749+H754+H759+H772+H777","v":1132392}]
[1,"Общегосударственные вопросы","010","01",null,null,null,{"$f":"H745","v":271883}]
[114,"Другие общегосударственные вопросы","010","01",14,null,null,{"$f":"H746","v":271883}]
[114002,"Руководство и управление в сфере установленных функций органов государственной власти субъектов Российской Федерации  и органов местного самоуправления","010","01",14,"002 00 00",null,{"$f":"H747","v":271883}]
[11400204,"Центральный аппарат","010","01",14,"002 04 00",null,{"$f":"SUM(H748:H748)","v":271883}]
[11400204012,"Выполнение функций государственными органами","010","01",14,"002 04 00","012",271883]
[2,"Национальная оборона","010","02",null,null,null,{"$f":"H750","v":2620}]
[204,"Мобилизационная подготовка экономики","010","02","04",null,null,{"$f":"H751","v":2620}]
[204209,"Реализация государственных функций по мобилизационной подготовке экономики","010","02","04","209 00 00",null,{"$f":"H752","v":2620}]
[20420901,"Мероприятия по обеспечению  мобилизационной готовности экономики","010","02","04","209 01 00",null,{"$f":"H753","v":2620}]
[20420901012,"Выполнение функций государственными органами","010","02","04","209 01 00","012",2620]
[3,"Национальная безопасность и правоохранительная деятельность","010","03",null,null,null,{"$f":"H755","v":49}]
[309,"Защита населения и территории от последствий чрезвычайных ситуаций природного и техногенного характера, гражданская оборона ","010","03","09",null,null,{"$f":"H756","v":49}]
[309219,"Мероприятия по гражданской обороне","010","03","09","219 00 00",null,{"$f":"H757","v":49}]
[30921901,"Подготовка населения и организаций к действиям в чрезвычайной ситуации в мирное и военное время","010","03","09","219 01 00",null,{"$f":"H758","v":49}]
[30921901012,"Выполнение функций государственными органами","010","03","09","219 01 00","012",49]
[4,"Национальная экономика","010","04",null,null,null,{"$f":"H760+H764+H768","v":486000}]
[410,"Связь и информатика","010","04","10",null,null,{"$f":"H761","v":19000}]
[410330,"Информационные технологии и связь","010","04","10","330 00 00",null,{"$f":"H762","v":19000}]
[41033082,"Информатика","010","04","10","330 82 00",null,{"$f":"H763","v":19000}]
[41033082012,"Выполнение функций государственными органами","010","04","10","330 82 00","012",19000]
[411,"Прикладные научные исследования в области национальной экономики","010","04",11,null,null,{"$f":"H765","v":67000}]
[411081,"Прикладные научные исследования и разработки","010","04",11,"081 00 00",null,{"$f":"H766","v":67000}]
[41108169,"Выполнение научно- исследовательских и опытно-конструкторских работ по государственным контрактам","010","04",11,"081 69 00",null,{"$f":"H767","v":67000}]
[41108169012,"Выполнение функций государственными органами","010","04",11,"081 69 00","012",{"$f":"48000+19000","v":67000}]
[412,"Другие вопросы в области национальной экономики","010","04",12,null,null,{"$f":"H769","v":400000}]
[412340,"Реализация государственных функций в области национальной экономики","010","04",12,"340 00 00",null,{"$f":"H770","v":400000}]
[41234004,"Мероприятия в области гражданской промышленности","010","04",12,"340 04 00",null,{"$f":"H771","v":400000}]
[41234004013,"Прочие расходы","010","04",12,"340 04 00","013",400000]
[5,"Жилищно - коммунальное хозяйство","010","05",null,null,null,{"$f":"H773","v":371840}]
[502,"Коммунальное хозяйство","010","05","02",null,null,{"$f":"H776","v":371840}]
[502351,"Поддержка коммунального хозяйства","010","05","02","351 00 00",null,{"$f":"H775","v":371840}]
[50235104,"Компенсация выпадающих доходов организациям, предоставляющим населению услуги газоснабжения по тарифам, не обеспечивающим возмещение издержек","010","05","02","351 04 00",null,{"$f":"H776","v":371840}]
[50235104006,"Субсидии юридическим лицам","010","05","02","351 04 00","006",371840]
[7,"Образование","010","07",null,null,null,{"$f":"H778","v":0}]
[707,"Молодежная политика и оздоровление детей","010","07","07",null,null,{"$f":"H779","v":0}]
[707432,"Мероприятия по проведению оздоровительной кампании детей ","010","07","07","432 00 00",null,{"$f":"H780","v":0}]
[70743202,"Оздоровление детей ","010","07","07","432 02 00",null,{"$f":"H781","v":0}]
[70743202001,"Выполнение функций бюджетными учреждениями","010","07","07","432 02 00","001"]
[]
[0,"Министерство имущественных отношений Московской области","011",null,null,null,null,{"$f":"H784+H813+H818+H823+H837+H839","v":4412869}]
[1,"Общегосударственные вопросы","011","01",null,null,null,{"$f":"H785","v":4277978}]
[114,"Другие общегосударственные вопросы","011","01",14,null,null,{"$f":"H786+H791+H799+H807+H811","v":4277978}]
[114001,"Руководство и управление в сфере установленных функций","011","01",14,"001 00 00",null,{"$f":"H787+H789","v":1420}]
[11400129,"Обеспечение приватизации и проведение предпродажной подготовки объектов приватизации","011","01",14,"001 29 00",null,{"$f":"H788","v":670}]
[11400129012,"Выполнение функций государственными органами","011","01",14,"001 29 00","012",670]
[11400141,"Управление находящимися в государственной и муниципальной собственности акциями открытых акционерных обществ","011","01",14,"001 41 00",null,{"$f":"H790","v":750}]
[11400141012,"Выполнение функций государственными органами","011","01",14,"001 41 00","012",750]
[114002,"Руководство и управление в сфере установленных функций органов государственной власти субъектов Российской Федерации  и органов местного самоуправления","011","01",14,"002 00 00",null,{"$f":"H792+H795+H797","v":203468}]
[11400204,"Центральный аппарат","011","01",14,"002 04 00",null,{"$f":"SUM(H793:H794)","v":203468}]
[11400204012,"Выполнение функций государственными органами","011","01",14,"002 04 00","012",198468]
[11400204902,"Проведение мероприятий по защите информации, обеспечению безопасности информационных систем и баз данных, содержащих конфиденциальную информацию, в том числе персональные данные населения Московской области","011","01",14,"002 04 00",902,5000]
[11400229,"Обеспечение приватизации и проведение предпродажной подготовки объектов приватизации","011","01",14,"002 29 00",null,{"$f":"H796","v":0}]
[11400229012,"Выполнение функций государственными органами","011","01",14,"002 29 00","012",{"$f":"670-670","v":0}]
[11400241,"Управление находящимися в государственной и муниципальной собственности акциями открытых акционерных обществ","011","01",14,"002 41 00",null,{"$f":"H798","v":0}]
[11400241012,"Выполнение функций государственными органами","011","01",14,"002 41 00","012",{"$f":"750-750","v":0}]
[114090,"Реализация государственной политики в области приватизации и управления государственной и муниципальной собственностью","011","01",14,"090 00 00",null,{"$f":"H800+H805","v":16092}]
[11409002,"Оценка недвижимости, признание прав и регулирование отношений по государственной и муниципальной собственности","011","01",14,"090 02 00",null,{"$f":"H801+H803","v":15748}]
[1140900201,"Оформление права государственной собственности Московской области при разграничении собственности на землю ","011","01",14,"090 02 01",null,{"$f":"H802","v":64}]
[1140900201012,"Выполнение функций государственными органами","011","01",14,"090 02 01","012",64]
[1140900202,"Оценка и техническая инвентаризация имущества, принадлежащего Московской области ","011","01",14,"090 02 02",null,{"$f":"H804","v":15684}]
[1140900202012,"Выполнение функций государственными органами","011","01",14,"090 02 02","012",15684]
[11409003,"Расходы, связанные с управлением государственной собственностью","011","01",14,"090 03 00",null,{"$f":"H806","v":344}]
[11409003012,"Выполнение функций государственными органами","011","01",14,"090 03 00","012",344]
[114102,"Бюджетные инвестиции в объекты капитального строительства, не включенные в целевые программы","011","01",14,"102 00 00",null,{"$f":"H808","v":3681998}]
[11410201,"Бюджетные инвестиции в объекты капитального строительства государственной собственности субъектов Российской Федерации (объекты капитального строительства собственности муниципальных образований)","011","01",14,"102 01 00",null,{"$f":"H809","v":3681998}]
[1141020101,"Бюджетные инвестиции в объекты капитального строительства государственной собственности субъектов Российской Федерации ","011","01",14,"102 01 01",null,{"$f":"H810","v":3681998}]
[1141020101003,"Бюджетные инвестиции","011","01",14,"102 01 01","003",3681998]
[114804,"Приобретение земельных участков в государственную собственность Московской области","011","01",14,"804 00 00 ",null,{"$f":"H812","v":375000}]
[114804012,"Выполнение функций государственными органами","011","01",14,"804 00 00 ","012",375000]
[2,"Национальная оборона","011","02",null,null,null,{"$f":"H814","v":530}]
[204,"Мобилизационная подготовка экономики","011","02","04",null,null,{"$f":"H815","v":530}]
[204209,"Реализация государственных функций по мобилизационной подготовке экономики","011","02","04","209 00 00",null,{"$f":"H816","v":530}]
[20420901,"Мероприятия по обеспечению  мобилизационной готовности экономики","011","02","04","209 01 00",null,{"$f":"H817","v":530}]
[20420901012,"Выполнение функций государственными органами","011","02","04","209 01 00","012",530]
[3,"Национальная безопасность и правоохранительная деятельность","011","03",null,null,null,{"$f":"H819","v":124}]
[309,"Защита населения и территории от последствий чрезвычайных ситуаций природного и техногенного характера, гражданская оборона ","011","03","09",null,null,{"$f":"H820","v":124}]
[309219,"Мероприятия по гражданской обороне","011","03","09","219 00 00",null,{"$f":"H821","v":124}]
[30921901,"Подготовка населения и организаций к действиям в чрезвычайной ситуации в мирное и военное время","011","03","09","219 01 00",null,{"$f":"H822","v":124}]
[30921901012,"Выполнение функций государственными органами","011","03","09","219 01 00","012",124]
[4,"Национальная экономика","011","04",null,null,null,{"$f":"H824+H828","v":134076}]
[410,"Связь и информатика","011","04","10",null,null,{"$f":"H825","v":6880}]
[410330,"Информационные технологии и связь","011","04","10","330 00 00",null,{"$f":"H826","v":6880}]
[41033082,"Информатика","011","04","10","330 82 00",null,{"$f":"H827","v":6880}]
[41033082012,"Выполнение функций государственными органами","011","04","10","330 82 00","012",6880]
[412,"Другие вопросы в области национальной экономики","011","04",12,null,null,{"$f":"H829","v":127196}]
[412340,"Реализация государственных функций в области национальной экономики","011","04",12,"340 00 00 ",null,{"$f":"H830","v":127196}]
[41234003,"Мероприятия по землеустройству и землепользованию","011","04",12,"340 03 00 ",null,{"$f":"H831+H833+H835","v":127196}]
[4123400301,"Формирование землеустроительных дел, межевание земель и постановка на кадастровый учет земельных участков при приобретении земельных участков в государственную собственность Московской области ","011","04",12,"340 03 01",null,{"$f":"H832","v":98450}]
[4123400301012,"Выполнение функций государственными органами","011","04",12,"340 03 01","012",98450]
[4123400302,"Формирование землеустроительных дел, межевание земель и постановка на кадастровый учет земельных участков при разграничении государственной собственности на землю ","011","04",12,"340 03 02",null,{"$f":"H834","v":21850}]
[4123400302012,"Выполнение функций государственными органами","011","04",12,"340 03 02","012",21850]
[4123400304,"Компенсация затрат по аренде земельного участка","011","04",12,"340 03 04",null,{"$f":"H836","v":6896}]
[4123400304012,"Выполнение функций государственными органами","011","04",12,"340 03 04","012",6896]
[5,"Жилищно-коммунальное хозяйство","011","05",null,null,null,{"$f":"H838","v":0}]
[501,"Жилищное хозяйство","011","05","01"]
[7,"Образование","011","07",null,null,null,{"$f":"H840","v":161}]
[707,"Молодежная политика и оздоровление детей","011","07","07",null,null,{"$f":"H841","v":161}]
[707432,"Мероприятия по проведению оздоровительной кампании детей ","011","07","07","432 00 00",null,{"$f":"H842","v":161}]
[70743202,"Оздоровление детей ","011","07","07","432 02 00",null,{"$f":"H843","v":161}]
[70743202001,"Выполнение функций бюджетными учреждениями","011","07","07","432 02 00","001",161]
[]
[0,"Министерство по делам печати и информации Московской области","012",null,null,null,null,{"$f":"H846+H851+H856+H861","v":2148211}]
[1,"Общегосударственные вопросы","012","01",null,null,null,{"$f":"H847","v":420}]
[108,"Международные отношения и международное сотрудничество","012","01","08",null,null,{"$f":"H848","v":420}]
[108522,"Региональные целевые программы","012","01","08","522 00 00",null,{"$f":"H849","v":420}]
[10852209,"Областная целевая программа \"Поддержка Московской областью соотечественников за рубежом на 2007-2010 годы\"","012","01","08","522 09 00",null,{"$f":"H850","v":420}]
[10852209012,"Выполнение функций государственными органами","012","01","08","522 09 00","012",420]
[2,"Национальная оборона","012","02",null,null,null,{"$f":"H852","v":630}]
[204,"Мобилизационная подготовка экономики","012","02","04",null,null,{"$f":"H853","v":630}]
[204209,"Реализация государственных функций по мобилизационной подготовке экономики","012","02","04","209 00 00",null,{"$f":"H854","v":630}]
[20420901,"Мероприятия по обеспечению  мобилизационной готовности экономики","012","02","04","209 01 00",null,{"$f":"H855","v":630}]
[20420901012,"Выполнение функций государственными органами","012","02","04","209 01 00","012",630]
[3,"Национальная безопасность и правоохранительная деятельность","012","03",null,null,null,{"$f":"H857","v":895}]
[309,"Защита населения и территории от последствий чрезвычайных ситуаций природного и техногенного характера, гражданская оборона ","012","03","09",null,null,{"$f":"H858","v":895}]
[309219,"Мероприятия по гражданской обороне","012","03","09","219 00 00",null,{"$f":"H859","v":895}]
[30921901,"Подготовка населения и организаций к действиям в чрезвычайной ситуации в мирное и военное время","012","03","09","219 01 00",null,{"$f":"H860","v":895}]
[30921901012,"Выполнение функций государственными органами","012","03","09","219 01 00","012",895]
[8,"Культура, кинематография, средства массовой информации","012","08",null,null,null,{"$f":"H862+H869+H876","v":2146266}]
[803,"Телевидение и радиовещание","012","08","03",null,null,{"$f":"H863+H866","v":915009}]
[803450,"Мероприятия в сфере культуры, кинематографии, средств массовой информации","012","08","03","450 00 00",null,{"$f":"H864","v":666000}]
[80345085,"Государственная поддержка в сфере культуры, кинематографии, средств массовой информации","012","08","03","450 85 00",null,{"$f":"H865","v":666000}]
[80345085012,"Выполнение функций государственными органами","012","08","03","450 85 00","012",666000]
[803453,"Телерадиокомпании и телеорганизации","012","08","03","453 00 00",null,{"$f":"H867","v":249009}]
[80345399,"Обеспечение деятельности подведомственных учреждений","012","08","03","453 99 00",null,{"$f":"H868","v":249009}]
[80345399001,"Выполнение функций бюджетными учреждениями","012","08","03","453 99 00","001",249009]
[804,"Периодическая печать и издательства","012","08","04",null,null,{"$f":"H870+H873","v":482232}]
[804450,"Мероприятия в сфере культуры, кинематографии, средств массовой информации","012","08","04","450 00 00",null,{"$f":"H871","v":187144}]
[80445085,"Государственная поддержка в сфере культуры, кинематографии, средств массовой информации","012","08","04","450 85 00",null,{"$f":"H872","v":187144}]
[80445085012,"Выполнение функций государственными органами","012","08","04","450 85 00","012",187144]
[804455,"Издательства","012","08","04","455 00 00",null,{"$f":"H874","v":295088}]
[80445599,"Обеспечение деятельности подведомственных учреждений","012","08","04","455 99 00",null,{"$f":"H875","v":295088}]
[80445599001,"Выполнение функций бюджетными учреждениями","012","08","04","455 99 00","001",295088]
[806,"Другие вопросы в области культуры, кинематографии, средств массовой информации","012","08","06",null,null,{"$f":"H877+H881+H884","v":749025}]
[806002,"Руководство и управление в сфере установленных функций органов государственной власти субъектов Российской Федерации  и органов местного самоуправления","012","08","06","002 00 00",null,{"$f":"H878","v":137533}]
[80600204,"Центральный аппарат","012","08","06","002 04 00",null,{"$f":"SUM(H879:H880)","v":137533}]
[80600204012,"Выполнение функций государственными органами","012","08","06","002 04 00","012",136783]
[80600204902,"Проведение мероприятий по защите информации, обеспечению безопасности информационных систем и баз данных, содержащих конфиденциальную информацию, в том числе персональные данные населения Московской области","012","08","06","002 04 00",902,750]
[806450,"Мероприятия в сфере культуры, кинематографии, средств массовой информации","012","08","06","450 00 00",null,{"$f":"H882","v":15060}]
[80645085,"Государственная поддержка в сфере культуры, кинематографии, средств массовой информации","012","08","06","450 85 00",null,{"$f":"H883","v":15060}]
[80645085012,"Выполнение функций государственными органами","012","08","06","450 85 00","012",15060]
[806451,"Информационные агентства","012","08","06","451 00 00",null,{"$f":"H885","v":596432}]
[80645199,"Обеспечение деятельности подведомственных учреждений","012","08","06","451 99 00",null,{"$f":"H886","v":596432}]
[80645199001,"Выполнение функций бюджетными учреждениями","012","08","06","451 99 00","001",596432]
[]
[0,"Министерство здравоохранения  Московской  области","013",null,null,null,null,{"$f":"H889+H894+H899+H904+H909+H943","v":18192454}]
[1,"Общегосударственные вопросы","013","01",null,null,null,{"$f":"H890","v":550}]
[108,"Международные отношения и международное сотрудничество","013","01","08",null,null,{"$f":"H891","v":550}]
[108522,"Региональные целевые программы","013","01","08","522 00 00",null,{"$f":"H892","v":550}]
[10852209,"Областная целевая программа \"Поддержка Московской областью соотечественников за рубежом на 2007-2010 годы\"","013","01","08","522 09 00",null,{"$f":"H893","v":550}]
[10852209012,"Выполнение функций государственными органами","013","01","08","522 09 00","012",550]
[2,"Национальная оборона","013","02",null,null,null,{"$f":"H895","v":260}]
[204,"Мобилизационная подготовка экономики","013","02","04",null,null,{"$f":"H896","v":260}]
[204209,"Реализация государственных функций по мобилизационной подготовке экономики","013","02","04","209 00 00",null,{"$f":"H897","v":260}]
[20420901,"Мероприятия по обеспечению  мобилизационной готовности экономики","013","02","04","209 01 00",null,{"$f":"H898","v":260}]
[20420901012,"Выполнение функций государственными органами","013","02","04","209 01 00","012",260]
[3,"Национальная безопасность и правоохранительная деятельность","013","03",null,null,null,{"$f":"H900","v":5327}]
[309,"Защита населения и территории от последствий чрезвычайных ситуаций природного и техногенного характера, гражданская оборона ","013","03","09",null,null,{"$f":"H901","v":5327}]
[309219,"Мероприятия по гражданской обороне","013","03","09","219 00 00",null,{"$f":"H902","v":5327}]
[30921901,"Подготовка населения и организаций к действиям в чрезвычайной ситуации в мирное и военное время","013","03","09","219 01 00",null,{"$f":"H903","v":5327}]
[30921901012,"Выполнение функций государственными органами","013","03","09","219 01 00","012",5327]
[4,"Национальная экономика","013","04",null,null,null,{"$f":"H905","v":40000}]
[412,"Другие вопросы в области национальной экономики","013","04",12,null,null,{"$f":"H906","v":40000}]
[412340,"Реализация государственных функций в области национальной экономики","013","04",12,"340 00 00",null,{"$f":"H907","v":40000}]
[41234004,"Мероприятия в области гражданской промышленности","013","04",12,"340 04 00",null,{"$f":"H908","v":40000}]
[41234004006,"Субсидии юридическим лицам","013","04",12,"340 04 00","006",40000]
[7,"Образование","013","07",null,null,null,{"$f":"H910+H928+H935+H939","v":767038}]
[704,"Среднее профессиональное образование","013","07","04",null,null,{"$f":"H911","v":604633}]
[704427,"Средние специальные учебные заведения","013","07","04","427 00 00",null,{"$f":"H912","v":604633}]
[70442799,"Обеспечение деятельности подведомственных учреждений","013","07","04","427 99 00",null,{"$f":"H913+H915+H917+H919+H921+H923+H925+H927","v":604633}]
[7044279901,"Выплаты стипендий и прочие расходы стипендиального фонда в средних специальных учебных заведениях","013","07","04","427 99 01",null,{"$f":"H914","v":35126}]
[7044279901001,"Выполнение функций бюджетными учреждениями","013","07","04","427 99 01","001",35126]
[7044279902,"Обеспечение питанием учащихся средних специальных учебных заведений","013","07","04","427 99 02",null,{"$f":"H916","v":5302}]
[7044279902001,"Выполнение функций бюджетными учреждениями","013","07","04","427 99 02","001",5302]
[7044279904,"Единовременное денежное пособие детям-сиротам - выпускникам областных образовательных учрежедний*","013","07","04","427 99 04",null,{"$f":"H918","v":2340}]
[7044279904001,"Выполнение функций бюджетными учреждениями","013","07","04","427 99 04","001",2340]
[7044279907,"Бесплатный проезд детей-сирот и детей, оставшихся без попечения родителей, обучающихся в государственных образовательных учреждениях Московской области*","013","07","04","427 99 07",null,{"$f":"H920","v":421}]
[7044279907001,"Выполнение функций бюджетными учреждениями","013","07","04","427 99 07","001",421]
[7044279908,"Ежемесячные стипендии Губернатора Московской области детям-сиротам, обучающимся в образовательных учреждениях среднего профессионального образования*","013","07","04","427 99 08",null,{"$f":"H922","v":8424}]
[7044279908001,"Выполнение функций бюджетными учреждениями","013","07","04","427 99 08","001",8424]
[7044279912,"Частичная компенсация стоимости питания  обучающихся в средних специальных учебных заведений*","013","07","04","427 99 12",null,{"$f":"H924","v":5794}]
[7044279912001,"Выполнение функций бюджетными учреждениями","013","07","04","427 99 12","001",5794]
[7044279999,"Другие расходы на содержание средних специальных учебных заведений","013","07","04","427 99 99",null,{"$f":"H926","v":546362}]
[7044279999001,"Выполнение функций бюджетными учреждениями","013","07","04","427 99 99","001",546362]
[70442799910,"Финансирование расходов, осуществляемое за счет средств, поступающих от сдачи в аренду имущества, закрепленного за государственными организациями","013","07","04","427 99 00",910,864]
[705,"Профессиональная подготовка, переподготовка и повышение квалификации","013","07","05",null,null,{"$f":"H929","v":134382}]
[705429,"Учебные заведения и курсы по переподготовке кадров","013","07","05","429 00 00",null,{"$f":"H930","v":134382}]
[70542999,"Обеспечение деятельности подведомственных учреждений","013","07","05","429 99 00",null,{"$f":"H931+H933","v":134382}]
[7054299901,"Выплаты стипендий и прочие расходы стипендиального фонда в учебных заведениях и курсах о переподготовке кадров","013","07","05","429 99 01",null,{"$f":"H932","v":2214}]
[7054299901001,"Выполнение функций бюджетными учреждениями","013","07","05","429 99 01","001",2214]
[7054299999,"Другие расходы на содержание учебных заведений и курсов по переподготовке, повышению кадров","013","07","05","429 99 99",null,{"$f":"H934","v":132168}]
[7054299999001,"Выполнение функций бюджетными учреждениями","013","07","05","429 99 99","001",132168]
[707,"Молодежная политика и оздоровление детей","013","07","07",null,null,{"$f":"H936","v":1375}]
[707432,"Мероприятия по проведению оздоровительной кампании детей ","013","07","07","432 00 00",null,{"$f":"H937","v":1375}]
[70743202,"Оздоровление детей ","013","07","07","432 02 00",null,{"$f":"H938","v":1375}]
[70743202001,"Выполнение функций бюджетными учреждениями","013","07","07","432 02 00","001",1375]
[709,"Другие вопросы в области образования","013","07","09",null,null,{"$f":"H940","v":26648}]
[709806,"Прочие расходы, не отнесенные к другим целевым статьям","013","07","09","806 00 00",null,{"$f":"H941","v":26648}]
[70980601,"Подготовка врачебных кадров","013","07","09","806 01 00",null,{"$f":"H942","v":26648}]
[70980601013,"Прочие расходы","013","07","09","806 01 00","013",26648]
[9,"Здравоохранение, физическая культура и спорт","013","09",null,null,null,{"$f":"H944+H971+H980+H997+H1006+H1013","v":17379279}]
[901,"Стационарная медицинская помощь","013","09","01",null,null,{"$f":"H945+H948+H956+H964","v":13427421}]
[901100,"Федеральные целевые программы","013","09","01","100 00 00",null,{"$f":"H946","v":0}]
[90110059,"Федеральная целевая программа \"Повышение безопасности дорожного движения в 2006 - 2012 годах\"","013","09","01","100 59 00",null,{"$f":"H947","v":0}]
[90110059213,"Строительство объектов для нужд отрасли","013","09","01","100 59 00",213]
[901469,"Учреждения, обеспечивающие предоставление услуг в сфере здравоохранения","013","09","01","469 00 00",null,{"$f":"H949","v":796356}]
[90146999,"Обеспечение деятельности подведомственных учреждений","013","09","01","469 99 00",null,{"$f":"H950+H952+H954","v":796356}]
[9014699901,"Приобретение медикаментов для учреждений, обеспечивающих предоставление услуг в сфере здравоохранения","013","09","01","469 99 01",null,{"$f":"H951","v":16352}]
[9014699901001,"Выполнение функций бюджетными учреждениями","013","09","01","469 99 01","001",16352]
[9014699902,"Приобретение продуктов питания  для учреждений, обеспечивающих предоставление услуг в сфере здравоохранения","013","09","01","469 99 02",null,{"$f":"H953","v":2827}]
[9014699902001,"Выполнение функций бюджетными учреждениями","013","09","01","469 99 02","001",2827]
[9014699999,"Другие расходы на содержание и обеспечение деятельности учреждениий, обеспечивающих предоставление услуг в сфере здравоохранения","013","09","01","469 99 99",null,{"$f":"H955","v":777177}]
[9014699999001,"Выполнение функций бюджетными учреждениями","013","09","01","469 99 99","001",777177]
[901470,"Больницы, клиники, госпитали, медико-санитарные части","013","09","01","470 00 00",null,{"$f":"H957","v":6956302}]
[90147099,"Обеспечение деятельности подведомственных учреждений","013","09","01","470 99 00",null,{"$f":"H958+H960+H962","v":6956302}]
[9014709901,"Приобретение медикаментов для больниц, клиник, госпиталей, медико-санитарных частей","013","09","01","470 99 01",null,{"$f":"H959","v":464887}]
[9014709901001,"Выполнение функций бюджетными учреждениями","013","09","01","470 99 01","001",464887]
[9014709902,"Приобретение продуктов питания для больниц, клиник, госпиталей, медико-санитарных частей","013","09","01","470 99 02",null,{"$f":"H961","v":300192}]
[9014709902001,"Выполнение функций бюджетными учреждениями","013","09","01","470 99 02","001",300192]
[9014709999,"Другие расходы на содержание и обеспечение деятельности больниц, клиник, госпиталей, медико-санитарных частей","013","09","01","470 99 99",null,{"$f":"H963","v":6191223}]
[9014709999001,"Выполнение функций бюджетными учреждениями","013","09","01","470 99 99","001",6191223]
[901485,"Реализация государственных функций в области здравоохранения, спорта и туризма","013","09","01","485 00 00",null,{"$f":"H965+H967+H969","v":5674763}]
[90148510,"Централизованные закупки лекарственных средств, предназначенных для лечения больных гемофилией, муковисцидозом, гипофизарным нанизмом, болезнью Гоше, миелолейкозом, рассеянным склерозом, а также после трансплантации органов и (или) тканей","013","09","01","485 10 00",null,{"$f":"H966","v":4655565}]
[90148510012,"Выполнение функций государственными органами","013","09","01","485 10 00","012",4655565]
[90148577,"Централизованные закупки медикаментов и медицинского оборудования","013","09","01","485 77 00",null,{"$f":"H968","v":0}]
[90148577012,"Выполнение функций государственными органами","013","09","01","485 77 00","012",{"$f":"1764725+2890840-4655565","v":0}]
[90148597,"Мероприятия в области здравоохранения, спорта и физической культуры, туризма","013","09","01","485 97 00",null,{"$f":"H970","v":1019198}]
[90148597001,"Выполнение функций бюджетными учреждениями","013","09","01","485 97 00","001",1019198]
[902,"Амбулаторная помощь","013","09","02",null,null,{"$f":"H972","v":662232},{"$f":"H971-(H975+H977+H979)","v":0}]
[902471,"Поликлиники, амбулатории, диагностические центры","013","09","02","471 00 00",null,{"$f":"H973","v":662232}]
[90247199,"Обеспечение деятельности подведомственных учреждений","013","09","02","471 99 00",null,{"$f":"H974+H976+H978","v":662232}]
[9024719901,"Приобретение медикаментов для поликлиник, амбулаторий, диагностических центров","013","09","02","471 99 01",null,{"$f":"H975","v":36428}]
[9024719901001,"Выполнение функций бюджетными учреждениями","013","09","02","471 99 01","001",36428]
[9024719902,"Приобретение продуктов питания для поликлиник, амбулаторий, диагностических центров","013","09","02","471 99 02",null,{"$f":"H977","v":547}]
[9024719902001,"Выполнение функций бюджетными учреждениями","013","09","02","471 99 02","001",547]
[9024719999,"Другие расходы на содержание и обеспечение деятельности поликлиник, амбулаторий, диагностических центров","013","09","02","471 99 99",null,{"$f":"H979","v":625257}]
[9024719999001,"Выполнение функций бюджетными учреждениями","013","09","02","471 99 99","001",625257]
[905,"Санаторно-оздоровительная помощь","013","09","05",null,null,{"$f":"H981+H989","v":724098},{"$f":"H980-(H984+H986+H988+H992+H994+H996)","v":0}]
[905473,"Санатории для больных туберкулезом","013","09","05","473 00 00",null,{"$f":"H982","v":411598}]
[90547399,"Обеспечение деятельности подведомственных учреждений","013","09","05","473 99 00",null,{"$f":"H983+H985+H987","v":411598}]
[9054739901,"Приобретение медикаментов для санаториев для больных туберкулезом","013","09","05","473 99 01",null,{"$f":"H984","v":7560}]
[9054739901001,"Выполнение функций бюджетными учреждениями","013","09","05","473 99 01","001",7560]
[9054739902,"Приобретение продуктов питания для санаториев для больных туберкулезом","013","09","05","473 99 02",null,{"$f":"H986","v":31232}]
[9054739902001,"Выполнение функций бюджетными учреждениями","013","09","05","473 99 02","001",31232]
[9054739999,"Другие расходы на содержание и обеспечение деятельности санаториев для больных туберкулезом","013","09","05","473 99 99",null,{"$f":"H988","v":372806}]
[9054739999001,"Выполнение функций бюджетными учреждениями","013","09","05","473 99 99","001",372806]
[905474,"Санатории для детей и подростков","013","09","05","474 00 00",null,{"$f":"H990","v":312500}]
[90547499,"Обеспечение деятельности подведомственных учреждений","013","09","05","474 99 00",null,{"$f":"H991+H993+H995","v":312500}]
[9054749901,"Приобретение медикаментов для санаториев для детей и подростков ","013","09","05","474 99 01",null,{"$f":"H992","v":3254}]
[9054749901001,"Выполнение функций бюджетными учреждениями","013","09","05","474 99 01","001",3254]
[9054749902,"Приобретение продуктов питания для санаториев для детей и подростков ","013","09","05","474 99 02",null,{"$f":"H994","v":24056}]
[9054749902001,"Выполнение функций бюджетными учреждениями","013","09","05","474 99 02","001",24056]
[9054749999,"Другие расходы на содержание и обеспечение деятельности санаториев для детей и подростков ","013","09","05","474 99 99",null,{"$f":"H996","v":285190}]
[9054749999001,"Выполнение функций бюджетными учреждениями","013","09","05","474 99 99","001",285190]
[906,"Заготовка, переработка, хранение и обеспечение безопасности донорской крови и её компонентов","013","09","06",null,null,{"$f":"H998","v":377981},{"$f":"H997-H1001-H1003-H1005","v":0}]
[906472,"Центры, станции и отделения переливания крови","013","09","06","472 00 00",null,{"$f":"H999","v":377981}]
[90647299,"Обеспечение деятельности подведомственных учреждений","013","09","06","472 99 00",null,{"$f":"H1000+H1002+H1004","v":377981}]
[9064729901,"Приобретение медикаментов для центров, станций и отделений переливания крови","013","09","06","472 99 01",null,{"$f":"H1001","v":91228}]
[9064729901001,"Выполнение функций бюджетными учреждениями","013","09","06","472 99 01","001",91228]
[9064729902,"Приобретение продуктов питания для для центров, станций и отделений переливания крови","013","09","06","472 99 02",null,{"$f":"H1003","v":356}]
[9064729902001,"Выполнение функций бюджетными учреждениями","013","09","06","472 99 02","001",356]
[9064729999,"Другие расходы на содержание и обеспечение деятельности  центров, станций и отделений переливания крови","013","09","06","472 99 99",null,{"$f":"H1005","v":286397}]
[9064729999001,"Выполнение функций бюджетными учреждениями","013","09","06","472 99 99","001",286397]
[909,"Прикладные научные исследования в области здравоохранения, физической культуры и спорта","013","09","09",null,null,{"$f":"H1007","v":269728},{"$f":"H1006-H1010-H1012","v":0}]
[909081,"Прикладные научные исследования и разработки","013","09","09","081 00 00",null,{"$f":"H1008","v":269728}]
[90908199,"Обеспечение деятельности подведомственных учреждений","013","09","09","081 99 00",null,{"$f":"H1009+H1011","v":269728}]
[9090819901,"Выплата стипендий ординаторам и аспирантам научных учреждений","013","09","09","081 99 01",null,{"$f":"H1010","v":7395}]
[9090819901001,"Выполнение функций бюджетными учреждениями","013","09","09","081 99 01","001",7395]
[9090819999,"Другие расходы на содержание научных учреждений","013","09","09","081 99 99",null,{"$f":"H1012","v":262333}]
[9090819999001,"Выполнение функций бюджетными учреждениями","013","09","09","081 99 99","001",262333]
[910,"Другие вопросы в области здравоохранения, физической культуры и спорта","013","09",10,null,null,{"$f":"H1014+H1017+H1023+H1031+H1058+H1067","v":1917819},{"$f":"H1013-(H1016+H1022+H1026+H1028+H1030+H1034+H1036+H1039+H1041+H1043+H1045+H1047+H1049+H1051+H1053+H1055+H1057+H1060+H1062+H1064+H1068)","v":0}]
[910002,"Руководство и управление в сфере установленных функций органов государственной власти субъектов Российской Федерации  и органов местного самоуправления","013","09",10,"002 00 00",null,{"$f":"H1015","v":150268}]
[91000204,"Центральный аппарат","013","09",10,"002 04 00",null,{"$f":"H1016","v":150268}]
[91000204012,"Выполнение функций государственными органами","013","09",10,"002 04 00","012",150268]
[910485,"Реализация государственных функций в области здравоохранения, спорта и туризма","013","09",10,"485 00 00",null,{"$f":"H1018+H1020","v":4470}]
[91048577,"Централизованные закупки медикаментов и медицинского оборудования","013","09",10,"485 77 00",null,{"$f":"H1019","v":0}]
[91048577012,"Выполнение функций государственными органами","013","09",10,"485 77 00","012",{"$f":"1764725-1764725","v":0}]
[91048597,"Мероприятия в области здравоохранения, спорта и физической культуры, туризма","013","09",10,"485 97 00",null,{"$f":"H1021+H1022","v":4470}]
[91048597001,"Выполнение функций бюджетными учреждениями","013","09",10,"485 97 00","001",{"$f":"1019198-1019198","v":0}]
[91048597079,"Мероприятия в области здравоохранения, спорта и физической культуры","013","09",10,"485 97 00","079",{"$f":"975739-971269","v":4470}]
[910486,"Дома ребенка","013","09",10,"486 00 00",null,{"$f":"H1024","v":545947}]
[91048699,"Обеспечение деятельности подведомственных учреждений","013","09",10,"486 99 00",null,{"$f":"H1025+H1027+H1029","v":545947}]
[9104869901,"Приобретение медикаментов для домов ребенка","013","09",10,"486 99 01",null,{"$f":"H1026","v":2424}]
[9104869901001,"Выполнение функций бюджетными учреждениями","013","09",10,"486 99 01","001",2424]
[9104869902,"Приобретение продуктов питания для домов ребенка","013","09",10,"486 99 02",null,{"$f":"H1028","v":56969}]
[9104869902001,"Выполнение функций бюджетными учреждениями","013","09",10,"486 99 02","001",56969]
[9104869999,"Другие расходы на содержание и обеспечение деятельности домов ребенка","013","09",10,"486 99 99",null,{"$f":"H1030","v":486554}]
[9104869999001,"Выполнение функций бюджетными учреждениями","013","09",10,"486 99 99","001",486554]
[910522,"Региональные целевые программы","013","09",10,"522 00 00",null,{"$f":"H1032+H1035+H1037","v":1144219}]
[91052210,"Областная целевая программа \"Обеспечение безопасности дорожного движения на территории Московской области в 2007-2010 годах\"","013","09",10,"522 10 00",null,{"$f":"H1033","v":43200}]
[9105221004,"Раздел \"Совершенствование контрольно-надзорной деятельности и деятельности по ликвидации последствий и снижению тяжести ДТП\"","013","09",10,"522 10 04",null,{"$f":"H1034","v":43200}]
[9105221004079,"Мероприятия в области здравоохранения, спорта и физической культуры","013","09",10,"522 10 04","079",43200]
[91052211,"Областная целевая программа \"Совершенствование медицинской помощи новорожденным, беременным женщинам и матерям в Московской области на период 2008-2011 годов\"","013","09",10,"522 11 00",null,{"$f":"H1036","v":129750}]
[91052211079,"Мероприятия в области здравоохранения, спорта и физической культуры","013","09",10,"522 11 00","079",129750]
[91052212,"Областная целевая программа \"Предупреждение и борьба с заболеваниями социального характера в Московской области на период 2008-2011 годов\"","013","09",10,"522 12 00",null,{"$f":"H1038+H1040+H1042+H1044+H1046+H1048+H1050+H1052+H1054+H1056","v":971269}]
[9105221201,"Подпрограмма \"Сахарный диабет\"","013","09",10,"522 12 01",null,{"$f":"H1039","v":117185}]
[9105221201079,"Мероприятия в области здравоохранения, спорта и физической культуры","013","09",10,"522 12 01","079",117185]
[9105221202,"Подпрограмма \"Неотложные меры борьбы с туберкулезом\"","013","09",10,"522 12 02",null,{"$f":"H1041","v":115250}]
[9105221202079,"Мероприятия в области здравоохранения, спорта и физической культуры","013","09",10,"522 12 02","079",115250]
[9105221203,"Подпрограмма \"О мерах по предупреждению распространения заболевания, вызываемого вирусом иммунодефицита человека (ВИЧ - инфекции)\"","013","09",10,"522 12 03",null,{"$f":"H1043","v":116027}]
[9105221203079,"Мероприятия в области здравоохранения, спорта и физической культуры","013","09",10,"522 12 03","079",116027]
[9105221204,"Подпрограмма \"О мерах по развитию онкологической помощи\"","013","09",10,"522 12 04",null,{"$f":"H1045","v":354630}]
[9105221204079,"Мероприятия в области здравоохранения, спорта и физической культуры","013","09",10,"522 12 04","079",354630]
[9105221205,"Подпрограмма \"О мерах по предупреждению дальнейшего распространения заболеваний, передаваемых половым путем\"","013","09",10,"522 12 05",null,{"$f":"H1047","v":3394}]
[9105221205079,"Мероприятия в области здравоохранения, спорта и физической культуры","013","09",10,"522 12 05","079",3394]
[9105221206,"Подпрограмма \"Вирусные гепатиты\"","013","09",10,"522 12 06",null,{"$f":"H1049","v":68500}]
[9105221206079,"Мероприятия в области здравоохранения, спорта и физической культуры","013","09",10,"522 12 06","079",68500]
[9105221207,"Подпрограмма \"Развитие психиатрической помощи\"","013","09",10,"522 12 07",null,{"$f":"H1051","v":131070}]
[9105221207079,"Мероприятия в области здравоохранения, спорта и физической культуры","013","09",10,"522 12 07","079",131070]
[9105221208,"Подпрограмма \"Вакцинопрофилактика\"","013","09",10,"522 12 08",null,{"$f":"H1053","v":34550}]
[9105221208079,"Мероприятия в области здравоохранения, спорта и физической культуры","013","09",10,"522 12 08","079",34550]
[9105221209,"Подпрограмма \"Профилактика и лечение артериальной гипертонии\"","013","09",10,"522 12 09",null,{"$f":"H1055","v":29125}]
[9105221209079,"Мероприятия в области здравоохранения, спорта и физической культуры","013","09",10,"522 12 09","079",29125]
[9105221210,"Подпрограмма \"Общая врачебная практика\"","013","09",10,"522 12 10",null,{"$f":"H1057","v":1538}]
[9105221210079,"Мероприятия в области здравоохранения, спорта и физической культуры","013","09",10,"522 12 10","079",1538]
[910803,"Расходы на страхование","013","09",10,"803 00 00",null,{"$f":"H1059+H1061+H1063+H1065","v":72665}]
[9108030001,"Расходы на страхование имущества, находящегося в государственной собственности Московской области","013","09",10,"803 00 01",null,{"$f":"H1060","v":64153}]
[9108030001013,"Прочие расходы","013","09",10,"803 00 01","013",64153]
[9108030002,"Расходы на страхование гражданской ответственности учреждений, находящихся в государственной собственности Московской области","013","09",10,"803 00 02",null,{"$f":"H1062","v":4928}]
[9108030002013,"Прочие расходы","013","09",10,"803 00 02","013",4928]
[9108030003,"Расходы на обязательное страхование гражданской ответственности владельцев транспортных средств","013","09",10,"803 00 03",null,{"$f":"H1064","v":3584}]
[9108030003013,"Прочие расходы","013","09",10,"803 00 03","013",3584]
[9108030005,"Расходы на страхование жизни и здоровья медицинских, фармацевтических и других работников государственных учреждений здравоохранения Московской области, работа которых связана с угрозой их жизни и здоровью","013","09",10,"803 00 05",null,{"$f":"H1066","v":0}]
[9108030005013,"Прочие расходы","013","09",10,"803 00 05","013",{"$f":"4704-4704","v":0}]
[910808,"Расходы на оценку имущества, подлежащего страхованию","013","09",10,"808 00 00",null,{"$f":"H1068","v":250}]
[910808013,"Прочие расходы","013","09",10,"808 00 00","013",250]
[]
[0,"Министерство образования Московской области ","014",null,null,null,null,{"$f":"H1071+H1076+H1081+H1086+H1288","v":15040672}]
[1,"Общегосударственные вопросы","014","01",null,null,null,{"$f":"H1072","v":1100}]
[108,"Международные отношения и международное сотрудничество","014","01","08",null,null,{"$f":"H1073","v":1100}]
[108522,"Региональные целевые программы","014","01","08","522 00 00",null,{"$f":"H1074","v":1100}]
[10852209,"Областная целевая программа \"Поддержка Московской областью соотечественников за рубежом на 2007-2010 годы\"","014","01","08","522 09 00",null,{"$f":"H1075","v":1100}]
[10852209012,"Выполнение функций государственными органами","014","01","08","522 09 00","012",1100]
[2,"Национальная оборона","014","02",null,null,null,{"$f":"H1077","v":520}]
[204,"Мобилизационная подготовка экономики","014","02","04",null,null,{"$f":"H1078","v":520}]
[204209,"Реализация государственных функций по мобилизационной подготовке экономики","014","02","04","209 00 00",null,{"$f":"H1079","v":520}]
[20420901,"Мероприятия по обеспечению  мобилизационной готовности экономики","014","02","04","209 01 00",null,{"$f":"H1080","v":520}]
[20420901012,"Выполнение функций государственными органами","014","02","04","209 01 00","012",520]
[3,"Национальная безопасность и правоохранительная деятельность","014","03",null,null,null,{"$f":"H1082","v":6650}]
[309,"Защита населения и территории от последствий чрезвычайных ситуаций природного и техногенного характера, гражданская оборона ","014","03","09",null,null,{"$f":"H1083","v":6650}]
[309219,"Мероприятия по гражданской обороне","014","03","09","219 00 00",null,{"$f":"H1084","v":6650}]
[30921901,"Подготовка населения и организаций к действиям в чрезвычайной ситуации в мирное и военное время","014","03","09","219 01 00",null,{"$f":"H1085","v":6650}]
[30921901012,"Выполнение функций государственными органами","014","03","09","219 01 00","012",6650]
[7,"Образование","014","07",null,null,null,{"$f":"H1087+H1094+H1156+H1178+H1196+H1205+H1227+H1231+H1235","v":12224640}]
[701,"Дошкольное образование","014","07","01",null,null,{"$f":"H1088","v":45109}]
[701420,"Детские дошкольные учреждения","014","07","01","420 00 00",null,{"$f":"H1089","v":45109}]
[70142099,"Обеспечение деятельности подведомственных учреждений","014","07","01","420 99 00",null,{"$f":"H1090+H1092","v":45109}]
[7014209902,"Обеспечение питанием воспитанников детских дошкольных учреждений","014","07","01","420 99 02",null,{"$f":"H1091","v":6031}]
[7014209902001,"Выполнение функций бюджетными учреждениями","014","07","01","420 99 02","001",6031]
[7014209999,"Другие расходы на содержание детских дошкольных учреждений","014","07","01","420 99 99",null,{"$f":"H1093","v":39078}]
[7014209999001,"Выполнение функций бюджетными учреждениями","014","07","01","420 99 99","001",39078]
[702,"Общее образование","014","07","02",null,null,{"$f":"H1095+H1109+H1123+H1127+H1137+H1151","v":932483}]
[702421,"Школы-детские сады, школы начальные, неполные средние и средние ","014","07","02","421 00 00",null,{"$f":"H1096+H1098","v":230652}]
[70242103,"Поощрение лучших учителей","014","07","02","421 03 00",null,{"$f":"H1097","v":0}]
[70242103012,"Выполнение функций государственными органами","014","07","02","421 03 00","012",{"$f":"35100-35100","v":0}]
[70242199,"Обеспечение деятельности подведомственных учреждений","014","07","02","421 99 00",null,{"$f":"H1099+H1101+H1103+H1105+H1107","v":230652}]
[7024219902,"Обеспечение питанием учащихся школ-детских садов, школ начальных, неполных средних и средних ","014","07","02","421 99 02",null,{"$f":"H1100","v":9326}]
[7024219902001,"Выполнение функций бюджетными учреждениями","014","07","02","421 99 02","001",9326]
[7024219903,"Единовременное пособие учащимся образовательных учрежедний, продолжающим обучение* ","014","07","02","421 99 03",null,{"$f":"H1102","v":12}]
[7024219903001,"Выполнение функций бюджетными учреждениями","014","07","02","421 99 03","001",12]
[7024219905,"Ежемесячные денежные средства на личные расходы детем-сиротам и детям, оставшихся без попечения родителей, находящимся, воспитывающимся и обучающимся в областных образовательных учреждениях * ","014","07","02","421 99 05",null,{"$f":"H1104","v":22}]
[7024219905001,"Выполнение функций бюджетными учреждениями","014","07","02","421 99 05","001",22]
[7024219907,"Бесплатный проезд детей-сирот и детей, оставшихся без попечения родителей, обучающихся в государственных образовательных учреждениях Московской области*","014","07","02","421 99 07",null,{"$f":"H1106","v":225}]
[7024219907001,"Выполнение функций бюджетными учреждениями","014","07","02","421 99 07","001",225]
[7024219999,"Другие расходы на содержание школ-детских садов, школ начальных, неполных средних и средних, обеспечение и организацию учебного процесса ","014","07","02","421 99 99",null,{"$f":"H1108","v":221067}]
[7024219999001,"Выполнение функций бюджетными учреждениями","014","07","02","421 99 99","001",221067]
[702422,"Школы - интернаты","014","07","02","422 00 00",null,{"$f":"H1110","v":337493}]
[70242299,"Обеспечение деятельности подведомственных учреждений","014","07","02","422 99 00",null,{"$f":"H1111+H1113+H1115+H1117+H1119+H1121","v":337493}]
[7024229902,"Обеспечение питанием учащихся (воспитанников) школ-интернатов","014","07","02","422 99 02",null,{"$f":"H1112","v":40703}]
[7024229902001,"Выполнение функций бюджетными учреждениями","014","07","02","422 99 02","001",{"$f":"14381+26322","v":40703}]
[7024229903,"Единовременное пособие учащимся образовательных учрежедний, продолжающим обучение *","014","07","02","422 99 03",null,{"$f":"H1114","v":48}]
[7024229903001,"Выполнение функций бюджетными учреждениями","014","07","02","422 99 03","001",48]
[7024229904,"Единовременное денежное пособие детям-сиротам - выпускникам областных образовательных учрежедний*","014","07","02","422 99 04",null,{"$f":"H1116","v":100}]
[7024229904001,"Выполнение функций бюджетными учреждениями","014","07","02","422 99 04","001",{"$f":"80+20","v":100}]
[7024229905,"Ежемесячные денежные средства на личные расходы детям-сиротам и детям, оставшихся без попечения родителей, находящимся, воспитывающимся и обучающимся в областных образовательных учреждениях*  ","014","07","02","422 99 05",null,{"$f":"H1118","v":434}]
[7024229905001,"Выполнение функций бюджетными учреждениями","014","07","02","422 99 05","001",{"$f":"36+398","v":434}]
[7024229907,"Бесплатный проезд детей-сирот и детей, оставшихся без попечения родителей, обучающихся в государственных образовательных учреждениях Московской области*","014","07","02","422 99 07",null,{"$f":"H1120","v":608}]
[7024229907001,"Выполнение функций бюджетными учреждениями","014","07","02","422 99 07","001",608]
[7024229999,"Другие расходы на содержание школ-интернатов, обеспечение и организацию учебного процесса ","014","07","02","422 99 99",null,{"$f":"H1122","v":295600}]
[7024229999001,"Выполнение функций бюджетными учреждениями","014","07","02","422 99 99","001",{"$f":"42363+253237","v":295600}]
[702423,"Учреждения по внешкольной работе с детьми","014","07","02","423 00 00",null,{"$f":"H1124","v":44937}]
[70242399,"Обеспечение деятельности подведомственных учреждений","014","07","02","423 99 00",null,{"$f":"H1125","v":44937}]
[7024239999,"Другие расходы на содержание учреждений по внешкольной работе с детьми ","014","07","02","423 99 99",null,{"$f":"H1126","v":44937}]
[7024239999001,"Выполнение функций бюджетными учреждениями","014","07","02","423 99 99","001",44937]
[702424,"Детские дома","014","07","02","424 00 00",null,{"$f":"H1128","v":282617}]
[70242499,"Обеспечение деятельности подведомственных учреждений","014","07","02","424 99 00",null,{"$f":"H1129+H1131+H1133+H1135","v":282617}]
[7024249902,"Обеспечение питанием воспитанников детских домов","014","07","02","424 99 02",null,{"$f":"H1130","v":26245}]
[7024249902001,"Выполнение функций бюджетными учреждениями","014","07","02","424 99 02","001",26245]
[7024249903,"Еединовременное пособие учащимся образовательных учрежедний, продолжающим обучение *","014","07","02","424 99 03",null,{"$f":"H1132","v":72}]
[7024249903001,"Выполнение функций бюджетными учреждениями","014","07","02","424 99 03","001",72]
[7024249905,"Ежемесячные денежные средства на личные расходы детем-сиротам и детям, оставшихся без попечения родителей, находящимся, воспитывающимся и обучающимся в областных образовательных учреждениях*  ","014","07","02","424 99 05",null,{"$f":"H1134","v":993}]
[7024249905001,"Выполнение функций бюджетными учреждениями","014","07","02","424 99 05","001",993]
[7024249999,"Другие расходы на содержание детских домов, обеспечение и организацию учебного процесса ","014","07","02","424 99 99",null,{"$f":"H1136","v":255307}]
[7024249999001,"Выполнение функций бюджетными учреждениями","014","07","02","424 99 99","001",255307]
[702433,"Специальные (коррекционные) учреждения","014","07","02","433 00 00",null,{"$f":"H1138","v":0}]
[70243399,"Обеспечение деятельности подведомственных учреждений","014","07","02","433 99 00",null,{"$f":"H1139+H1141+H1143+H1145+H1147+H1149","v":0}]
[7024339902,"Обеспечение питанием учащихся (воспитанников) специальных (коррекционных) учреждений","014","07","02","433 99 02",null,{"$f":"H1140","v":0}]
[7024339902001,"Выполнение функций бюджетными учреждениями","014","07","02","433 99 02","001",{"$f":"34443-34443","v":0}]
[7024339903,"Единовременное пособие учащимся образовательных учрежедний, продолжающим обучение *","014","07","02","433 99 03",null,{"$f":"H1142","v":0}]
[7024339903001,"Выполнение функций бюджетными учреждениями","014","07","02","433 99 03","001",{"$f":"48-48","v":0}]
[7024339904,"Единовременное денежное пособие детям-сиротам - выпускникам областных образовательных учрежедний*","014","07","02","433 99 04",null,{"$f":"H1144","v":0}]
[7024339904001,"Выполнение функций бюджетными учреждениями","014","07","02","433 99 04","001",{"$f":"20-20","v":0}]
[7024339905,"Ежемесячные денежные средства на личные расходы детем-сиротам и детям, оставшихся без попечения родителей, находящимся, воспитывающимся и обучающимся в областных образовательных учреждениях*  ","014","07","02","433 99 05",null,{"$f":"H1146","v":0}]
[7024339905001,"Выполнение функций бюджетными учреждениями","014","07","02","433 99 05","001",{"$f":"398-398","v":0}]
[7024339907,"Бесплатный проезд детей-сирот и детей, оставшихся без попечения родителей, обучающихся в государственных образовательных учреждениях Московской области*","014","07","02","433 99 07",null,{"$f":"H1148","v":0}]
[7024339907001,"Выполнение функций бюджетными учреждениями","014","07","02","433 99 07","001",{"$f":"608-608","v":0}]
[7024339999,"Другие расходы на содержание специальных (коррекционных) учреждений, обеспечение и организацию учебного процесса ","014","07","02","433 99 99",null,{"$f":"H1150","v":0}]
[7024339999001,"Выполнение функций бюджетными учреждениями","014","07","02","433 99 99","001",{"$f":"330724-330724","v":0}]
[702520,"Иные безвозмездные и безвозвратные перечисления","014","07","02","520 00 00",null,{"$f":"H1152+H1154","v":36784}]
[70252009,"Ежемесячное денежное вознаграждение за классное руководство","014","07","02","520 09 00",null,{"$f":"H1153","v":884}]
[70252009001,"Выполнение функций бюджетными учреждениями","014","07","02","520 09 00","001",884]
[70252011,"Поощрение лучших учителей","014","07","02","520 11 00",null,{"$f":"H1155","v":35900}]
[70252011012,"Выполнение функций государственными органами","014","07","02","520 11 00","012",35900]
[703,"Начальное профессиональное образование","014","07","03",null,null,{"$f":"H1157","v":4630807}]
[703425,"Профессионально-технические училища","014","07","03","425 00 00",null,{"$f":"H1158","v":4630807}]
[70342599,"Обеспечение деятельности подведомственных учреждений","014","07","03","425 99 00",null,{"$f":"H1159+H1161+H1163+H1165+H1167+H1169+H1171+H1173+H1175+H1177","v":4630807}]
[7034259901,"Выплата стипендий и другие расходы из степиндиального фонда в профессионально-технических училищах","014","07","03","425 99 01",null,{"$f":"H1160","v":313617}]
[7034259901001,"Выполнение функций бюджетными учреждениями","014","07","03","425 99 01","001",313617]
[7034259902,"Обеспечение питанием учащихся профессионально-технических училищ","014","07","03","425 99 02",null,{"$f":"H1162","v":486591}]
[7034259902001,"Выполнение функций бюджетными учреждениями","014","07","03","425 99 02","001",486591]
[7034259903,"Единовременное пособие учащимся образовательных учрежедний, продолжающим обучение* ","014","07","03","425 99 03",null,{"$f":"H1164","v":174}]
[7034259903001,"Выполнение функций бюджетными учреждениями","014","07","03","425 99 03","001",174]
[7034259904,"Единовременное денежное пособие детям-сиротам - выпускникам областных образовательных учрежедний*","014","07","03","425 99 04",null,{"$f":"H1166","v":18700}]
[7034259904001,"Выполнение функций бюджетными учреждениями","014","07","03","425 99 04","001",18700]
[7034259906,"Проезд к месту учебы и обратно отдельных категорий обучающихся в государственных образовательных учреждениях Московской области*","014","07","03","425 99 06",null,{"$f":"H1168","v":19179}]
[7034259906001,"Выполнение функций бюджетными учреждениями","014","07","03","425 99 06","001",19179]
[7034259907,"Бесплатный проезд детей-сирот и детей, оставшихся без попечения родителей, обучающихся в государственных образовательных учреждениях Московской области*","014","07","03","425 99 07",null,{"$f":"H1170","v":15070}]
[7034259907001,"Выполнение функций бюджетными учреждениями","014","07","03","425 99 07","001",15070]
[7034259909,"Ежемесячные выплаты к стипендиям детям-сиротам, обучающимся в учреждениях начального профессионального образования Московской области* ","014","07","03","425 99 09",null,{"$f":"H1172","v":83840}]
[7034259909001,"Выполнение функций бюджетными учреждениями","014","07","03","425 99 09","001",83840]
[7034259910,"Ежегодная материальная помощь детям-сиротам, обучающимся в учреждениях начального профессионального образования Московской области на приобретение предметов первой необходимости*","014","07","03","425 99 10",null,{"$f":"H1174","v":5240}]
[7034259910001,"Выполнение функций бюджетными учреждениями","014","07","03","425 99 10","001",5240]
[7034259999,"Другие расходы на содержание профессионально-технических училищ, обеспечение и организацию учебного процесса ","014","07","03","425 99 99",null,{"$f":"H1176","v":3673198}]
[7034259999001,"Выполнение функций бюджетными учреждениями","014","07","03","425 99 99","001",3673198]
[70342599910,"Финансирование расходов, осуществляемое за счет средств, поступающих от сдачи в аренду имущества, закрепленного за государственными организациями","014","07","03","425 99 00",910,15198]
[704,"Среднее профессиональное образование","014","07","04",null,null,{"$f":"H1179","v":1647655}]
[704427,"Средние специальные учебные заведения","014","07","04","427 00 00",null,{"$f":"H1180","v":1647655}]
[70442799,"Обеспечение деятельности подведомственных учреждений","014","07","04","427 99 00",null,{"$f":"H1181+H1183+H1185+H1187+H1189+H1191+H1193+H1195","v":1647655}]
[7044279901,"Выплаты стипендий и прочие расходы стипендиального фонда в средних специальных учебных заведениях","014","07","04","427 99 01",null,{"$f":"H1182","v":114459}]
[7044279901001,"Выполнение функций бюджетными учреждениями","014","07","04","427 99 01","001",114459]
[7044279902,"Обеспечение питанием учащихся средних специальных учебных заведений","014","07","04","427 99 02",null,{"$f":"H1184","v":62805}]
[7044279902001,"Выполнение функций бюджетными учреждениями","014","07","04","427 99 02","001",62805]
[7044279903,"Единовременное пособие учащимся образовательных учрежедний, продолжающим обучение* ","014","07","04","427 99 03",null,{"$f":"H1186","v":8}]
[7044279903001,"Выполнение функций бюджетными учреждениями","014","07","04","427 99 03","001",8]
[7044279904,"Единовременное денежное пособие детям-сиротам - выпускникам областных образовательных учрежедний*","014","07","04","427 99 04",null,{"$f":"H1188","v":2840}]
[7044279904001,"Выполнение функций бюджетными учреждениями","014","07","04","427 99 04","001",2840]
[7044279907,"Бесплатный проезд детей-сирот и детей, оставшихся без попечения родителей, обучающихся в государственных образовательных учреждениях Московской области*","014","07","04","427 99 07",null,{"$f":"H1190","v":2026}]
[7044279907001,"Выполнение функций бюджетными учреждениями","014","07","04","427 99 07","001",2026]
[7044279912,"Частичная компенсация стоимости питания  обучающихся в средних специальных учебных заведений*","014","07","04","427 99 12",null,{"$f":"H1192","v":11863}]
[7044279912001,"Выполнение функций бюджетными учреждениями","014","07","04","427 99 12","001",11863]
[7044279999,"Другие расходы на содержание средних специальных учебных заведений","014","07","04","427 99 99",null,{"$f":"H1194","v":1451400}]
[7044279999001,"Выполнение функций бюджетными учреждениями","014","07","04","427 99 99","001",1451400]
[70442799910,"Финансирование расходов, осуществляемое за счет средств, поступающих от сдачи в аренду имущества, закрепленного за государственными организациями","014","07","04","427 99 00",910,2254]
[705,"Профессиональная подготовка, переподготовка и повышение квалификации","014","07","05",null,null,{"$f":"H1197","v":175682}]
[705428,"Институты повышения квалификации","014","07","05","428 00 00",null,{"$f":"H1198","v":175682}]
[70542899,"Обеспечение деятельности подведомственных учреждений","014","07","05","428 99 00",null,{"$f":"H1199+H1201+H1203","v":175682}]
[7054289901,"Выплата стипендий и другие расходы из степиндиального фонда в институтах повышения квалификации","014","07","05","428 99 01",null,{"$f":"H1200","v":378}]
[7054289901001,"Выполнение функций бюджетными учреждениями","014","07","05","428 99 01","001",378]
[7054289902,"Обеспечение питанием учащихся институтов повышения квалификации","014","07","05","428 99 02",null,{"$f":"H1202","v":31}]
[7054289902001,"Выполнение функций бюджетными учреждениями","014","07","05","428 99 02","001",31]
[7054289999,"Другие расходы на содержание институтов повышения квалификации, обеспечение и организацию учебного процесса  ","014","07","05","428 99 99",null,{"$f":"H1204","v":175273}]
[7054289999001,"Выполнение функций бюджетными учреждениями","014","07","05","428 99 99","001",175273]
[706,"Высшее профессиональное образование","014","07","06",null,null,{"$f":"H1206+H1221+H1224","v":2964257}]
[706430,"Высшие учебные заведения","014","07","06","430 00 00",null,{"$f":"H1207","v":2902746}]
[70643099,"Обеспечение деятельности подведомственных учреждений","014","07","06","430 99 00",null,{"$f":"H1208+H1210+H1212+H1214+H1216+H1218+H1220","v":2902746}]
[7064309901,"Выплата стипендий и другие расходы из степиндиального фонда в высших учебных заведениях","014","07","06","430 99 01",null,{"$f":"H1209","v":298346}]
[7064309901001,"Выполнение функций бюджетными учреждениями","014","07","06","430 99 01","001",298346]
[7064309902,"Обеспечение питанием студентов высших учебных заведений","014","07","06","430 99 02",null,{"$f":"H1211","v":15494}]
[7064309902001,"Выполнение функций бюджетными учреждениями","014","07","06","430 99 02","001",{"$f":"39321-23827","v":15494}]
[7064309904,"Единовременное денежное пособие детям-сиротам - выпускникам областных образовательных учрежедний*","014","07","06","430 99 04",null,{"$f":"H1213","v":580}]
[7064309904001,"Выполнение функций бюджетными учреждениями","014","07","06","430 99 04","001",580]
[7064309907,"Бесплатный проезд детей-сирот и детей, оставшихся без попечения родителей, обучающихся в государственных образовательных учреждениях Московской области*","014","07","06","430 99 07",null,{"$f":"H1215","v":561}]
[7064309907001,"Выполнение функций бюджетными учреждениями","014","07","06","430 99 07","001",561]
[7064309912,"Частичная компенсация стоимости питания  обучающихся в высших учебных заведениях*","014","07","06","430 99 12",null,{"$f":"H1217","v":23827}]
[7064309912001,"Выполнение функций бюджетными учреждениями","014","07","06","430 99 12","001",23827]
[7064309999,"Другие расходы на содержание высших учебных заведений, обеспечение и организацию учебного процесса  ","014","07","06","430 99 99",null,{"$f":"H1219","v":2563302}]
[7064309999001,"Выполнение функций бюджетными учреждениями","014","07","06","430 99 99","001",{"$f":"2564443-580-561","v":2563302}]
[70643099910,"Финансирование расходов, осуществляемое за счет средств, поступающих от сдачи в аренду имущества, закрепленного за государственными организациями","014","07","06","430 99 00",910,636]
[706436,"Мероприятия в области образования","014","07","06","436 00 00",null,{"$f":"H1222","v":40000}]
[70643611,"Государственная поддержка внедрения комплексных мер модернизации образования за счет средств бюджета Московской области","014","07","06","436 11 00",null,{"$f":"H1223","v":40000}]
[70643611001,"Выполнение функций бюджетными учреждениями","014","07","06","436 11 00","001",40000]
[706520,"Иные безвозмездные и безвозвратные перечисления","014","07","06","520 00 00",null,{"$f":"H1225","v":21511}]
[70652012,"Государственная поддержка внедрения комплексных мер модернизации образования ","014","07","06","520 12 00",null,{"$f":"H1226","v":21511}]
[70652012001,"Выполнение функций бюджетными учреждениями","014","07","06","520 12 00","001",21511]
[707,"Молодежная политика и оздоровление детей","014","07","07",null,null,{"$f":"H1228","v":285}]
[707432,"Мероприятия по организации оздоровительной кампании детей и подростков","014","07","07","432 00 00",null,{"$f":"H1229","v":285}]
[70743202,"Оздоровление детей ","014","07","07","432 02 00",null,{"$f":"H1230","v":285}]
[70743202001,"Выполнение функций бюджетными учреждениями","014","07","07","432 02 00","001",285]
[708,"Прикладные научные исследования в области образования","014","07","08",null,null,{"$f":"H1232","v":5625}]
[708081,"Прикладные научные исследования и разработки","014","07","08","081 00 00",null,{"$f":"H1233","v":5625}]
[70808199,"Обеспечение деятельности подведомственных учреждений","014","07","08","081 99 00",null,{"$f":"H1234","v":5625}]
[70808199001,"Выполнение функций бюджетными учреждениями","014","07","08","081 99 00","001",5625]
[709,"Другие вопросы в области образования","014","07","09",null,null,{"$f":"H1236+H1240+H1246+H1273+H1279+H1286","v":1822737}]
[709002,"Руководство и управление в сфере установленных функций органов государственной власти субъектов Российской Федерации  и органов местного самоуправления","014","07","09","002 00 00",null,{"$f":"H1237","v":788194}]
[70900204,"Центральный аппарат","014","07","09","002 04 00",null,{"$f":"SUM(H1238:H1239)","v":788194}]
[70900204012,"Выполнение функций государственными органами","014","07","09","002 04 00","012",787674]
[70900204902,"Проведение мероприятий по защите информации, обеспечению безопасности информационных систем и баз данных, содержащих конфиденциальную информацию, в том числе персональные данные населения Московской области","014","07","09","002 04 00",902,520]
[709435,"Учреждения, обеспечивающие предоставление услуг в сфере образования ","014","07","09","435 00 00",null,{"$f":"H1241","v":47569}]
[70943599,"Обеспечение деятельности подведомственных учреждений","014","07","09","435 99 00",null,{"$f":"H1242+H1244","v":47569}]
[7094359902,"Обеспечение питанием учащихся (воспитанников) учреждений, обеспечивающих предоставление услуг в сфере образования ","014","07","09","435 99 02",null,{"$f":"H1243","v":2090}]
[7094359902001,"Выполнение функций бюджетными учреждениями","014","07","09","435 99 02","001",2090]
[7094359999,"Другие расходы на содержание учреждений, обеспечивающих предоставление услуг в сфере образования  ","014","07","09","435 99 99",null,{"$f":"H1245","v":45479}]
[7094359999001,"Выполнение функций бюджетными учреждениями","014","07","09","435 99 99","001",{"$f":"7070+38409","v":45479}]
[709436,"Мероприятия в области образования","014","07","09","436 00 00",null,{"$f":"H1247+H1252+H1254+H1256+H1271","v":686124}]
[70943601,"Государственная поддержка в сфере образования ","014","07","09","436 01 00",null,{"$f":"H1248+H1250","v":21600}]
[7094360101,"Единовременное пособие выпускникам областных высших и средних педагогических образовательных  учреждений, направленных на работу в образовательные учреждения Московской области* ","014","07","09","436 01 01",null,{"$f":"H1249","v":16600}]
[7094360101001,"Выполнение функций бюджетными учреждениями","014","07","09","436 01 01","001",16600]
[7094360102,"Другие формы государственной поддержки в сфере образования ","014","07","09","436 01 02",null,{"$f":"H1251","v":5000}]
[7094360102001,"Выполнение функций бюджетными учреждениями","014","07","09","436 01 02","001",{"$f":"21600-16600","v":5000}]
[70943609,"Проведение мероприятий для детей и молодежи","014","07","09","436 09 00",null,{"$f":"H1253","v":55980}]
[70943609012,"Выполнение функций государственными органами","014","07","09","436 09 00","012",55980]
[70943611,"Поощрение лучших учителей","014","07","09","436 11 00",null,{"$f":"H1255","v":35100}]
[70943611012,"Выполнение функций государственными органами","014","07","09","436 11 00","012",35100]
[70943693,"Премии в области литературы и искусства, образования, печатных средств массовой информации, науки и техники и иные поощрения за особые заслуги перед государством","014","07","09","436 93 00",null,{"$f":"H1257+H1259+H1261+H1263+H1265+H1267+H1269","v":274445}]
[7094369301,"Выплата научных грантов Губернатора Московской области студентам, аспирантам и докторантам государственных высших образовательных учреждений, курсантам, адъюнктам высших военных учебных заведений, расположенных на территории Московской области*","014","07","09","436 93 01",null,{"$f":"H1258","v":820}]
[7094369301013,"Прочие расходы","014","07","09","436 93 01","013",820]
[7094369302,"Ежемесячные стипендии Губернатора Московской области детям-сиротам, обучающимся в образовательных учреждениях среднего и высшего профессионального образования*","014","07","09","436 93 02",null,{"$f":"H1260","v":212000}]
[7094369302013,"Прочие расходы","014","07","09","436 93 02","013",212000]
[7094369303,"Именные стипендии \"Подмосковье\"  студентам государственных высших образовательных учебных заведений, расположенных на территории Московской области, студентам государственных высших образовательных учебных заведений, подведомственных Министерству образования Московской области, курсантам и слушателям высших военных учебных заведений, расположенных на территории Московской области*","014","07","09","436 93 03",null,{"$f":"H1262","v":6720}]
[7094369303013,"Прочие расходы","014","07","09","436 93 03","013",6720]
[7094369304,"Ежемесячные именные стипендии \"Подмосковье\" детям-инвалидам, учащимся в образовательных учреждениях*","014","07","09","436 93 04",null,{"$f":"H1264","v":6000}]
[7094369304013,"Прочие расходы","014","07","09","436 93 04","013",6000]
[7094369305,"Именные стипендии Губернатора Московской области для детей и подростков, проявивших выдающиеся способности в области науки, искусства и спорта*","014","07","09","436 93 05",null,{"$f":"H1266","v":24000}]
[7094369305013,"Прочие расходы","014","07","09","436 93 05","013",24000]
[7094369306,"Именные премии Губернатора Московской области работникам образовательных учреждений в Московской области*","014","07","09","436 93 06",null,{"$f":"H1268","v":9000}]
[7094369306013,"Прочие расходы","014","07","09","436 93 06","013",9000]
[7094369307,"Другие премии в области литературы и искусства, образования, печатных средств массовой информации, науки и техники и иные поощрения за особые заслуги перед государством","014","07","09","436 93 07",null,{"$f":"H1270","v":15905}]
[7094369307013,"Прочие расходы","014","07","09","436 93 07","013",{"$f":"274445-820-212000-6720-6000-24000-9000","v":15905}]
[70943694,"Прочие мероприятия в области образования","014","07","09","436 94 00",null,{"$f":"H1272","v":298999}]
[70943694013,"Прочие расходы","014","07","09","436 94 00","013",{"$f":"348999-50000","v":298999}]
[709522,"Региональные целевые программы","014","07","09","522 00 00",null,{"$f":"H1274+H1276","v":220300}]
[70952206,"Областная целевая программа \"Развитие образования в Московской области на период 2006-2010 годов\"","014","07","09","522 06 00",null,{"$f":"H1275","v":205000}]
[70952206012,"Выполнение функций государственными органами","014","07","09","522 06 00","012",205000]
[70952210,"Областная целевая программа \"Обеспечение безопасности дорожного движения на территории Московской области в 2007-2010 годах\"","014","07","09","522 10 00",null,{"$f":"H1277","v":15300}]
[7095221001,"Раздел \"Предупреждение опасного поведения участников дорожного движения\"","014","07","09","522 10 01",null,{"$f":"H1278","v":15300}]
[7095221001012,"Выполнение функций государственными органами","014","07","09","522 10 01","012",15300]
[709803,"Расходы на страхование ","014","07","09","803 00 00",null,{"$f":"H1280+H1282+H1284","v":80300}]
[7098030001,"Расходы на страхование имущества, находящегося в государственной собственности Московской области","014","07","09","803 00 01",null,{"$f":"H1281","v":73000}]
[7098030001013,"Прочие расходы","014","07","09","803 00 01","013",73000]
[7098030002,"Расходы на страхование гражданской ответственности учреждений, находящихся в государственной собственности Московской области","014","07","09","803 00 02",null,{"$f":"H1283","v":2800}]
[7098030002013,"Прочие расходы","014","07","09","803 00 02","013",2800]
[7098030003,"Расходы на обязательное страхование гражданской ответственности владельцев транспортных средств","014","07","09","803 00 03",null,{"$f":"H1285","v":4500}]
[7098030003013,"Прочие расходы","014","07","09","803 00 03","013",4500]
[709808,"Расходы на оценку имущества, подлежащего страхованию","014","07","09","808 00 00",null,{"$f":"H1287","v":250}]
[709808013,"Прочие расходы","014","07","09","808 00 00","013",250]
[10,"Социальная политика","014",10,null,null,null,{"$f":"H1289","v":2807762}]
[1004,"Охрана семьи и детства","014",10,"04",null,null,{"$f":"H1290+H1297+H1308","v":2807762}]
[1004505,"Социальная помощь","014",10,"04","505 00 00",null,{"$f":"H1291+H1293+H1295","v":478340}]
[10045050502,"Выплата единовременного пособия при всех формах устройства детей, лишенных родительского попечения, в семью*","014",10,"04","505 05 02",null,{"$f":"H1292","v":28096}]
[10045050502005,"Социальные выплаты","014",10,"04","505 05 02","005",28096]
[10045050503,"Выплата единовременного пособия детям-сиротам и детям, оставшимся без попечения родителей, переданным на усыновление в семьи граждан Российской Федерации*","014",10,"04","505 05 03",null,{"$f":"H1294","v":15940}]
[10045050503005,"Социальные выплаты","014",10,"04","505 05 03","005",15940]
[10045050504,"Выплата ежемесячного пособия детям, переданным на усыновление в семьи граждан Российской Федерации*","014",10,"04","505 05 04",null,{"$f":"H1296","v":434304}]
[10045050504005,"Социальные выплаты","014",10,"04","505 05 04","005",434304]
[1004511,"Мероприятия по борьбе с беспризорностью, по опеке и попечительству","014",10,"04","511 00 00",null,{"$f":"H1298+H1300+H1302+H1304+H1306","v":2178407}]
[100451101,"Выплаты семьям опекунов на содержание подопечных детей за счет средств бюджета Московской области*","014",10,"04","511 01 00",null,{"$f":"H1299","v":1258792}]
[100451101005,"Социальные выплаты","014",10,"04","511 01 00","005",{"$f":"1150179+108613","v":1258792}]
[100451104,"Выплаты приемной семье на содержание приемных детей*","014",10,"04","511 04 00",null,{"$f":"H1301","v":218698}]
[100451104005,"Социальные выплаты","014",10,"04","511 04 00","005",{"$f":"199907+18791","v":218698}]
[100451105,"Выплаты приемным родителям и приемным семьям за счет средств бюджета Московской области*","014",10,"04","511 05 00",null,{"$f":"H1303","v":465435}]
[100451105005,"Социальные выплаты","014",10,"04","511 05 00","005",465435]
[100451106,"Вознаграждение патронатного воспитателя*","014",10,"04","511 06 00",null,{"$f":"H1305","v":170324}]
[100451106005,"Социальные выплаты","014",10,"04","511 06 00","005",170324]
[100451107,"Обеспечение бесплатного проезда детей-сирот и детей, оставшихся без попечения родителей*","014",10,"04","511 07 00",null,{"$f":"H1307","v":65158}]
[100451107005,"Социальные выплаты","014",10,"04","511 07 00","005",65158]
[1004520,"Иные безвозмездные и безвозвратные перечисления","014",10,"04","520 00 00",null,{"$f":"H1309","v":151015}]
[100452013,"Содержание ребенка в семье опекуна и приемной семье, а также оплата труда приемного родителя*","014",10,"04","520 13 00",null,{"$f":"H1310","v":151015}]
[10045201310,"Материальное обеспечение приемной семьи","014",10,"04","520 13 10",null,{"$f":"H1311+H1313+H1315","v":151015}]
[10045201311,"Выплаты приемной семье на содержание приемных детей*","014",10,"04","520 13 11",null,{"$f":"H1312","v":17307}]
[10045201311005,"Социальные выплаты","014",10,"04","520 13 11","005",17307]
[10045201312,"Оплата труда приемного родителя*","014",10,"04","520 13 12",null,{"$f":"H1314","v":34073}]
[10045201312005,"Социальные выплаты","014",10,"04","520 13 12","005",34073]
[10045201313,"Выплаты семьям опекунов на содержание подопечных детей*","014",10,"04","520 13 13",null,{"$f":"H1316","v":99635}]
[10045201313005,"Социальные выплаты","014",10,"04","520 13 13","005",99635]
[]
[0,"Министерство информационных технологий и связи Московской области","015",null,null,null,null,{"$f":"H1319+H1327+H1332","v":564821}]
[4,"Национальная экономика","015","04",null,null,null,{"$f":"H1320","v":267559}]
[410,"Связь и информатика","015","04","10",null,null,{"$f":"H1321+H1324","v":267559}]
[410002,"Руководство и управление в сфере установленных функций органов государственной власти субъектов Российской Федерации  и органов местного самоуправления","015","04","10","002 00 00",null,{"$f":"H1322","v":82000}]
[41000204,"Центральный аппарат","015","04","10","002 04 00",null,{"$f":"H1323","v":82000}]
[41000204012,"Выполнение функций государственными органами","015","04","10","002 04 00","012",82000]
[410522,"Региональные целевые программы","015","04","10","522 00 00",null,{"$f":"H1325","v":185559}]
[41052204,"Областная целевая программа \"Электронное Подмосковье на период 2006-2009 годы\"","015","04","10","522 04 00",null,{"$f":"H1326","v":185559}]
[41052204059,"Мероприятия в области информатики и использования информационных систем","015","04","10","522 04 00","059",185559]
[7,"Образование","015","07",null,null,null,{"$f":"H1328","v":62}]
[707,"Молодежная политика и оздоровление детей","015","07","07",null,null,{"$f":"H1329","v":62}]
[707432,"Мероприятия по организации оздоровительной кампании детей и подростков","015","07","07","432 00 00",null,{"$f":"H1330","v":62}]
[70743202,"Оздоровление детей ","015","07","07","432 02 00",null,{"$f":"H1331","v":62}]
[70743202001,"Выполнение функций бюджетными учреждениями","015","07","07","432 02 00","001",62]
[11,"Межбюджетные трансферты","015",11,null,null,null,{"$f":"H1333","v":297200}]
[1102,"Субсидии бюджетам субъектов Российской Федерации и муниципальных образований (межбюджетные субсидии)","015",11,"02",null,null,{"$f":"H1334","v":297200}]
[1102330,"Информационные технологии и связь","015",11,"02","330 00 00",null,{"$f":"H1335","v":297200}]
[110233003,"Технопарки в сфере высоких технологий","015",11,"02","330 03 00",null,{"$f":"H1336","v":297200}]
[11023300301,"Создание технопарков","015",11,"02","330 03 01",null,{"$f":"H1337","v":297200}]
[11023300301020,"Софинансирование объектов капитального строительства государственной собственности субъектов Российской Федерации  (объектов капитального строительства собственности муниципальных образований)","015",11,"02","330 03 01","020",297200]
[]
[0,"Комитет по делам молодежи  Московской области","016",null,null,null,null,{"$f":"H1340+H1345+H1350+H1355","v":115912}]
[1,"Общегосударственные вопросы","016","01",null,null,null,{"$f":"H1341","v":80}]
[114,"Другие общегосударственные вопросы","016","01",14,null,null,{"$f":"H1342","v":80}]
[114001,"Руководство и управление в сфере установленных функций","016","01",14,"001 00 00",null,{"$f":"H1343","v":80}]
[11400166,"Подготовка и проведение Праздника труда в Московской области","016","01",14,"001 66 00",null,{"$f":"H1344","v":80}]
[11400166013,"Прочие расходы","016","01",14,"001 66 00","013",80]
[2,"Национальная оборона","016","02",null,null,null,{"$f":"H1346","v":142}]
[204,"Мобилизационная подготовка экономики","016","02","04",null,null,{"$f":"H1347","v":142}]
[204209,"Реализация государственных функций по мобилизационной подготовке экономики","016","02","04","209 00 00",null,{"$f":"H1348","v":142}]
[20420901,"Мероприятия по обеспечению  мобилизационной готовности экономики","016","02","04","209 01 00",null,{"$f":"H1349","v":142}]
[20420901012,"Выполнение функций государственными органами","016","02","04","209 01 00","012",142]
[3,"Национальная безопасность и правоохранительная деятельность","016","03",null,null,null,{"$f":"H1351","v":41}]
[309,"Защита населения и территории от последствий чрезвычайных ситуаций природного и техногенного характера, гражданская оборона ","016","03","09",null,null,{"$f":"H1352","v":41}]
[309219,"Мероприятия по гражданской обороне","016","03","09","219 00 00",null,{"$f":"H1353","v":41}]
[30921901,"Подготовка населения и организаций к действиям в чрезвычайной ситуации в мирное и военное время","016","03","09","219 01 00",null,{"$f":"H1354","v":41}]
[30921901012,"Выполнение функций государственными органами","016","03","09","219 01 00","012",41]
[7,"Образование","016","07",null,null,null,{"$f":"H1356","v":115649}]
[707,"Молодежная политика и оздоровление детей","016","07","07",null,null,{"$f":"H1357+H1361+H1366","v":115649}]
[707002,"Руководство и управление в сфере установленных функций органов государственной власти субъектов Российской Федерации  и органов местного самоуправления","016","07","07","002 00 00",null,{"$f":"H1358","v":39771}]
[70700204,"Центральный аппарат","016","07","07","002 04 00",null,{"$f":"SUM(H1359:H1360)","v":39771}]
[70700204012,"Выполнение функций государственными органами","016","07","07","002 04 00","012",39313]
[70700204902,"Проведение мероприятий по защите информации, обеспечению безопасности информационных систем и баз данных, содержащих конфиденциальную информацию, в том числе персональные данные населения Московской области","016","07","07","002 04 00",902,458]
[707432,"Мероприятия по организации оздоровительной кампании детей и подростков","016","07","07","432 00 00",null,{"$f":"H1362+H1364","v":2070}]
[70743201,"Мероприятия по организации оздоровительной кампании детей","016","07","07","432 01 00",null,{"$f":"H1363","v":1989}]
[70743201001,"Выполнение функций бюджетными учреждениями","016","07","07","432 01 00","001",1989]
[70743202,"Оздоровление детей ","016","07","07","432 02 00",null,{"$f":"H1365","v":81}]
[70743202001,"Выполнение функций бюджетными учреждениями","016","07","07","432 02 00","001",81]
[707522,"Региональные целевые программы","016","07","07","522 00 00",null,{"$f":"H1367","v":73808}]
[70752207,"Областная целевая программа \"Молодое поколение Подмосковья на 2006-2008 годы\"","016","07","07","522 07 00",null,{"$f":"H1368","v":73808}]
[70752207447,"Проведение оздоровительных и других мероприятий для детей и молодежи ","016","07","07","522 07 00",447,73808]
[]
[0,"Министерство по делам территориальных образований Московской области","017",null,null,null,null,{"$f":"H1371+H1377+H1382+H1387","v":500750}]
[1,"Общегосударственные вопросы","017","01",null,null,null,{"$f":"H1372","v":249963}]
[114,"Другие общегосударственные вопросы","017","01",14,null,null,{"$f":"H1373","v":249963}]
[114002,"Руководство и управление в сфере установленных функций органов государственной власти субъектов Российской Федерации  и органов местного самоуправления","017","01",14,"002 00 00",null,{"$f":"H1374","v":249963}]
[11400204,"Центральный аппарат","017","01",14,"002 04 00",null,{"$f":"SUM(H1375:H1376)","v":249963}]
[11400204012,"Выполнение функций государственными органами","017","01",14,"002 04 00","012",247180]
[11400204902,"Проведение мероприятий по защите информации, обеспечению безопасности информационных систем и баз данных, содержащих конфиденциальную информацию, в том числе персональные данные населения Московской области","017","01",14,"002 04 00",902,2783]
[2,"Национальная оборона","017","02",null,null,null,{"$f":"H1378","v":530}]
[204,"Мобилизационная подготовка экономики","017","02","04",null,null,{"$f":"H1379","v":530}]
[204209,"Реализация государственных функций по мобилизационной подготовке экономики","017","02","04","209 00 00",null,{"$f":"H1380","v":530}]
[20420901,"Мероприятия по обеспечению  мобилизационной готовности экономики","017","02","04","209 01 00",null,{"$f":"H1381","v":530}]
[20420901012,"Выполнение функций государственными органами","017","02","04","209 01 00","012",530]
[3,"Национальная безопасность и правоохранительная деятельность","017","03",null,null,null,{"$f":"H1383","v":257}]
[309,"Защита населения и территории от последствий чрезвычайных ситуаций природного и техногенного характера, гражданская оборона ","017","03","09",null,null,{"$f":"H1384","v":257}]
[309219,"Мероприятия по гражданской обороне","017","03","09","219 00 00",null,{"$f":"H1385","v":257}]
[30921901,"Подготовка населения и организаций к действиям в чрезвычайной ситуации в мирное и военное время","017","03","09","219 01 00",null,{"$f":"H1386","v":257}]
[30921901012,"Выполнение функций государственными органами","017","03","09","219 01 00","012",257]
[4,"Национальная экономика","017","04",null,null,null,{"$f":"H1388","v":250000}]
[412,"Другие вопросы в области национальной экономики","017","04",12,null,null,{"$f":"H1389","v":250000}]
[412340,"Реализация государственных функций в области национальной экономики","017","04",12,"340 00 00 ",null,{"$f":"H1390","v":250000}]
[41234003,"Мероприятия по землеустройству и землепользованию","017","04",12,"340 03 00 ",null,{"$f":"H1391","v":250000}]
[4123400303,"Описание и утверждение границ муниципальных образований Московской области в соответствии с требованиями градостроительного и земельного законодательства","017","04",12,"340 03 03",null,{"$f":"H1392","v":250000}]
[4123400303012,"Выполнение функций государственными органами","017","04",12,"340 03 03","012",250000]
[]
[0,"Министерство культуры Московской области","018",null,null,null,null,{"$f":"H1395+H1403+H1407+H1412+H1417+H1444","v":2940977}]
[1,"Общегосударственные вопросы","018","01",null,null,null,{"$f":"H1396","v":6750}]
[108,"Международные отношения и международное сотрудничество","018","01","08",null,null,{"$f":"H1397+H1400","v":6750}]
[108030,"Международное сотрудничество","018","01","08","030 00 00",null,{"$f":"H1398","v":5800}]
[10803004,"Международные культурные, научные и информационные связи","018","01","08","030 04 00",null,{"$f":"H1399","v":5800}]
[10803004012,"Выполнение функций государственными органами","018","01","08","030 04 00","012",5800]
[108522,"Региональные целевые программы","018","01","08","522 00 00",null,{"$f":"H1401","v":950}]
[10852209,"Областная целевая программа \"Поддержка Московской областью соотечественников за рубежом на 2007-2010 годы\"","018","01","08","522 09 00",null,{"$f":"H1402","v":950}]
[10852209012,"Выполнение функций государственными органами","018","01","08","522 09 00","012",950]
[2,"Национальная оборона","018","02",null,null,null,{"$f":"H1404","v":0}]
[203,"Мобилизационная подготовка экономики","018","02","03",null,null,{"$f":"H1405","v":0}]
[203209,"Реализация государственных функций по мобилизационной подготовке экономики","018","02","03","209 00 00",null,{"$f":"H1406","v":0}]
[203209237,"Мероприятия по обеспечению мобилизационной готовности экономики","018","02","03","209 00 00",237]
[3,"Национальная безопасность и правоохранительная деятельность","018","03",null,null,null,{"$f":"H1408","v":1819}]
[309,"Защита населения и территории от последствий чрезвычайных ситуаций природного и техногенного характера, гражданская оборона ","018","03","09",null,null,{"$f":"H1409","v":1819}]
[309219,"Мероприятия по гражданской обороне","018","03","09","219 00 00",null,{"$f":"H1410","v":1819}]
[30921901,"Подготовка населения и организаций к действиям в чрезвычайной ситуации в мирное и военное время","018","03","09","219 01 00",null,{"$f":"H1411","v":1819}]
[30921901012,"Выполнение функций государственными органами","018","03","09","219 01 00","012",1819]
[4,"Национальная экономика","018","04",null,null,null,{"$f":"H1413","v":100000}]
[412,"Другие вопросы в области национальной экономики","018","04",12,null,null,{"$f":"H1414","v":100000}]
[412340,"Реализация государственных функций в области национальной экономики","018","04",12,"340 00 00",null,{"$f":"H1415","v":100000}]
[41234004,"Мероприятия в области гражданской промышленности","018","04",12,"340 04 00",null,{"$f":"H1416","v":100000}]
[41234004006,"Субсидии юридическим лицам","018","04",12,"340 04 00","006",100000]
[7,"Образование","018","07",null,null,null,{"$f":"H1418+H1437","v":357691}]
[704,"Среднее профессиональное образование","018","07","04",null,null,{"$f":"H1419","v":348857}]
[704427,"Средние специальные учебные заведения","018","07","04","427 00 00",null,{"$f":"H1420","v":348857}]
[70442799,"Обеспечение деятельности подведомственных учреждений","018","07","04","427 99 00",null,{"$f":"H1421+H1423+H1425+H1427+H1429+H1431+H1433+H1435","v":348857}]
[7044279901,"Выплаты стипендий и прочие расходы стипендиального фонда в средних специальных учебных заведениях","018","07","04","427 99 01",null,{"$f":"H1422","v":8114}]
[7044279901001,"Выполнение функций бюджетными учреждениями","018","07","04","427 99 01","001",8114]
[7044279902,"Обеспечение питанием учащихся средних специальных учебных заведений","018","07","04","427 99 02",null,{"$f":"H1424","v":408}]
[7044279902001,"Выполнение функций бюджетными учреждениями","018","07","04","427 99 02","001",408]
[7044279904,"Единовременное денежное пособие детям-сиротам - выпускникам областных образовательных учрежедний*","018","07","04","427 99 04",null,{"$f":"H1426","v":180}]
[7044279904001,"Выполнение функций бюджетными учреждениями","018","07","04","427 99 04","001",180]
[7044279907,"Бесплатный проезд детей-сирот и детей, оставшихся без попечения родителей, обучающихся в государственных образовательных учреждениях Московской области*","018","07","04","427 99 07",null,{"$f":"H1428","v":32}]
[7044279907001,"Выполнение функций бюджетными учреждениями","018","07","04","427 99 07","001",32]
[7044279908,"Ежемесячные стипендии Губернатора Московской области детям-сиротам, обучающимся в образовательных учреждениях среднего профессионального образования*","018","07","04","427 99 08",null,{"$f":"H1430","v":648}]
[7044279908001,"Выполнение функций бюджетными учреждениями","018","07","04","427 99 08","001",648]
[7044279911,"Ежемесячные стипендии Губернатора Московской области детям-инвалидам, учащимся образовательных  и культурно - досуговых учреждений сферы культуры и искусства Московской области за успешное освоение программ обучения и за достижения в различных направлениях искусства* ","018","07","04","427 99 11",null,{"$f":"H1432","v":6000}]
[7044279911001,"Выполнение функций бюджетными учреждениями","018","07","04","427 99 11","001",6000]
[7044279912,"Частичная компенсация стоимости питания  обучающихся в средних специальных учебных заведений*","018","07","04","427 99 12",null,{"$f":"H1434","v":1367}]
[7044279912001,"Выполнение функций бюджетными учреждениями","018","07","04","427 99 12","001",1367]
[7044279999,"Другие расходы на содержание средних специальных учебных заведений","018","07","04","427 99 99",null,{"$f":"H1436","v":332108}]
[7044279999001,"Выполнение функций бюджетными учреждениями","018","07","04","427 99 99","001",332108]
[709,"Другие вопросы в области образования","018","07","09",null,null,{"$f":"H1438+H1441","v":8834}]
[709436,"Мероприятия в области образования","018","07","09","436 00 00",null,{"$f":"H1439","v":3299}]
[70943609,"Проведение мероприятий для детей и молодежи","018","07","09","436 09 00",null,{"$f":"H1440","v":3299}]
[70943609013,"Прочие расходы","018","07","09","436 09 00","013",3299]
[709806,"Прочие расходы, не отнесенные к другим целевым статьям","018","07","09","806 00 00",null,{"$f":"H1442","v":5535}]
[70980602,"Подготовка кадров в сфере культуры и искусства","018","07","09","806 02 00",null,{"$f":"H1443","v":5535}]
[70980602013,"Прочие расходы","018","07","09","806 02 00","013",5535]
[8,"Культура, кинематография, средства массовой информации","018","08",null,null,null,{"$f":"H1445+H1493","v":2474717}]
[801,"Культура ","018","08","01",null,null,{"$f":"H1446+H1450+H1456+H1464+H1472+H1480+H1483","v":2306507}]
[801102,"Бюджетные инвестиции в объекты капитального строительства, не включенные в целевые программы","018","08","01","102 00 00",null,{"$f":"H1447","v":253950}]
[80110201,"Бюджетные инвестиции в объекты капитального строительства государственной собственности субъектов Российской Федерации (объекты капитального строительства собственности муниципальных образований)","018","08","01","102 01 00",null,{"$f":"H1448","v":253950}]
[8011020101,"Бюджетные инвестиции в объекты капитального строительства государственной собственности субъектов Российской Федерации ","018","08","01","102 01 01",null,{"$f":"H1449","v":253950}]
[8011020101003,"Бюджетные инвестиции","018","08","01","102 01 01","003",253950]
[801440,"Дворцы и дома культуры, другие учреждения культуры и средств массовой информации","018","08","01","440 00 00",null,{"$f":"H1451","v":138019}]
[80144099,"Обеспечение деятельности подведомственных учреждений","018","08","01","440 99 00",null,{"$f":"H1452+H1454","v":138019}]
[8014409901,"Расходы на уплату земельного налога и налога на имущество дворцов и домов культуры, других учреждений культуры и средств массовой информации","018","08","01","440 99 01",null,{"$f":"H1453","v":3949}]
[8014409901001,"Выполнение функций бюджетными учреждениями","018","08","01","440 99 01","001",3949]
[8014409999,"Другие расходы на обеспечение деятельности дворцов и домов культуры, других учреждений культуры и средств массовой информации","018","08","01","440 99 99",null,{"$f":"H1455","v":134070}]
[8014409999001,"Выполнение функций бюджетными учреждениями","018","08","01","440 99 99","001",{"$f":"131070+3000","v":134070}]
[801441,"Музеи и постоянные выставки","018","08","01","441 00 00",null,{"$f":"H1457","v":522403}]
[80144199,"Обеспечение деятельности подведомственных учреждений","018","08","01","441 99 00",null,{"$f":"H1458+H1460+H1462","v":522403}]
[8014419901,"Расходы на уплату земельного налога и налога на имущество музеев и постоянных выставок","018","08","01","441 99 01",null,{"$f":"H1459","v":7333}]
[8014419901001,"Выполнение функций бюджетными учреждениями","018","08","01","441 99 01","001",7333]
[8014419902,"Расходы на охранные мероприятия музеев и постоянных выставок","018","08","01","441 99 02",null,{"$f":"H1461","v":70672}]
[8014419902001,"Выполнение функций бюджетными учреждениями","018","08","01","441 99 02","001",70672]
[8014419999,"Другие расходы на обеспечение деятельности музеев и постоянных выставок","018","08","01","441 00 99",null,{"$f":"H1463","v":444398}]
[8014419999001,"Выполнение функций бюджетными учреждениями","018","08","01","441 00 99","001",444398]
[801442,"Библиотеки","018","08","01","442 00 00",null,{"$f":"H1465","v":57143}]
[80144299,"Обеспечение деятельности подведомственных учреждений","018","08","01","442 99 00",null,{"$f":"H1466+H1468+H1470","v":57143}]
[8014429901,"Расходы на уплату земельного налога и налога на имущество библиотек","018","08","01","442 99 01",null,{"$f":"H1467","v":688}]
[8014429901001,"Выполнение функций бюджетными учреждениями","018","08","01","442 99 01","001",688]
[8014429902,"Расходы на охранные мероприятия библиотек","018","08","01","442 99 02",null,{"$f":"H1469","v":5786}]
[8014429902001,"Выполнение функций бюджетными учреждениями","018","08","01","442 99 02","001",5786]
[8014429999,"Другие расходы на обеспечение деятельности библиотек","018","08","01","442 99 99",null,{"$f":"H1471","v":50669}]
[8014429999001,"Выполнение функций бюджетными учреждениями","018","08","01","442 99 99","001",50669]
[801443,"Театры, цирки, концертные и другие организации исполнительских искусств","018","08","01","443 00 00",null,{"$f":"H1473","v":1045737}]
[80144399,"Обеспечение деятельности подведомственных учреждений","018","08","01","443 99 00",null,{"$f":"H1474+H1476+H1478","v":1045737}]
[8014439901,"Расходы на уплату земельного налога и налога на имущество театров, цирков, концертных и других организаций исполнительских искусств","018","08","01","443 99 01",null,{"$f":"H1475","v":5361}]
[8014439901001,"Выполнение функций бюджетными учреждениями","018","08","01","443 99 01","001",5361]
[8014439902,"Расходы на охранные мероприятия театров, цирков, концертных и других организаций исполнительских искусств","018","08","01","443 99 02",null,{"$f":"H1477","v":11566}]
[8014439902001,"Выполнение функций бюджетными учреждениями","018","08","01","443 99 02","001",11566]
[8014439999,"Другие расходы на обеспечение деятельности театров, цирков, концертных и других организаций исполнительских искусств","018","08","01","443 99 99",null,{"$f":"H1479","v":1028810}]
[8014439999001,"Выполнение функций бюджетными учреждениями","018","08","01","443 99 99","001",1028810]
[801450,"Мероприятия в сфере культуры, кинематографии, средств массовой информации","018","08","01","450 00 00",null,{"$f":"H1481","v":126955}]
[80145085,"Государственная поддержка в сфере культуры, кинематографии, средств массовой информации","018","08","01","450 85 00",null,{"$f":"H1482","v":126955}]
[80145085013,"Прочие расходы","018","08","01","450 85 00","013",126955]
[801522,"Региональные целевые программы","018","08","01","522 00 00",null,{"$f":"H1484","v":162300}]
[80152205,"Областная целевая программа \"Сохранение объектов культурного наследия (памятников истории и культуры) в Московской области на 2006-2008 годы\"","018","08","01","522 05 00",null,{"$f":"H1485+H1487+H1489+H1491","v":162300}]
[8015220501,"Раздел 1 \"Сохранение объектов культурного наследия\"","018","08","01","522 05 01",null,{"$f":"H1486","v":115500}]
[8015220501023,"Мероприятия по поддержке и развитию культуры, искусства, кинематографии, средств массовой информации и архивного дела","018","08","01","522 05 01","023",115500]
[8015220502,"Раздел 2 \"Государственная охрана объектов культурного наследия\"","018","08","01","522 05 02",null,{"$f":"H1488","v":3300}]
[8015220502023,"Мероприятия по поддержке и развитию культуры, искусства, кинематографии, средств массовой информации и архивного дела","018","08","01","522 05 02","023",3300]
[8015220503,"Раздел 3 \"Оказание поддержки религиозным организациям в проведении работ по сохранению памятников истории и культуры религиозного назначения\"","018","08","01","522 05 03",null,{"$f":"H1490","v":43500}]
[8015220503023,"Мероприятия по поддержке и развитию культуры, искусства, кинематографии, средств массовой информации и архивного дела","018","08","01","522 05 03","023",43500]
[8015221004,"Раздел 4 \"Установка памятника создателям славянской азбуки, просветителям славянских народов, святым братьям Кириллу и Мефодию\"","018","08","01","522 05 04",null,{"$f":"H1492","v":0}]
[8015221004453,"Мероприятия по поддержке и развитию культуры, искусства, кинематографии, средств массовой информации и архивного дела","018","08","01","522 05 04","023"]
[806,"Другие вопросы в области культуры, кинематографии, средств массовой информации","018","08","06",null,null,{"$f":"H1494+H1498+H1501+H1508","v":168210}]
[806002,"Руководство и управление в сфере установленных функций органов государственной власти субъектов Российской Федерации  и органов местного самоуправления","018","08","06","002 00 00",null,{"$f":"H1495","v":154321}]
[80600204,"Центральный аппарат","018","08","06","002 04 00",null,{"$f":"SUM(H1496:H1497)","v":154321}]
[80600204012,"Выполнение функций государственными органами","018","08","06","002 04 00","012",153861]
[80600204902,"Проведение мероприятий по защите информации, обеспечению безопасности информационных систем и баз данных, содержащих конфиденциальную информацию, в том числе персональные данные населения Московской области","018","08","06","002 04 00",902,460]
[806450,"Мероприятия в сфере культуры, кинематографии, средств массовой информации","018","08","06","450 00 00",null,{"$f":"H1499","v":1700}]
[80645085,"Государственная поддержка в сфере культуры, кинематографии, средств массовой информации","018","08","06","450 85 00",null,{"$f":"H1500","v":1700}]
[80645085012,"Выполнение функций государственными органами","018","08","06","450 85 00","012",1700]
[806803,"Расходы на страхование ","018","08","06","803 00 00",null,{"$f":"+H1502+H1504+H1506","v":11689}]
[8068030001,"Расходы на страхование имущества, находящегося в государственной собственности Московской области","018","08","06","803 00 01",null,{"$f":"H1503","v":10389}]
[8068030001013,"Прочие расходы","018","08","06","803 00 01","013",10389]
[8068030002,"Расходы на страхование гражданской ответственности учреждений, находящихся в государственной собственности Московской области","018","08","06","803 00 02",null,{"$f":"H1505","v":500}]
[8068030002013,"Прочие расходы","018","08","06","803 00 02","013",500]
[8068030003,"Расходы на обязательное страхование гражданской ответственности владельцев транспортных средств","018","08","06","803 00 03",null,{"$f":"H1507","v":800}]
[8068030003013,"Прочие расходы","018","08","06","803 00 03","013",800]
[806808,"Расходы на оценку имущества, подлежащего страхованию","018","08","06","808 00 00",null,{"$f":"H1509","v":500}]
[806808013,"Прочие расходы","018","08","06","808 00 00","013",500]
[]
[0,"Комитет по развитию предпринимательства Московской области","019",null,null,null,null,{"$f":"H1512+H1520","v":58758}]
[4,"Национальная экономика","019","04",null,null,null,{"$f":"H1513","v":58718}]
[412,"Другие вопросы в области национальной экономики","019","04",12,null,null,{"$f":"H1514+H1517","v":58718}]
[412002,"Руководство и управление в сфере установленных функций органов государственной власти субъектов Российской Федерации  и органов местного самоуправления","019","04",12,"002 00 00",null,{"$f":"H1515","v":48212}]
[41200204,"Центральный аппарат","019","04",12,"002 04 00",null,{"$f":"SUM(H1516:H1516)","v":48212}]
[41200204012,"Выполнение функций государственными органами","019","04",12,"002 04 00","012",48212]
[412092,"Реализация государственных функций, связанных с общегосударственным управлением","019","04",12,"092 00 00",null,{"$f":"H1518","v":10506}]
[41209299,"Обеспечение деятельности подведомственных учреждений","019","04",12,"092 99 00",null,{"$f":"H1519","v":10506}]
[41209299001,"Выполнение функций бюджетными учреждениями","019","04",12,"092 99 00","001",10506]
[7,"Образование","019","07",null,null,null,{"$f":"H1521","v":40}]
[707,"Молодежная политика и оздоровление детей","019","07","07",null,null,{"$f":"H1522","v":40}]
[707432,"Мероприятия по организации оздоровительной кампании детей и подростков","019","07","07","432 00 00",null,{"$f":"H1523","v":40}]
[70743202,"Оздоровление детей ","019","07","07","432 02 00",null,{"$f":"H1524","v":40}]
[70743202001,"Выполнение функций бюджетными учреждениями","019","07","07","432 02 00","001",40]
[]
[0,"Комитет по физической культуре и спорту Московской области","020",null,null,null,null,{"$f":"H1559+H1527","v":2970780}]
[7,"Образование","020","07",null,null,null,{"$f":"H1528+H1535+H1546+H1550","v":1015493}]
[702,"Общее образование","020","07","02",null,null,{"$f":"H1529","v":561362}]
[702423,"Учреждения по внешкольной работе с детьми","020","07","02","423 00 00",null,{"$f":"H1530","v":561362}]
[70242399,"Обеспечение деятельности подведомственных учреждений","020","07","02","423 99 00",null,{"$f":"H1531+H1533","v":561362}]
[7024239902,"Обеспечение питанием учащихся учреждений по внешкольной работе с детьми","020","07","02","423 99 02",null,{"$f":"H1532","v":31256}]
[7024239902001,"Выполнение функций бюджетными учреждениями","020","07","02","423 99 02","001",{"$f":"28608+2648","v":31256}]
[7024239999,"Другие расходы на содержание учреждений по внешкольной работе с детьми ","020","07","02","423 99 99",null,{"$f":"H1534","v":530106}]
[7024239999001,"Выполнение функций бюджетными учреждениями","020","07","02","423 99 99","001",{"$f":"497754+32352","v":530106}]
[704,"Среднее профессиональное образование","020","07","04",null,null,{"$f":"H1536","v":310005}]
[704427,"Средние специальные учебные заведения","020","07","04","427 00 00",null,{"$f":"H1537","v":310005}]
[70442799,"Обеспечение деятельности подведомственных учреждений","020","07","04","427 99 00",null,{"$f":"H1538+H1540+H1542+H1544","v":310005}]
[7044279901,"Выплаты стипендий и прочие расходы стипендиального фонда в средних специальных учебных заведениях","020","07","04","427 99 01",null,{"$f":"H1539","v":3960}]
[7044279901001,"Выполнение функций бюджетными учреждениями","020","07","04","427 99 01","001",{"$f":"3990-30","v":3960}]
[7044279902,"Обеспечение питанием учащихся средних специальных учебных заведений","020","07","04","427 99 02",null,{"$f":"H1541","v":20754}]
[7044279902001,"Выполнение функций бюджетными учреждениями","020","07","04","427 99 02","001",{"$f":"23254-2500","v":20754}]
[7044279911,"Ежемесячные стипендии Губернатора Московской области детям-инвалидам, учащимся образовательных  и культурно - досуговых учреждений сферы культуры и искусства Московской области за успешное освоение программ обучения и за достижения в различных направлениях искусства* ","020","07","04","427 99 11",null,{"$f":"H1543","v":2160}]
[7044279911001,"Выполнение функций бюджетными учреждениями","020","07","04","427 99 11","001",2160]
[7044279999,"Другие расходы на содержание средних специальных учебных заведений","020","07","04","427 99 99",null,{"$f":"H1545","v":283131}]
[7044279999001,"Выполнение функций бюджетными учреждениями","020","07","04","427 99 99","001",{"$f":"298601-15470","v":283131}]
[707,"Молодежная политика и оздоровление детей","020","07","07",null,null,{"$f":"H1547","v":123}]
[707432,"Мероприятия по организации оздоровительной кампании детей и подростков","020","07","07","432 00 00",null,{"$f":"H1548","v":123}]
[70743202,"Оздоровление детей ","020","07","07","432 02 00",null,{"$f":"H1549","v":123}]
[70743202001,"Выполнение функций бюджетными учреждениями","020","07","07","432 02 00","001",123]
[709,"Другие вопросы в области образования","020","07","09",null,null,{"$f":"H1551","v":144003}]
[709802,"Прочие учреждения в области образования","020","07","09","802 00 00",null,{"$f":"H1552","v":144003}]
[70980299,"Обеспечение деятельности подведомственных учреждений","020","07","09","802 99 00",null,{"$f":"H1553+H1555+H1557","v":144003}]
[7098029901,"Выплата стипендий в прочих учреждениях в области образования","020","07","09","802 99 01",null,{"$f":"H1554","v":0}]
[7098029901001,"Выполнение функций бюджетными учреждениями","020","07","09","802 99 01","001"]
[7098029902,"Обеспечение питанием учащихся в прочих учреждениях в области образования","020","07","09","802 99 02",null,{"$f":"H1556","v":20103}]
[7098029902001,"Выполнение функций бюджетными учреждениями","020","07","09","802 99 02","001",20103]
[7098029999,"Другие расходы на содержание прочих учреждений в области образования","020","07","09","802 99 99",null,{"$f":"H1558","v":123900}]
[7098029999001,"Выполнение функций бюджетными учреждениями","020","07","09","802 99 99","001",123900]
[9,"Здравоохранение, физическая культура и спорт","020","09",null,null,null,{"$f":"H1570+H1560","v":1955287}]
[908,"Физическая культура и спорт","020","09","08",null,null,{"$f":"H1561+H1564+H1567","v":792926}]
[908482,"Центры спортивной подготовки (сборные команды)","020","09","08","482 00 00",null,{"$f":"H1562","v":542223}]
[90848299,"Обеспечение деятельности подведомственных учреждений","020","09","08","482 99 00",null,{"$f":"H1563","v":542223}]
[90848299001,"Выполнение функций бюджетными учреждениями","020","09","08","482 99 00","001",542223]
[908512,"Физкультурно-оздоровительная работа и спортивные мероприятия","020","09","08","512 00 00",null,{"$f":"H1565","v":242903}]
[90851210,"Мероприятия в области спорта и физической культуры","020","09","08","512 10 00",null,{"$f":"H1566","v":242903}]
[90851210012,"Выполнение функций государственными органами","020","09","08","512 10 00","012",{"$f":"236203+6700","v":242903}]
[908803,"Расходы на страхование ","020","09","08","803 00 00",null,{"$f":"H1568","v":7800}]
[9088030006,"Расходы на страхование жизни и здоровья членов сборных команд Московской области","020","09","08","803 00 06",null,{"$f":"H1569","v":7800}]
[9088030006013,"Прочие расходы","020","09","08","803 00 06","013",7800]
[910,"Другие вопросы в области здравоохранения, физической культуры и спорта","020","09","10",null,null,{"$f":"H1571+H1575","v":1162361}]
[910002,"Руководство и управление в сфере установленных функций органов государственной власти субъектов Российской Федерации  и органов местного самоуправления","020","09","10","002 00 00",null,{"$f":"H1572","v":61003}]
[91000204,"Центральный аппарат","020","09","10","002 04 00",null,{"$f":"SUM(H1573:H1574)","v":61003}]
[91000204012,"Выполнение функций государственными органами","020","09","10","002 04 00","012",60303]
[91000204902,"Проведение мероприятий по защите информации, обеспечению безопасности информационных систем и баз данных, содержащих конфиденциальную информацию, в том числе персональные данные населения Московской области","020","09","10","002 04 00",902,700]
[910485,"Реализация государственных функций  в области здравоохранения, спорта и туризма","020","09",10,"485 00 00",null,{"$f":"H1576","v":1101358}]
[91048597,"Мероприятия в области здравоохранения, спорта и физической культуры, туризма","020","09",10,"485 97 00",null,{"$f":"SUM(H1577:H1578)","v":1101358}]
[91048597006,"Субсидии юридическим лицам","020","09",10,"485 97 00","006",{"$f":"943263+98095","v":1041358}]
[91048597013,"Прочие расходы","020","09",10,"485 97 00","013",60000]
[]
[0,"Министерство социальной защиты населения Московской области","021",null,null,null,null,{"$f":"H1581+H1586+H1591+H1596+H1620","v":38025719}]
[1,"Общегосударственные вопросы","021","01",null,null,null,{"$f":"H1582","v":550}]
[108,"Международные отношения и международное сотрудничество","021","01","08",null,null,{"$f":"H1583","v":550}]
[108522,"Региональные целевые программы","021","01","08","522 00 00",null,{"$f":"H1584","v":550}]
[10852209,"Областная целевая программа \"Поддержка Московской областью соотечественников за рубежом на 2007-2010 годы\"","021","01","08","522 09 00",null,{"$f":"H1585","v":550}]
[10852209012,"Выполнение функций государственными органами","021","01","08","522 09 00","012",550]
[3,"Национальная безопасность и правоохранительная деятельность","021","03",null,null,null,{"$f":"H1587","v":27847}]
[309,"Защита населения и территории от последствий чрезвычайных ситуаций природного и техногенного характера, гражданская оборона ","021","03","09",null,null,{"$f":"H1588","v":27847}]
[309219,"Мероприятия по гражданской обороне","021","03","09","219 00 00",null,{"$f":"H1589","v":27847}]
[30921901,"Подготовка населения и организаций к действиям в чрезвычайной ситуации в мирное и военное время","021","03","09","219 01 00",null,{"$f":"H1590","v":27847}]
[30921901012,"Выполнение функций государственными органами","021","03","09","219 01 00","012",27847]
[4,"Национальная экономика","021","04",null,null,null,{"$f":"H1592","v":55000}]
[410,"Связь и информатика","021","04","10",null,null,{"$f":"H1593","v":55000}]
[410330,"Информационные технологии и связь","021","04","10","330 00 00",null,{"$f":"H1594","v":55000}]
[41033002,"Отдельные мероприятия в области информационно-коммуникационных технологий и связи","021","04","10","330 02 00",null,{"$f":"H1595","v":55000}]
[41033002012,"Выполнение функций государственными органами","021","04","10","330 02 00","012",55000]
[7,"Образование","021","07",null,null,null,{"$f":"H1597+H1614","v":297338}]
[703,"Начальное профессиональное образование","021","07","03",null,null,{"$f":"H1598","v":41111}]
[703425,"Профессионально-технические училища","021","07","03","425 00 00",null,{"$f":"H1599","v":41111}]
[70342599,"Обеспечение деятельности подведомственных учреждений","021","07","03","425 99 00",null,{"$f":"H1600+H1602+H1604+H1606+H1608+H1610+H1612","v":41111}]
[7034259901,"Выплата стипендий и другие расходы из степиндиального фонда в профессионально-технических училищах","021","07","03","425 99 01",null,{"$f":"H1601","v":751}]
[7034259901001,"Выполнение функций бюджетными учреждениями","021","07","03","425 99 01","001",751]
[7034259902,"Обеспечение питанием учащихся профессионально-технических училищ","021","07","03","425 99 02",null,{"$f":"H1603","v":2204}]
[7034259902001,"Выполнение функций бюджетными учреждениями","021","07","03","425 99 02","001",2204]
[7034259904,"Единовременное денежное пособие детям-сиротам - выпускникам областных образовательных учрежедний*","021","07","03","425 99 04",null,{"$f":"H1605","v":200}]
[7034259904001,"Выполнение функций бюджетными учреждениями","021","07","03","425 99 04","001",200]
[7034259907,"Бесплатный проезд детей-сирот и детей, оставшихся без попечения родителей, обучающихся в государственных образовательных учреждениях Московской области*","021","07","03","425 99 07",null,{"$f":"H1607","v":36}]
[7034259907001,"Выполнение функций бюджетными учреждениями","021","07","03","425 99 07","001",36]
[7034259909,"Ежемесячные выплаты к стипендиям детям-сиротам, обучающимся в учреждениях начального профессионального образования Московской области* ","021","07","03","425 99 09",null,{"$f":"H1609","v":320}]
[7034259909001,"Выполнение функций бюджетными учреждениями","021","07","03","425 99 09","001",320]
[7034259910,"Ежегодная материальная помощь детям-сиротам, обучающимся в учреждениях начального профессионального образования Московской области на приобретение предметов первой необходимости*","021","07","03","425 99 10",null,{"$f":"H1611","v":20}]
[7034259910001,"Выполнение функций бюджетными учреждениями","021","07","03","425 99 10","001",20]
[7034259999,"Другие расходы на содержание профессионально-технических училищ, обеспечение и организацию учебного процесса ","021","07","03","425 99 99",null,{"$f":"H1613","v":37580}]
[7034259999001,"Выполнение функций бюджетными учреждениями","021","07","03","425 99 99","001",37580]
[707,"Молодежная политика и оздоровление детей","021","07","07",null,null,{"$f":"H1615","v":256227}]
[707432,"Мероприятия по организации оздоровительной кампании детей и подростков","021","07","07","432 00 00",null,{"$f":"H1616+H1618","v":256227}]
[70743201,"Мероприятия по организации оздоровительной кампании детей","021","07","07","432 01 00",null,{"$f":"H1617","v":253035}]
[70743201001,"Выполнение функций бюджетными учреждениями","021","07","07","432 01 00","001",253035]
[70743202,"Оздоровление детей ","021","07","07","432 02 00",null,{"$f":"H1619","v":3192}]
[70743202001,"Выполнение функций бюджетными учреждениями","021","07","07","432 02 00","001",3192]
[10,"Социальная политика","021",10,null,null,null,{"$f":"H1621+H1660+H1791+H1802","v":37644984}]
[1002,"Социальное обслуживание населения","021",10,"02",null,null,{"$f":"H1622+H1626+H1642","v":6942058}]
[1002102,"Бюджетные инвестиции в объекты капитального строительства, не включенные в целевые программы","021",10,"02","102 00 00",null,{"$f":"H1623","v":384800}]
[100210201,"Бюджетные инвестиции в объекты капитального строительства государственной собственности субъектов Российской Федерации (объекты капитального строительства собственности муниципальных образований)","021",10,"02","102 01 00",null,{"$f":"H1624","v":384800}]
[10021020101,"Бюджетные инвестиции в объекты капитального строительства государственной собственности субъектов Российской Федерации ","021",10,"02","102 01 01",null,{"$f":"H1625","v":384800}]
[10021020101003,"Бюджетные инвестиции","021",10,"02","102 01 01","003",384800]
[1002501,"Дома-интернаты для престарелых и инвалидов","021",10,"02","501 00 00",null,{"$f":"H1627","v":2372084}]
[100250199,"Обеспечение деятельности подведомственных учреждений","021",10,"02","501 99 00",null,{"$f":"H1628+H1630+H1632+H1634+H1636+H1638+H1640","v":2372084}]
[10025019901,"Проведение текущего ремонта домов-интернатов для престарелых и инвалидов","021",10,"02","501 99 01",null,{"$f":"H1629","v":34000}]
[10025019901001,"Выполнение функций бюджетными учреждениями","021",10,"02","501 99 01","001",34000]
[10025019902,"Оплата услуг вневедомственной охраны учреждений домов-интернатов для престарелых и инвалидов","021",10,"02","501 99 02",null,{"$f":"H1631","v":46603}]
[10025019902001,"Выполнение функций бюджетными учреждениями","021",10,"02","501 99 02","001",46603]
[10025019903,"Приобретение продуктов питания для домов-интернатов для престарелых и инвалидов ","021",10,"02","501 99 03",null,{"$f":"H1633","v":299482}]
[10025019903001,"Выполнение функций бюджетными учреждениями","021",10,"02","501 99 03","001",299482]
[10025019904,"Приобретение медикаментов, перевязочных средств для домов-интернатов для престарелых и инвалидов ","021",10,"02","501 99 04",null,{"$f":"H1635","v":31133}]
[10025019904001,"Выполнение функций бюджетными учреждениями","021",10,"02","501 99 04","001",31133]
[10025019905,"Приобретение мягкого инвентаря для граждан, находящихся в домах-интернатах для престарелых и инвалидов ","021",10,"02","501 99 05",null,{"$f":"H1637","v":120219}]
[10025019905001,"Выполнение функций бюджетными учреждениями","021",10,"02","501 99 05","001",120219]
[10025019907,"Установка и обслуживание вновь установленных систем противопожарной сигнализации","021",10,"02","501 99 07",null,{"$f":"H1639","v":13110}]
[10025019907001,"Выполнение функций бюджетными учреждениями","021",10,"02","501 99 07","001",13110]
[10025019999,"Другие расходы на содержание домов-интернатов для престарелых и инвалидов","021",10,"02","501 99 99",null,{"$f":"H1641","v":1827537}]
[10025019999001,"Выполнение функций бюджетными учреждениями","021",10,"02","501 99 99","001",1827537]
[1002507,"Учреждения социального обслуживания населения","021",10,"02","507 00 00",null,{"$f":"H1643","v":4185174}]
[100250799,"Обеспечение деятельности подведомственных учреждений","021",10,"02","507 99 00",null,{"$f":"H1644+H1646+H1648+H1650+H1652+H1654+H1656+H1658","v":4185174}]
[10025079901,"Проведение текущего ремонта государственных учреждений социального обслуживания населения","021",10,"02","507 99 01",null,{"$f":"H1645","v":66000}]
[10025079901001,"Выполнение функций бюджетными учреждениями","021",10,"02","507 99 01","001",{"$f":"67267-1267","v":66000}]
[10025079902,"Оплата услуг вневедомственной охраны государственных учреждений социального обслуживания населения","021",10,"02","507 99 02",null,{"$f":"H1647","v":77202}]
[10025079902001,"Выполнение функций бюджетными учреждениями","021",10,"02","507 99 02","001",77202]
[10025079903,"Приобретение продуктов питания для государственных учреждений социального обслуживания населения","021",10,"02","507 99 03",null,{"$f":"H1649","v":171566}]
[10025079903001,"Выполнение функций бюджетными учреждениями","021",10,"02","507 99 03","001",171566]
[10025079904,"Приобретение медикаментов, перевязочных средств для государственных учреждений социального обслуживания населения","021",10,"02","507 99 04",null,{"$f":"H1651","v":10063}]
[10025079904001,"Выполнение функций бюджетными учреждениями","021",10,"02","507 99 04","001",10063]
[10025079905,"Приобретение мягкого инвентаря для граждан, находящихся в государственных учреждениях социального обслуживания населения","021",10,"02","507 99 05",null,{"$f":"H1653","v":45600}]
[10025079905001,"Выполнение функций бюджетными учреждениями","021",10,"02","507 99 05","001",45600]
[10025079906,"Компенсация стоимости самостоятельно приобретенной спецодежды, работникам государственных учреждений социального обслуживания населения, деятельность которых связана с разъездами ","021",10,"02","507 99 06",null,{"$f":"H1655","v":16841}]
[10025079906001,"Выполнение функций бюджетными учреждениями","021",10,"02","507 99 06","001",16841]
[10025079907,"Установка и обслуживание вновь установленных систем противопожарной сигнализации в государственных учреждениях социального обслуживания населения","021",10,"02","507 99 07",null,{"$f":"H1657","v":25717}]
[10025079907001,"Выполнение функций бюджетными учреждениями","021",10,"02","507 99 07","001",25717]
[10025079999,"Другие расходы на содержание государственных учреждений социального обслуживания населения","021",10,"02","507 99 99",null,{"$f":"H1659","v":3772185}]
[10025079999001,"Выполнение функций бюджетными учреждениями","021",10,"02","507 99 99","001",{"$f":"4055918-283733","v":3772185}]
[1003,"Социальное обеспечение населения","021",10,"03",null,null,{"$f":"H1661+H1785","v":28195048}]
[1003505,"Социальная помощь","021",10,"03","505 00 00",null,{"$f":"H1662+H1664+H1671+H1673+H1698+H1709+H1711+H1713+H1715+H1734","v":28142248},{"$f":"H1661-(H1663+H1666+H1668+H1670+H1672+H1675+H1677+H1679+H1681+H1683+H1685+H1687+H1689+H1691+H1693+H1695+H1697+H1700+H1702+H1704+H1706+H1708+H1710+H1712+H1714+H1717+H1719+H1721+H1723+H1725+H1727+H1729+H1731+H1733+H1736+H1738+H1740+H1742+H1744+H1746+H1748+H1750+H1752+H1754+H1756+H1758+H1760+H1762+H1764+H1766+H1768+H1770+H1772+H1774+H1776+H1778+H1780+H1782+H1784)","v":0}]
[10035052205,"Выплата социального пособия на погребение и возмещение расходов по гарантированному перечню услуг по погребению за счет бюджетов субъектов Российской Федерации и местных бюджетов*","021",10,"03","505 22 05",null,{"$f":"H1663","v":7328}]
[10035052205005,"Социальные выплаты","021",10,"03","505 22 05","005",7328]
[100350529,"Обеспечение мер социальной поддержки для лиц, награжденных знаком \"Почетный донор СССР\", \"Почетный донор России\"","021",10,"03","505 29 00",null,{"$f":"H1665+H1667+H1669","v":327600}]
[10035052926,"Меры социальной поддержки пенсионеров, награжденных знаком \"Почетный донор СССР\", \"Почетный донор России\" по оплате коммунальных услуг*","021",10,"03","505 29 26",null,{"$f":"H1666","v":38480}]
[10035052926005,"Социальные выплаты","021",10,"03","505 29 26","005",38480]
[10035052927,"Ежемесячные денежные выплаты пенсионерам, награжденным знаком \"Почетный донор СССР\", \"Почетный донор России\"*  ","021",10,"03","505 29 27",null,{"$f":"H1668","v":43434}]
[10035052927005,"Социальные выплаты","021",10,"03","505 29 27","005",43434]
[10035052928,"Денежные выплаты лицам, награжденным знаком \"Почетный донор СССР\", \"Почетный донор России\"*  ","021",10,"03","505 29 28",null,{"$f":"H1670","v":245686}]
[10035052928009,"Фонд компенсаций","021",10,"03","505 29 28","009",245686]
[100350530,"Ежемесячное пособие на ребенка*","021",10,"03","505 30 00",null,{"$f":"H1672","v":2805741}]
[100350530005,"Социальные выплаты","021",10,"03","505 30 00","005",{"$f":"2429827+375914","v":2805741}]
[100350531,"Обеспечение мер социальной поддержки ветеранов труда и тружеников тыла","021",10,"03","505 31 00",null,{"$f":"H1674+H1676+H1678+H1680+H1682+H1684+H1686+H1688+H1690+H1692+H1694+H1696","v":10217397}]
[10035053111,"Обеспечение мер социальной поддержки по оплате жилого помещения и коммунальных услуг ветеранов труда ","021",10,"03","505 31 11",null,{"$f":"H1675","v":6189306}]
[10035053111005,"Социальные выплаты","021",10,"03","505 31 11","005",6189306]
[10035053112,"Обеспечение мер социальной поддержки по оплате жилого помещения и коммунальных услуг труженников тыла ","021",10,"03","505 31 12",null,{"$f":"H1677","v":12696}]
[10035053112005,"Социальные выплаты","021",10,"03","505 31 12","005",12696]
[10035053120,"Обеспечение мер социальной поддержки ветеранов труда по проезду на транспорте общего пользования Московской области","021",10,"03","505 31 20",null,{"$f":"H1679","v":1473600}]
[10035053120005,"Социальные выплаты","021",10,"03","505 31 20","005",1473600]
[10035053121,"Ежемесячные денежные выплаты ветеранам труда по проезду на транспорте общего пользования Московской области и на территории других субъектов Российской Федерации *","021",10,"03","505 31 21",null,{"$f":"H1681","v":1061802}]
[10035053121005,"Социальные выплаты","021",10,"03","505 31 21","005",1061802]
[10035053122,"Ежемесячные денежные выплаты ветеранам труда по проезду на железнодорожном транспорте пригородного сообщения *","021",10,"03","505 31 22",null,{"$f":"H1683","v":58687}]
[10035053122005,"Социальные выплаты","021",10,"03","505 31 22","005",58687]
[10035053123,"Обеспечение мер социальной поддержки труженников тыла по проезду на транспорте общего пользования Московской области","021",10,"03","505 31 23",null,{"$f":"H1685","v":27917}]
[10035053123005,"Социальные выплаты","021",10,"03","505 31 23","005",27917]
[10035053124,"Ежемесячные денежные выплаты труженикам тыла по проезду на транспорте общего пользования Московской области и на территории других субъектов Российской Федерации *","021",10,"03","505 31 24",null,{"$f":"H1687","v":43771}]
[10035053124005,"Социальные выплаты","021",10,"03","505 31 24","005",43771]
[10035053125,"Ежемесячные денежные выплаты труженикам тыла по проезду на железнодорожном транспорте пригородного сообщения *","021",10,"03","505 31 25",null,{"$f":"H1689","v":8300}]
[10035053125005,"Социальные выплаты","021",10,"03","505 31 25","005",8300]
[10035053126,"Обеспечение мер социальной поддержки ветеранов труда по компенсации расходов, связанных с зубопротезированием","021",10,"03","505 31 26",null,{"$f":"H1691","v":281224}]
[10035053126005,"Социальные выплаты","021",10,"03","505 31 26","005",281224]
[10035053127,"Обеспечение мер социальной поддержки тружеников тыла по компенсации расходов, связанных с зубопротезированием","021",10,"03","505 31 27",null,{"$f":"H1693","v":20081}]
[10035053127005,"Социальные выплаты","021",10,"03","505 31 27","005",20081]
[10035053133,"Расходы на ежемесячную денежную выплату ветеранам труда*","021",10,"03","505 31 33",null,{"$f":"H1695","v":493518}]
[10035053133005,"Социальные выплаты","021",10,"03","505 31 33","005",{"$f":"409109+84409","v":493518}]
[10035053134,"Компенсация абонентской платы за телефон ветеранам труда*","021",10,"03","505 31 34",null,{"$f":"H1697","v":546495}]
[10035053134005,"Социальные выплаты","021",10,"03","505 31 34","005",546495]
[100350533,"Мероприятия в области социальной политики","021",10,"03","505 33 00",null,{"$f":"H1699+H1701+H1703+H1705+H1707","v":1970048}]
[10035053311,"Обеспечение мер социальной поддержки по оплате жилого помещения и коммунальных услуг многодетным семьям","021",10,"03","505 33 11",null,{"$f":"H1700","v":215998}]
[10035053311005,"Социальные выплаты","021",10,"03","505 33 11","005",215998]
[10035053312,"Обеспечение мер социальной поддержки по оплате жилого помещения и коммунальных услуг одиноким пенсионерам","021",10,"03","505 33 12",null,{"$f":"H1702","v":50188}]
[10035053312005,"Социальные выплаты","021",10,"03","505 33 12","005",50188]
[10035053313,"Обеспечение мер социальной поддержки по оплате жилого помещения и коммунальных услуг лиц, работающих и имеющих место жительства в сельских населенных пунктах и поселках городского типа","021",10,"03","505 33 13",null,{"$f":"H1704","v":847924}]
[10035053313005,"Социальные выплаты","021",10,"03","505 33 13","005",847924]
[10035053314,"Обеспечение мер социальной поддержки по оплате жилого помещения и коммунальных услуг иным категориям граждан ","021",10,"03","505 33 14",null,{"$f":"H1706","v":55938}]
[10035053314005,"Социальные выплаты","021",10,"03","505 33 14","005",55938]
[10035053322,"Реализация мер социальной поддержки отдельных категорий граждан по проезду на железнодорожном транспорте пригородного сообщения","021",10,"03","505 33 22",null,{"$f":"H1708","v":800000}]
[10035053322005,"Социальные выплаты","021",10,"03","505 33 22","005",800000]
[100350544,"Государственные единовременные пособия и ежемесячные денежные компенсации гражданам при возникновении поствакцинальных осложнений*","021",10,"03","505 44 00",null,{"$f":"H1710","v":372}]
[100350544009,"Фонд компенсаций","021",10,"03","505 44 00","009",372]
[100350545,"Выплаты инвалидам компенсаций страховых премий по договорам обязательного страхования гражданской ответственности владельцев транспортных средств*","021",10,"03","505 45 00",null,{"$f":"H1712","v":6783}]
[100350545009,"Фонд компенсаций","021",10,"03","505 45 00","009",6783]
[100350546,"Оплата жилищно-коммунальных услуг отдельным категориям граждан","021",10,"03","505 46 00",null,{"$f":"H1714","v":5352624}]
[100350546005,"Социальные выплаты","021",10,"03","505 46 00","005",5352624]
[100350547,"Обеспечение мер социальной поддержки реабилитированных лиц и лиц, признанных  пострадавшими от политических репрессий","021",10,"03","505 47 00",null,{"$f":"H1716+H1718+H1720+H1722+H1724+H1726+H1728+H1730+H1732","v":240026}]
[10035054710,"Обеспечение мер социальной поддержки по оплате жилого помещения и коммунальных услуг реабилитированных лиц и лиц, признанных пострадавшими от политических репрессий","021",10,"03","505 47 10",null,{"$f":"H1717","v":157456}]
[10035054710005,"Социальные выплаты","021",10,"03","505 47 10","005",157456]
[10035054720,"Обеспечение мер социальной поддержки реабилитированных лиц и лиц, признанных пострадавшими от политических репрессий по проезду на транспорте общего пользования Московской области ","021",10,"03","505 47 20",null,{"$f":"H1719","v":6436}]
[10035054720005,"Социальные выплаты","021",10,"03","505 47 20","005",6436]
[10035054721,"Ежемесячные денежные выплаты реабилитированным лицам и лицам, признанным пострадавшими от политических репрессий по проезду на транспорте общего пользования Московской области и на территории других субъектов Российской Федерации *","021",10,"03","505 47 21",null,{"$f":"H1721","v":7874}]
[10035054721005,"Социальные выплаты","021",10,"03","505 47 21","005",7874]
[10035054722,"Ежемесячные денежные выплаты реабилитированным лицам и лицам, признанным пострадавшими от политических репрессий по проезду на железнодорожном транспорте пригородного сообщения *","021",10,"03","505 47 22",null,{"$f":"H1723","v":2901}]
[10035054722005,"Социальные выплаты","021",10,"03","505 47 22","005",2901]
[10035054725,"Обеспечение мер социальной поддержки реабилитированных лиц и лиц, признанных пострадавшими от политических репрессий по компенсации расходов, связанных с зубопротезированием","021",10,"03","505 47 25",null,{"$f":"H1725","v":3059}]
[10035054725005,"Социальные выплаты","021",10,"03","505 47 25","005",3059]
[10035054730,"Меры социальной поддержки реабилитированных лиц в части бесплатной установки телефона*","021",10,"03","505 47 30",null,{"$f":"H1727","v":2056}]
[10035054730005,"Социальные выплаты","021",10,"03","505 47 30","005",2056]
[10035054731,"Компенсация расходов, связанных с погребением реабилитированных лиц*","021",10,"03","505 47 31",null,{"$f":"H1729","v":1562}]
[10035054731005,"Социальные выплаты","021",10,"03","505 47 31","005",1562]
[10035054732,"Меры социальной поддержки реабилитированных лиц в части оплаты проезда на железнодорожном транспорте один раз в год (туда и обратно)*","021",10,"03","505 47 32",null,{"$f":"H1731","v":6182}]
[10035054732005,"Социальные выплаты","021",10,"03","505 47 32","005",6182]
[10035054733,"Ежегодные денежные компенсации реабилитированным лицам*","021",10,"03","505 47 33",null,{"$f":"H1733","v":52500}]
[10035054733005,"Социальные выплаты","021",10,"03","505 47 33","005",52500]
[100350585,"Оказание других видов социальной помощи","021",10,"03","505 85 00",null,{"$f":"H1735+H1737+H1739+H1741+H1743+H1745+H1747+H1749+H1751+H1753+H1755+H1757+H1759+H1761+H1763+H1765+H1767+H1769+H1771+H1773+H1775+H1777+H1779+H1781+H1783","v":7214329}]
[10035058535,"Меры социальной поддержки отдельных категорий граждан по выплате компенсаций абонентской платы за телефон*","021",10,"03","505 85 35",null,{"$f":"H1736","v":1501}]
[10035058535005,"Социальные выплаты","021",10,"03","505 85 35","005",1501]
[10035058536,"Выплаты доплат к пенсиям отдельным категориям граждан*","021",10,"03","505 85 36",null,{"$f":"H1738","v":4520593}]
[10035058536005,"Социальные выплаты","021",10,"03","505 85 36","005",4520593]
[10035058537,"Ежемесячные компенсационные выплаты военнослужащим и членам их семей*","021",10,"03","505 85 37",null,{"$f":"H1740","v":537782}]
[10035058537005,"Социальные выплаты","021",10,"03","505 85 37","005",537782]
[10035058538,"Ежемесячные компенсационные выплаты вдовам (вдовцам) летчиков-испытателей, членов экипажей самолетов и парашютистов-испытателей *","021",10,"03","505 85 38",null,{"$f":"H1742","v":1843}]
[10035058538005,"Социальные выплаты","021",10,"03","505 85 38","005",1843]
[10035058539,"Ежемесячные компенсационные выплаты вдовам (вдовцам) Героев Советского Союза, Героев Российской Федерации и полных кавалеров ордена Славы, Героев Социалистического Труда и полных кавалеров ордена Трудовой Славы*","021",10,"03","505 85 39",null,{"$f":"H1744","v":17543}]
[10035058539005,"Социальные выплаты","021",10,"03","505 85 39","005",17543]
[10035058540,"Меры социальной поддержки отдельных категорий граждан, нуждающихся в протезно-ортопедической помощи*","021",10,"03","505 85 40",null,{"$f":"H1746","v":59223}]
[10035058540005,"Социальные выплаты","021",10,"03","505 85 40","005",59223]
[10035058541,"Обеспечение мобильными телефонами и услугами сотовой связи отдельных категорий граждан*  ","021",10,"03","505 85 41",null,{"$f":"H1748","v":16977}]
[10035058541005,"Социальные выплаты","021",10,"03","505 85 41","005",16977]
[10035058542,"Дополнительное ежемесячное пенсионное обеспечение отдельным категориям граждан, имеющим особые заслуги перед государством*","021",10,"03","505 85 42",null,{"$f":"H1750","v":54943}]
[10035058542005,"Социальные выплаты","021",10,"03","505 85 42","005",54943]
[10035058543,"Ежемесячные компенсационные выплаты детям, потерявшим одного или обоих родителей в результате террористического акта или техногенной аварии* ","021",10,"03","505 85 43",null,{"$f":"H1752","v":2875}]
[10035058543005,"Социальные выплаты","021",10,"03","505 85 43","005",2875]
[10035058544,"Единовременное пособие при рождении  детей*","021",10,"03","505 85 44",null,{"$f":"H1754","v":597886}]
[10035058544005,"Социальные выплаты","021",10,"03","505 85 44","005",{"$f":"181911+415975","v":597886}]
[10035058545,"Ежемесячное пособие детям-инвалидам* ","021",10,"03","505 85 45",null,{"$f":"H1756","v":190418}]
[10035058545005,"Социальные выплаты","021",10,"03","505 85 45","005",190418]
[10035058546,"Ежемесячное пособие студенческим семьям, имеющим детей, и отдельным категориям студентов*","021",10,"03","505 85 46",null,{"$f":"H1758","v":38698}]
[10035058546005,"Социальные выплаты","021",10,"03","505 85 46","005",38698]
[10035058547,"Единовременное пособие супругам к юбилеям их совместной жизни*","021",10,"03","505 85 47",null,{"$f":"H1760","v":88140}]
[10035058547005,"Социальные выплаты","021",10,"03","505 85 47","005",88140]
[10035058548,"Обеспечение санаторно-курортными путевками отдельных категорий детей*","021",10,"03","505 85 48",null,{"$f":"H1762","v":93865}]
[10035058548005,"Социальные выплаты","021",10,"03","505 85 48","005",93865]
[10035058549,"Оказание государственной социальной помощи малоимущим семьям, малоимущим одиноко проживающим гражданам и иным категориям граждан*","021",10,"03","505 85 49",null,{"$f":"H1764","v":313000}]
[10035058549005,"Социальные выплаты","021",10,"03","505 85 49","005",313000]
[10035058550,"Оказание адресной материальной помощи гражданам, находящимся в трудной жизненной ситуации*","021",10,"03","505 85 50",null,{"$f":"H1766","v":30707}]
[10035058550005,"Социальные выплаты","021",10,"03","505 85 50","005",30707]
[10035058551,"Единовременная материальная помощь на погребение*","021",10,"03","505 85 51",null,{"$f":"H1768","v":29888}]
[10035058551005,"Социальные выплаты","021",10,"03","505 85 51","005",29888]
[10035058552,"Единовременная материальная помощь в связи с празднованием 64-й годовщины снятия блокады города Ленинграда отдельным категориям граждан*","021",10,"03","505 85 52",null,{"$f":"H1770","v":4095}]
[10035058552005,"Социальные выплаты","021",10,"03","505 85 52","005",4095]
[10035058553,"Единовременная материальная помощь в связи с празднованием 67-й годовщины начала контрнаступления советских войск против немецко-фашистских войск в битве под Москвой гражданам, награжденным медалью \"За оборону Москвы\"*","021",10,"03","505 85 53",null,{"$f":"H1772","v":7758}]
[10035058553005,"Социальные выплаты","021",10,"03","505 85 53","005",7758]
[10035058554,"Единовременная материальная помощь в связи с празднованием 63-й годовщины Победы в Великой Отечественной войне 1941-1945 годов отдельным категориям граждан*","021",10,"03","505 85 54",null,{"$f":"H1774","v":385497}]
[10035058554005,"Социальные выплаты","021",10,"03","505 85 54","005",385497]
[10035058555,"Единовременная материальная помощь членам семей ветеранов боевых действий, умерших от заболеваний не связанных с участием в боевых действиях*","021",10,"03","505 85 55",null,{"$f":"H1776","v":0}]
[10035058555005,"Социальные выплаты","021",10,"03","505 85 55","005",{"$f":"5045-5045","v":0}]
[10035058556,"Проведение подписки на периодические печатные издания малоимущим гражданам*","021",10,"03","505 85 56",null,{"$f":"H1778","v":22600}]
[10035058556005,"Социальные выплаты","021",10,"03","505 85 56","005",22600]
[10035058557,"Обеспечение бесплатными санаторно-курортными путевками отдельных категорий неработающих граждан*","021",10,"03","505 85 57",null,{"$f":"H1780","v":62716}]
[10035058557005,"Социальные выплаты","021",10,"03","505 85 57","005",62716]
[10035058560,"Компенсация расходов, связанных с зубопротезированием лиц, родившихся до 1 января 1935 года и не имеющих других льгот","021",10,"03","505 85 60",null,{"$f":"H1782","v":90250}]
[10035058560005,"Социальные выплаты","021",10,"03","505 85 60","005",90250]
[10035058561,"Компенсация расходов, связанных со слухопротезированием граждан, не имеющим ограничения способности к трудовой деятельности ","021",10,"03","505 85 61",null,{"$f":"H1784","v":45531}]
[10035058561005,"Социальные выплаты","021",10,"03","505 85 61","005",45531]
[1003514,"Реализация государственных функций в области социальной политики","021",10,"03","514 00 00",null,{"$f":"H1786","v":52800}]
[100351401,"Мероприятия в области социальной политики","021",10,"03","514 01 00",null,{"$f":"H1787+H1789","v":52800}]
[10035140101,"Изготовление и обслуживание социальных карт жителя Московской области","021",10,"03","514 01 01",null,{"$f":"H1788","v":45000}]
[10035140101013,"Прочие расходы","021",10,"03","514 01 01","013",45000]
[10035140102,"Приобретение бланков временных единых социальных билетов жителя Московской области ","021",10,"03","514 01 02",null,{"$f":"H1790","v":7800}]
[10035140102013,"Прочие расходы","021",10,"03","514 01 02","013",7800]
[1004,"Охрана семьи и детства","021",10,"04",null,null,{"$f":"H1792+H1798","v":66185}]
[1004511,"Мероприятия по борьбе с беспризорностью, по опеке и попечительству","021",10,"04","511 00 00",null,{"$f":"H1793+H1796","v":64185}]
[100451102,"Перевозка несовершеннолетних, самовольно ушедших из семей, детских домов, школ-интернатов, специальных учебно-воспитательных и иных детских учреждений","021",10,"04","511 02 00",null,{"$f":"SUM(H1794:H1795)","v":580}]
[100451102009,"Фонд компенсаций","021",10,"04","511 02 00","009",530]
[100451102013,"Прочие расходы","021",10,"04","511 02 00","013",50]
[100451106,"Вознаграждение патронатного родителя*","021",10,"04","511 06 00",null,{"$f":"H1797","v":63605}]
[100451106005,"Социальные выплаты","021",10,"04","511 06 00","005",63605]
[1004514,"Реализация государственных функций в области социальной политики","021",10,"04","514 00 00",null,{"$f":"H1799","v":2000}]
[100451401,"Мероприятия в области социальной политики","021",10,"04","514 01 00",null,{"$f":"H1800","v":2000}]
[10045140103,"Компенсация расходов, связанных с оплатой проезда детей больных онкологическими заболеваниями к месту лечения и обратно","021",10,"04","514 01 03",null,{"$f":"H1801","v":2000}]
[10045140103005,"Социальные выплаты","021",10,"04","514 01 03","005",2000]
[1006,"Другие вопросы в области социальной политики","021",10,"06",null,null,{"$f":"H1803+H1807+H1814+H1823","v":2441693}]
[1006002,"Руководство и управление в сфере установленных функций органов государственной власти субъектов Российской Федерации  и органов местного самоуправления","021",10,"06","002 00 00",null,{"$f":"H1804","v":2328189}]
[100600204,"Центральный аппарат","021",10,"06","002 04 00",null,{"$f":"SUM(H1805:H1806)","v":2328189}]
[100600204012,"Выполнение функций государственными органами","021",10,"06","002 04 00","012",{"$f":"1988045+285000","v":2273045}]
[100600204902,"Проведение мероприятий по защите информации, обеспечению безопасности информационных систем и баз данных, содержащих конфиденциальную информацию, в том числе персональные данные населения Московской области","021",10,"06","002 04 00",902,55144]
[1006803,"Расходы на страхование ","021",10,"06","803 00 00",null,{"$f":"H1808+H1810+H1812","v":27340}]
[10068030001,"Расходы на страхование имущества, находящегося в государственной собственности Московской области","021",10,"06","803 00 01",null,{"$f":"H1809","v":19040}]
[10068030001013,"Прочие расходы","021",10,"06","803 00 01","013",19040]
[10068030002,"Расходы на страхование гражданской ответственности учреждений, находящихся в государственной собственности Московской области","021",10,"06","803 00 02",null,{"$f":"H1811","v":4000}]
[10068030002013,"Прочие расходы","021",10,"06","803 00 02","013",4000]
[10068030003,"Расходы на обязательное страхование гражданской ответственности владельцев транспортных средств","021",10,"06","803 00 03",null,{"$f":"H1813","v":4300}]
[10068030003013,"Прочие расходы","021",10,"06","803 00 03","013",4300]
[1006806,"Прочие расходы, не отнесенные к другим целевым статьям","021",10,"06","806 00 00",null,{"$f":"H1815+H1817+H1819+H1821","v":85664}]
[10068060030,"Создание финансового резерва для обеспечения выплаты дополнительных пенсий работникам государственных учреждений Московской области, вышедшим на пенсию","021",10,"06","806 00 30",null,{"$f":"H1816","v":30347}]
[10068060030013,"Прочие расходы","021",10,"06","806 00 30","013",30347]
[10068060031,"Компенсация расходов адвокатам, оказывающим гражданам Российской Федерации на территории Московской области юридическую помощь бесплатно","021",10,"06","806 00 31",null,{"$f":"H1818","v":150}]
[10068060031013,"Прочие расходы","021",10,"06","806 00 31","013",150]
[10068060032,"Проведение мероприятий в сфере социальной защиты населения, посвященных знаменательным событиям и памятным датам, установленным в Российской Федерации и Московской области ","021",10,"06","806 00 32",null,{"$f":"H1820","v":31815}]
[10068060032013,"Прочие расходы","021",10,"06","806 00 32","013",31815]
[10068060033,"Возмещение стоимости услуг, согласно гарантированному перечню услуг по погребению умерших","021",10,"06","806 00 33",null,{"$f":"H1822","v":23352}]
[10068060033013,"Прочие расходы","021",10,"06","806 00 33","013",23352]
[1006808,"Расходы на оценку имущества, подлежащего страхованию","021",10,"06","808 00 00",null,{"$f":"H1824","v":500}]
[1006808013,"Прочие расходы","021",10,"06","808 00 00","013",500]
[]
[0,"Министерство транспорта Московской области","022",null,null,null,null,{"$f":"H1827+H1837+H1871+H1832+H1876+H1886","v":4765724}]
[2,"Национальная оборона","022","02",null,null,null,{"$f":"H1828","v":150}]
[204,"Мобилизационная подготовка экономики","022","02","04",null,null,{"$f":"H1829","v":150}]
[204209,"Реализация государственных функций по мобилизационной подготовке экономики","022","02","04","209 00 00",null,{"$f":"H1830","v":150}]
[20420901,"Мероприятия по обеспечению  мобилизационной готовности экономики","022","02","04","209 01 00",null,{"$f":"H1831","v":150}]
[20420901012,"Выполнение функций государственными органами","022","02","04","209 01 00","012",150]
[3,"Национальная безопасность и правоохранительная деятельность","022","03",null,null,null,{"$f":"H1833","v":121}]
[309,"Защита населения и территории от последствий чрезвычайных ситуаций природного и техногенного характера, гражданская оборона ","022","03","09",null,null,{"$f":"H1834","v":121}]
[309219,"Мероприятия по гражданской обороне","022","03","09","219 00 00",null,{"$f":"H1835","v":121}]
[30921901,"Подготовка населения и организаций к действиям в чрезвычайной ситуации в мирное и военное время","022","03","09","219 01 00",null,{"$f":"H1836","v":121}]
[30921901012,"Выполнение функций государственными органами","022","03","09","219 01 00","012",121]
[4,"Национальная экономика","022","04",null,null,null,{"$f":"H1838+H1857+H1861","v":2375434}]
[408,"Транспорт","022","04","08",null,null,{"$f":"H1839+H1842+H1845+H1851","v":2020818}]
[408002,"Руководство и управление в сфере установленных функций органов государственной власти субъектов Российской Федерации  и органов местного самоуправления","022","04","08","002 00 00",null,{"$f":"H1840","v":308487}]
[40800204,"Центральный аппарат","022","04","08","002 04 00",null,{"$f":"H1841","v":308487}]
[40800204012,"Выполнение функций государственными органами","022","04","08","002 04 00","012",308487]
[408301,"Водный транспорт","022","04","08","301 00 00",null,{"$f":"H1843","v":2070}]
[40830103,"Отдельные мероприятия в области морского и речного транспорта","022","04","08","301 03 00",null,{"$f":"H1844","v":2070}]
[40830103006,"Субсидии юридическим лицам","022","04","08","301 03 00","006",2070]
[408303,"Автомобильный транспорт","022","04","08","303 00 00",null,{"$f":"H1846","v":0}]
[40830302,"Отдельные мероприятия в области автомобильного транспорта","022","04","08","303 02 00",null,{"$f":"H1847+H1849","v":0}]
[4083030201,"Расходы на организацию транспортного обслуживания населения автомобильным транспортом (пригородное и межмуниципальное сообщение)","022","04","08","303 02 01",null,{"$f":"H1848","v":0}]
[4083030201006,"Субсидии юридическим лицам","022","04","08","303 02 01","006",{"$f":"1690261-1690261","v":0}]
[4083030202,"Расходы на проведение мероприятий, общегосударственных праздников и юбилейных дат Московской области в области транспорта","022","04","08","303 02 02",null,{"$f":"H1850","v":0}]
[4083030202013,"Прочие расходы","022","04","08","303 02 02","013",{"$f":"20000-20000","v":0}]
[408317,"Другие виды транспорта","022","04","08","317 00 00",null,{"$f":"H1852","v":1710261}]
[40831701,"Субсидии на проведение отдельных мероприятий по другим видам транспорта","022","04","08","317 01 00",null,{"$f":"H1853+H1855","v":1710261}]
[4083170102,"Расходы на организацию транспортного обслуживания населения автомобильным транспортом (пригородное и межмуниципальное сообщение)","022","04","08","317 01 02",null,{"$f":"H1854","v":1690261}]
[4083170102006,"Субсидии юридическим лицам","022","04","08","317 01 02","006",1690261]
[4083170103,"Расходы на проведение мероприятий, общегосударственных праздников и юбилейных дат Московской области в области транспорта","022","04","08","317 01 03",null,{"$f":"H1856","v":20000}]
[4083170103013,"Прочие расходы","022","04","08","317 01 03","013",20000]
[410,"Связь и информатика","022","04","10",null,null,{"$f":"H1858","v":26000}]
[410330,"Информационные технологии и связь","022","04","10","330 00 00",null,{"$f":"H1859","v":26000}]
[41033082,"Информатика","022","04","10","330 82 00",null,{"$f":"H1860","v":26000}]
[41033082012,"Выполнение функций государственными органами","022","04","10","330 82 00","012",26000]
[412,"Другие вопросы в области национальной экономики","022","04",12,null,null,{"$f":"H1862+H1865","v":328616}]
[412002,"Руководство и управление в сфере установленных функций органов государственной власти субъектов Российской Федерации  и органов местного самоуправления","022","04",12,"002 00 00",null,{"$f":"H1863","v":327366}]
[41200299,"Обеспечение деятельности подведомственных учреждений","022","04",12,"002 99 00",null,{"$f":"H1864","v":327366}]
[41200299001,"Выполнение функций бюджетными учреждениями","022","04",12,"002 99 00","001",327366]
[412522,"Региональные целевые программы","022","04",12,"522 00 00",null,{"$f":"H1866","v":1250}]
[41252210,"Областная целевая программа \"Обеспечение безопасности дорожного движения на территории Московской области в 2007-2010 годах\"","022","04",12,"522 10 00",null,{"$f":"H1867+H1869","v":1250}]
[4125221001,"Раздел \"Предупреждение опасного поведения участников дорожного движения\"","022","04",12,"522 10 01",null,{"$f":"H1868","v":1000}]
[4125221001038,"Мероприятия по повышению безопасности дорожного движения","022","04",12,"522 10 01","038",1000]
[4125221003,"Раздел \"Совершенствование системы подготовки и переподготовки водительского, ремонтного и инженерно-технического персонала\"","022","04",12,"522 10 03",null,{"$f":"H1870","v":250}]
[4125221003038,"Мероприятия по повышению безопасности дорожного движения","022","04",12,"522 10 03","038",250]
[7,"Образование","022","07",null,null,null,{"$f":"H1872","v":245}]
[707,"Молодежная политика и оздоровление детей","022","07","07",null,null,{"$f":"H1873","v":245}]
[707432,"Мероприятия по проведению оздоровительной кампании детей ","022","07","07","432 00 00",null,{"$f":"H1874","v":245}]
[70743202,"Оздоровление детей ","022","07","07","432 02 00",null,{"$f":"H1875","v":245}]
[70743202001,"Выполнение функций бюджетными учреждениями","022","07","07","432 02 00","001",245]
[10,"Социальная политика","022",10,null,null,null,{"$f":"H1877","v":2189774}]
[1003,"Социальное обеспечение населения","022",10,"03",null,null,{"$f":"H1878","v":2189774}]
[1003505,"Социальная помощь","022",10,"03","505 00 00",null,{"$f":"H1879+H1884","v":2189774}]
[100350533,"Мероприятия в области социальной политики","022",10,"03","505 33 00",null,{"$f":"H1880+H1882","v":1951483}]
[10035053320,"Финансирование транспортным организациям выпадающих доходов, возникающих в связи с предоставлением мер социальной поддержки по проезду отдельных категорий граждан, имеющих место жительства в Московской области, за исключением ветеранов труда, тружеников тыла, реабилитированных лиц и лиц, признанных пострадавшими от политических репрессий,  финансирование выпадающих доходов по перевозке отдельных категорий граждан на внутреннем водном транспорте пригородного сообщения","022",10,"03","505 33 20",null,{"$f":"H1881","v":1194483}]
[10035053320005,"Социальные выплаты","022",10,"03","505 33 20","005",1194483]
[10035053321,"Финансирование транспортным организациям выпадающих доходов, возникающих в связи с реализацией мер социальной поддержки в части транспортного обслуживания отдельных категорий граждан, имеющих место жительства в городе Москве, пассажирским транспортом общего пользования Московской области","022",10,"03","505 33 21",null,{"$f":"H1883","v":757000}]
[10035053321005,"Социальные выплаты","022",10,"03","505 33 21","005",757000]
[100350537,"Обеспечение равной доступности услуг общественного транспорта на территории соответствующего субъекта Российской Федерации для отдельных категорий граждан","022",10,"03","505 37 00",null,{"$f":"H1885","v":238291}]
[100350537005,"Социальные выплаты","022",10,"03","505 37 00","005",238291]
[11,"Межбюджетные трансферты","022",11,null,null,null,{"$f":"H1887","v":200000}]
[1104,"Иные межбюджетные трансферты","022",11,"04",null,null,{"$f":"H1888","v":200000}]
[1104520,"Иные безвозмездные и безвозвратные перечисления","022",11,"04","520 00 00",null,{"$f":"H1889","v":200000}]
[110452015,"Средства, передаваемые для компенсации дополнительных расходов, возникших в результате решений, принятых органами власти другого уровня","022",11,"04","520 15 00",null,{"$f":"H1890","v":200000}]
[110452015017,"Иные межбюджетные трансферты","022",11,"04","520 15 00","017",200000]
[]
[0,"Главное контрольное управление Московской области","023",null,null,null,null,{"$f":"H1893+H1898+H1903+H1908","v":116246}]
[1,"Общегосударственные вопросы","023","01",null,null,null,{"$f":"H1894","v":116048}]
[106,"Обеспечение деятельности финансовых, налоговых и таможенных органов и органов финансового (финансово-бюджетного) надзора","023","01","06",null,null,{"$f":"H1895","v":116048}]
[106002,"Руководство и управление в сфере установленных функций органов государственной власти субъектов Российской Федерации  и органов местного самоуправления","023","01","06","002 00 00",null,{"$f":"H1896","v":116048}]
[10600204,"Центральный аппарат","023","01","06","002 04 00",null,{"$f":"H1897","v":116048}]
[10600204012,"Выполнение функций государственными органами","023","01","06","002 04 00","012",116048]
[2,"Национальная оборона","023","02",null,null,null,{"$f":"H1899","v":114}]
[204,"Мобилизационная подготовка экономики","023","02","04",null,null,{"$f":"H1900","v":114}]
[204209,"Реализация государственных функций по мобилизационной подготовке экономики","023","02","04","209 00 00",null,{"$f":"H1901","v":114}]
[20420901,"Мероприятия по обеспечению  мобилизационной готовности экономики","023","02","04","209 01 00",null,{"$f":"H1902","v":114}]
[20420901012,"Выполнение функций государственными органами","023","02","04","209 01 00","012",114]
[3,"Национальная безопасность и правоохранительная деятельность","023","03",null,null,null,{"$f":"H1904","v":41}]
[309,"Защита населения и территории от последствий чрезвычайных ситуаций природного и техногенного характера, гражданская оборона ","023","03","09",null,null,{"$f":"H1905","v":41}]
[309219,"Мероприятия по гражданской обороне","023","03","09","219 00 00",null,{"$f":"H1906","v":41}]
[30921901,"Подготовка населения и организаций к действиям в чрезвычайной ситуации в мирное и военное время","023","03","09","219 01 00",null,{"$f":"H1907","v":41}]
[30921901012,"Выполнение функций государственными органами","023","03","09","219 01 00","012",41]
[7,"Образование","023","07",null,null,null,{"$f":"H1909","v":43}]
[707,"Молодежная политика и оздоровление детей","023","07","07",null,null,{"$f":"H1910","v":43}]
[707432,"Мероприятия по проведению оздоровительной кампании детей ","023","07","07","432 00 00",null,{"$f":"H1911","v":43}]
[70743202,"Оздоровление детей ","023","07","07","432 02 00",null,{"$f":"H1912","v":43}]
[70743202001,"Выполнение функций бюджетными учреждениями","023","07","07","432 02 00","001",43]
[]
[0,"Главное управление региональной безопасности Московской области","024",null,null,null,null,{"$f":"H1915+H1920+H1925+H1956","v":566033}]
[1,"Общегосударственные вопросы","024","01",null,null,null,{"$f":"H1916","v":171189}]
[114,"Другие общегосударственные вопросы","024","01",14,null,null,{"$f":"H1917","v":171189}]
[114002,"Руководство и управление в сфере установленных функций органов государственной власти субъектов Российской Федерации  и органов местного самоуправления","024","01",14,"002 00 00",null,{"$f":"H1918","v":171189}]
[11400204,"Центральный аппарат","024","01",14,"002 04 00",null,{"$f":"H1919","v":171189}]
[11400204012,"Выполнение функций государственными органами","024","01",14,"002 04 00","012",171189]
[2,"Национальная оборона","024","02",null,null,null,{"$f":"H1921","v":530}]
[204,"Мобилизационная подготовка экономики","024","02","04",null,null,{"$f":"H1922","v":530}]
[204209,"Реализация государственных функций по мобилизационной подготовке экономики","024","02","04","209 00 00",null,{"$f":"H1923","v":530}]
[20420901,"Мероприятия по обеспечению  мобилизационной готовности экономики","024","02","04","209 01 00",null,{"$f":"H1924","v":530}]
[20420901012,"Выполнение функций государственными органами","024","02","04","209 01 00","012",530]
[3,"Национальная безопасность и правоохранительная деятельность","024","03",null,null,null,{"$f":"H1926+H1934+H1942+H1947+H1951","v":394237}]
[302,"Органы внутренних дел","024","03","02",null,null,{"$f":"H1927","v":48354}]
[302202,"Воинские формирования (органы, подразделения)","024","03","02","202 00 00",null,{"$f":"H1928+H1931","v":48354}]
[30220258,"Военный  персонал  ","024","03","02","202 58 00",null,{"$f":"H1929","v":48298}]
[3022025801,"Дополнительные гарантии социальной защиты сотрудникам  территориальных федеральных органов, установленные законодательством Московской области ","024","03","02","202 58 01",null,{"$f":"H1930","v":48298}]
[3022025801014,"Функционирование органов в сфере национальной безопасности, правоохранительной деятельности и обороны","024","03","02","202 58 01","014",48298]
[30220267,"Функционирование органов в сфере национальной безопасности, правоохранительной деятельности ","024","03","02","202 67 00",null,{"$f":"H1932","v":56}]
[3022026701,"Дополнительные гарантии социальной защиты  гражданскому персоналу территориальных федеральных органов, установленные законодательством Московской области ","024","03","02","202 67 01",null,{"$f":"H1933","v":56}]
[3022026701014,"Функционирование органов в сфере национальной безопасности, правоохранительной деятельности и обороны","024","03","02","202 67 01","014",56]
[305,"Система исполнения наказаний","024","03","05",null,null,{"$f":"H1935","v":177958}]
[305202,"Воинские формирования (органы, подразделения)","024","03","05","202 00 00",null,{"$f":"H1936+H1939","v":177958}]
[30520258,"Военный  персонал  ","024","03","05","202 58 00",null,{"$f":"H1937","v":147086}]
[3052025801,"Дополнительные гарантии социальной защиты сотрудникам  территориальных федеральных органов, установленные законодательством Московской области ","024","03","05","202 58 01",null,{"$f":"H1938","v":147086}]
[3052025801014,"Функционирование органов в сфере национальной безопасности, правоохранительной деятельности и обороны","024","03","05","202 58 01","014",147086]
[30520267,"Функционирование органов в сфере национальной безопасности, правоохранительной деятельности ","024","03","05","202 67 00",null,{"$f":"H1940","v":30872}]
[3052026701,"Дополнительные гарантии социальной защиты  гражданскому персоналу территориальных федеральных органов, установленные законодательством Московской области ","024","03","05","202 67 01",null,{"$f":"H1941","v":30872}]
[3052026701014,"Функционирование органов в сфере национальной безопасности, правоохранительной деятельности и обороны","024","03","05","202 67 01","014",30872]
[308,"Органы по контролю за оборотом наркотических средств и психотропных веществ","024","03","08",null,null,{"$f":"H1943","v":67662}]
[308202,"Воинские формирования (органы, подразделения)","024","03","08","202 00 00",null,{"$f":"H1944","v":67662}]
[30820258,"Военный  персонал  ","024","03","08","202 58 00",null,{"$f":"H1945","v":67662}]
[3082025801,"Дополнительные гарантии социальной защиты сотрудникам  территориальных федеральных органов, установленные законодательством Московской области ","024","03","08","202 58 01",null,{"$f":"H1946","v":67662}]
[3082025801014,"Функционирование органов в сфере национальной безопасности, правоохранительной деятельности и обороны","024","03","08","202 58 01","014",67662]
[309,"Защита населения и территории от последствий чрезвычайных ситуаций природного и техногенного характера, гражданская оборона ","024","03","09",null,null,{"$f":"H1948","v":263}]
[309219,"Мероприятия по гражданской обороне","024","03","09","219 00 00",null,{"$f":"H1949","v":263}]
[30921901,"Подготовка населения и организаций к действиям в чрезвычайной ситуации в мирное и военное время","024","03","09","219 01 00",null,{"$f":"H1950","v":263}]
[30921901012,"Выполнение функций государственными органами","024","03","09","219 01 00","012",263]
[310,"Обеспечение пожарной безопасности","024","03",10,null,null,{"$f":"H1952","v":100000}]
[310202,"Воинские формирования (органы, подразделения)","024","03",10,"202 00 00",null,{"$f":"H1953","v":100000}]
[31020258,"Военный  персонал  ","024","03",10,"202 58 00",null,{"$f":"H1954","v":100000}]
[3102025801,"Дополнительные гарантии социальной защиты сотрудникам  территориальных федеральных органов, установленные законодательством Московской области ","024","03",10,"202 58 01",null,{"$f":"H1955","v":100000}]
[3102025801014,"Функционирование органов в сфере национальной безопасности, правоохранительной деятельности и обороны","024","03",10,"202 58 01","014",100000]
[7,"Образование","024","07",null,null,null,{"$f":"H1957","v":77}]
[707,"Молодежная политика и оздоровление детей","024","07","07",null,null,{"$f":"H1958","v":77}]
[707432,"Мероприятия по проведению оздоровительной кампании детей ","024","07","07","432 00 00",null,{"$f":"H1959","v":77}]
[70743202,"Оздоровление детей ","024","07","07","432 02 00",null,{"$f":"H1960","v":77}]
[70743202001,"Выполнение функций бюджетными учреждениями","024","07","07","432 02 00","001",77]
[]
[0,"Главное управление архитектуры и градостроительства Московской области","025",null,null,null,null,{"$f":"H1963+H1968+H1973+H1977","v":288644}]
[2,"Национальная оборона","025","02",null,null,null,{"$f":"H1964","v":100}]
[204,"Мобилизационная подготовка экономики","025","02","04",null,null,{"$f":"H1965","v":100}]
[204209,"Реализация государственных функций по мобилизационной подготовке экономики","025","02","04","209 00 00",null,{"$f":"H1966","v":100}]
[20420901,"Мероприятия по обеспечению  мобилизационной готовности экономики","025","02","04","209 01 00",null,{"$f":"H1967","v":100}]
[20420901012,"Выполнение функций государственными органами","025","02","04","209 01 00","012",100]
[3,"Национальная безопасность и правоохранительная деятельность","025","03",null,null,null,{"$f":"H1969","v":325}]
[309,"Защита населения и территории от последствий чрезвычайных ситуаций природного и техногенного характера, гражданская оборона ","025","03","09",null,null,{"$f":"H1970","v":325}]
[309219,"Мероприятия по гражданской обороне","025","03","09","219 00 00",null,{"$f":"H1971","v":325}]
[30921901,"Подготовка населения и организаций к действиям в чрезвычайной ситуации в мирное и военное время","025","03","09","219 01 00",null,{"$f":"H1972","v":325}]
[30921901012,"Выполнение функций государственными органами","025","03","09","219 01 00","012",325]
[4,"Национальная экономика","025","04",null,null,null,{"$f":"H1974","v":190340}]
[412,"Другие вопросы в области национальной экономики","025","04",12,null,null,{"$f":"H1975","v":190340}]
[412338,"Мероприятия в области строительства, архитектуры и градостроительства","025","04",12,"338 00 00",null,{"$f":"H1976","v":190340}]
[412338012,"Выполнение функций государственными органами","025","04",12,"338 00 00","012",190340]
[5,"Жилищно-коммунальное хозяйство","025","05",null,null,null,{"$f":"H1978","v":97879}]
[505,"Другие вопросы в области жилищно-коммунального хозяйства","025","05","05",null,null,{"$f":"H1979","v":97879}]
[505002,"Руководство и управление в сфере установленных функций органов государственной власти субъектов Российской Федерации  и органов местного самоуправления","025","05","05","002 00 00",null,{"$f":"H1980","v":97879}]
[50500204,"Центральный аппарат","025","05","05","002 04 00",null,{"$f":"SUM(H1981:H1982)","v":97879}]
[50500204012,"Выполнение функций государственными органами","025","05","05","002 04 00","012",97379]
[50500204902,"Проведение мероприятий по защите информации, обеспечению безопасности информационных систем и баз данных, содержащих конфиденциальную информацию, в том числе персональные данные населения Московской области","025","05","05","002 04 00",902,500]
[]
[0,"Главное управление государственного строительного надзора Московской области","026",null,null,null,null,{"$f":"H1985+H1990","v":225063}]
[4,"Национальная экономика","026","04",null,null,null,{"$f":"H1986","v":224791}]
[401,"Общеэкономические вопросы","026","04","01",null,null,{"$f":"H1987","v":224791}]
[401002,"Руководство и управление в сфере установленных функций органов государственной власти субъектов Российской Федерации  и органов местного самоуправления","026","04","01","002 00 00",null,{"$f":"H1988","v":224791}]
[40100204,"Центральный аппарат","026","04","01","002 04 00",null,{"$f":"H1989","v":224791}]
[40100204012,"Выполнение функций государственными органами","026","04","01","002 04 00","012",224791]
[7,"Образование","026","07",null,null,null,{"$f":"H1991","v":272}]
[707,"Молодежная политика и оздоровление детей","026","07","07",null,null,{"$f":"H1992","v":272}]
[707432,"Мероприятия по проведению оздоровительной кампании детей ","026","07","07","432 00 00",null,{"$f":"H1993","v":272}]
[70743202,"Оздоровление детей ","026","07","07","432 02 00",null,{"$f":"H1994","v":272}]
[70743202001,"Выполнение функций бюджетными учреждениями","026","07","07","432 02 00","001",272]
[]
[0,"Главное управление записи актов гражданского состояния Московской области","027",null,null,null,null,{"$f":"H1997+H2006+H2011+H2016","v":492295}]
[1,"Общегосударственные вопросы","027","01",null,null,null,{"$f":"H1998","v":491211}]
[114,"Другие общегосударственные вопросы","027","01",14,null,null,{"$f":"H1999+H2002","v":491211}]
[114001,"Руководство и управление в сфере установленных функций","027","01",14,"001 00 00",null,{"$f":"H2000","v":180190}]
[11400138,"Государственная регистрация актов гражданского состояния ","027","01",14,"001 38 00",null,{"$f":"SUM(H2001:H2001)","v":180190}]
[11400138012,"Выполнение функций государственными органами","027","01",14,"001 38 00","012",180190]
[114002,"Руководство и управление в сфере установленных функций органов государственной власти субъектов Российской Федерации  и органов местного самоуправления","027","01",14,"002 00 00",null,{"$f":"H2003","v":311021}]
[11400204,"Центральный аппарат","027","01",14,"002 04 00",null,{"$f":"SUM(H2004:H2005)","v":311021}]
[11400204012,"Выполнение функций государственными органами","027","01",14,"002 04 00","012",294171]
[11400204902,"Проведение мероприятий по защите информации, обеспечению безопасности информационных систем и баз данных, содержащих конфиденциальную информацию, в том числе персональные данные населения Московской области","027","01",14,"002 04 00",902,16850]
[2,"Национальная оборона","027","02",null,null,null,{"$f":"H2007","v":120}]
[204,"Мобилизационная подготовка экономики","027","02","04",null,null,{"$f":"H2008","v":120}]
[204209,"Реализация государственных функций по мобилизационной подготовке экономики","027","02","04","209 00 00",null,{"$f":"H2009","v":120}]
[20420901,"Мероприятия по обеспечению  мобилизационной готовности экономики","027","02","04","209 01 00",null,{"$f":"H2010","v":120}]
[20420901012,"Выполнение функций государственными органами","027","02","04","209 01 00","012",120]
[3,"Национальная безопасность и правоохранительная деятельность","027","03",null,null,null,{"$f":"H2012","v":720}]
[309,"Защита населения и территории от последствий чрезвычайных ситуаций природного и техногенного характера, гражданская оборона ","027","03","09",null,null,{"$f":"H2013","v":720}]
[309219,"Мероприятия по гражданской обороне","027","03","09","219 00 00",null,{"$f":"H2014","v":720}]
[30921901,"Подготовка населения и организаций к действиям в чрезвычайной ситуации в мирное и военное время","027","03","09","219 01 00",null,{"$f":"H2015","v":720}]
[30921901012,"Выполнение функций государственными органами","027","03","09","219 01 00","012",720]
[7,"Образование","027","07",null,null,null,{"$f":"H2017","v":244}]
[707,"Молодежная политика и оздоровление детей","027","07","07",null,null,{"$f":"H2018","v":244}]
[707432,"Мероприятия по проведению оздоровительной кампании детей ","027","07","07","432 00 00",null,{"$f":"H2019","v":244}]
[70743202,"Оздоровление детей ","027","07","07","432 02 00",null,{"$f":"H2020","v":244}]
[70743202001,"Выполнение функций бюджетными учреждениями","027","07","07","432 02 00","001",244]
[]
[0,"Главное управление по труду и социальным вопросам Московской области","028",null,null,null,null,{"$f":"H2023+H2032+H2037+H2042","v":75805}]
[1,"Общегосударственные вопросы","028","01",null,null,null,{"$f":"H2024","v":70044}]
[114,"Другие общегосударственные вопросы","028","01",14,null,null,{"$f":"H2025+H2028","v":70044}]
[114001,"Руководство и управление в сфере установленных функций","028","01",14,"001 00 00",null,{"$f":"H2026","v":9269}]
[11400166,"Подготовка и проведение Праздника труда в Московской области","028","01",14,"001 66 00",null,{"$f":"H2027","v":9269}]
[11400166013,"Прочие расходы","028","01",14,"001 66 00","013",9269]
[114002,"Руководство и управление в сфере установленных функций органов государственной власти субъектов Российской Федерации  и органов местного самоуправления","028","01",14,"002 00 00",null,{"$f":"H2029","v":60775}]
[11400204,"Центральный аппарат","028","01",14,"002 04 00",null,{"$f":"SUM(H2030:H2031)","v":60775}]
[11400204012,"Выполнение функций государственными органами","028","01",14,"002 04 00","012",59938]
[11400204902,"Проведение мероприятий по защите информации, обеспечению безопасности информационных систем и баз данных, содержащих конфиденциальную информацию, в том числе персональные данные населения Московской области","028","01",14,"002 04 00",902,837]
[2,"Национальная оборона","028","02",null,null,null,{"$f":"H2033","v":90}]
[204,"Мобилизационная подготовка экономики","028","02","04",null,null,{"$f":"H2034","v":90}]
[204209,"Реализация государственных функций по мобилизационной подготовке экономики","028","02","04","209 00 00",null,{"$f":"H2035","v":90}]
[20420901,"Мероприятия по обеспечению  мобилизационной готовности экономики","028","02","04","209 01 00",null,{"$f":"H2036","v":90}]
[20420901012,"Выполнение функций государственными органами","028","02","04","209 01 00","012",90]
[3,"Национальная безопасность и правоохранительная деятельность","028","03",null,null,null,{"$f":"H2038","v":111}]
[309,"Защита населения и территории от последствий чрезвычайных ситуаций природного и техногенного характера, гражданская оборона ","028","03","09",null,null,{"$f":"H2039","v":111}]
[309219,"Мероприятия по гражданской обороне","028","03","09","219 00 00",null,{"$f":"H2040","v":111}]
[30921901,"Подготовка населения и организаций к действиям в чрезвычайной ситуации в мирное и военное время","028","03","09","219 01 00",null,{"$f":"H2041","v":111}]
[30921901012,"Выполнение функций государственными органами","028","03","09","219 01 00","012",111]
[7,"Образование","028","07",null,null,null,{"$f":"H2043+H2047","v":5560}]
[705,"Профессиональная подготовка, переподготовка и повышение квалификации","028","07","05",null,null,{"$f":"H2044","v":5500}]
[705429,"Учебные заведения и курсы по переподготовке кадров","028","07","05","429 00 00",null,{"$f":"H2045","v":5500}]
[70542978,"Переподготовка и повышение квалификации кадров","028","07","05","429 78 00",null,{"$f":"H2046","v":5500}]
[70542978001,"Выполнение функций бюджетными учреждениями","028","07","05","429 78 00","001",5500]
[707,"Молодежная политика и оздоровление детей","028","07","07",null,null,{"$f":"H2048","v":60}]
[707432,"Мероприятия по проведению оздоровительной кампании детей ","028","07","07","432 00 00",null,{"$f":"H2049","v":60}]
[70743202,"Оздоровление детей ","028","07","07","432 02 00",null,{"$f":"H2050","v":60}]
[70743202001,"Выполнение функций бюджетными учреждениями","028","07","07","432 02 00","001",60]
[]
[0,"Министерство потребительского рынка и услуг Московской области","029",null,null,null,null,{"$f":"H2053+H2058+H2063","v":205616}]
[2,"Национальная оборона","029","02",null,null,null,{"$f":"H2054","v":377}]
[204,"Мобилизационная подготовка экономики","029","02","04",null,null,{"$f":"H2055","v":377}]
[204209,"Реализация государственных функций по мобилизационной подготовке экономики","029","02","04","209 00 00",null,{"$f":"H2056","v":377}]
[20420901,"Мероприятия по обеспечению  мобилизационной готовности экономики","029","02","04","209 01 00",null,{"$f":"H2057","v":377}]
[20420901012,"Выполнение функций государственными органами","029","02","04","209 01 00","012",377]
[3,"Национальная безопасность и правоохранительная деятельность","029","03",null,null,null,{"$f":"H2059","v":583}]
[309,"Защита населения и территории от последствий чрезвычайных ситуаций природного и техногенного характера, гражданская оборона ","029","03","09",null,null,{"$f":"H2060","v":583}]
[309219,"Мероприятия по гражданской обороне","029","03","09","219 00 00",null,{"$f":"H2061","v":583}]
[30921901,"Подготовка населения и организаций к действиям в чрезвычайной ситуации в мирное и военное время","029","03","09","219 01 00",null,{"$f":"H2062","v":583}]
[30921901012,"Выполнение функций государственными органами","029","03","09","219 01 00","012",583]
[4,"Национальная экономика","029","04",null,null,null,{"$f":"H2064","v":204656}]
[412,"Другие вопросы в области национальной экономики","029","04",12,null,null,{"$f":"H2065","v":204656}]
[412002,"Руководство и управление в сфере установленных функций органов государственной власти субъектов Российской Федерации  и органов местного самоуправления","029","04",12,"002 00 00",null,{"$f":"H2066","v":204656}]
[41200204,"Центральный аппарат","029","04",12,"002 04 00",null,{"$f":"SUM(H2067:H2068)","v":204656}]
[41200204012,"Выполнение функций государственными органами","029","04",12,"002 04 00","012",{"$f":"161900+42500","v":204400}]
[41200204902,"Проведение мероприятий по защите информации, обеспечению безопасности информационных систем и баз данных, содержащих конфиденциальную информацию, в том числе персональные данные населения Московской области","029","04",12,"002 04 00",902,256]
[]
[0,"Главное управление государственной службы занятости населения Московской области","030",null,null,null,null,{"$f":"H2071+H2103","v":929248}]
[4,"Национальная экономика","030","04",null,null,null,{"$f":"H2072","v":534421}]
[401,"Общеэкономические вопросы","030","04","01",null,null,{"$f":"H2073+H2076","v":534421}]
[401002,"Руководство и управление в сфере установленных функций органов государственной власти субъектов Российской Федерации  и органов местного самоуправления","030","04","01","002 00 00",null,{"$f":"H2074","v":51621}]
[40100204,"Центральный аппарат","030","04","01","002 04 00",null,{"$f":"SUM(H2075:H2075)","v":51621}]
[40100204012,"Выполнение функций государственными органами","030","04","01","002 04 00","012",51621]
[401510,"Реализация государственной политики занятости населения","030","04","01","510 00 00",null,{"$f":"H2077+H2100","v":482800}]
[40151002,"Осуществление полномочий Российской Федерации в области содействия занятости населения, включая расходы по осуществлению этих полномочий","030","04","01","510 02 00",null,{"$f":"H2078+H2080+H2082+H2084+H2086+H2088+H2090+H2092+H2094+H2096+H2098","v":134867}]
[4015100201,"Профессиональное обучение безработных граждан","030","04","01","510 02 01",null,{"$f":"H2079","v":40000}]
[4015100201009,"Фонд компенсаций","030","04","01","510 02 01","009",40000]
[4015100202,"Профессиональная ориентация","030","04","01","510 02 02",null,{"$f":"H2081","v":3000}]
[4015100202009,"Фонд компенсаций","030","04","01","510 02 02","009",3000]
[4015100203,"Организация ярмарок вакансий и учебных рабочих мест","030","04","01","510 02 03",null,{"$f":"H2083","v":4500}]
[4015100203009,"Фонд компенсаций","030","04","01","510 02 03","009",4500]
[4015100204,"Информирование населения и работодателей о положении на рынке труда","030","04","01","510 02 04",null,{"$f":"H2085","v":2543}]
[4015100204009,"Фонд компенсаций","030","04","01","510 02 04","009",2543]
[4015100205,"Организация общественных работ","030","04","01","510 02 05",null,{"$f":"H2087","v":8115}]
[4015100205009,"Фонд компенсаций","030","04","01","510 02 05","009",8115]
[4015100206,"Организация временного трудоустройства безработных граждан, испытывающих трудности в поиске работы","030","04","01","510 02 06",null,{"$f":"H2089","v":3371}]
[4015100206009,"Фонд компенсаций","030","04","01","510 02 06","009",3371]
[4015100207,"Социальная адаптация безработных граждан на рынке труда","030","04","01","510 02 07",null,{"$f":"H2091","v":3000}]
[4015100207009,"Фонд компенсаций","030","04","01","510 02 07","009",3000]
[4015100208,"Оказание содействия самозанятости безработных граждан","030","04","01","510 02 08",null,{"$f":"H2093","v":2500}]
[4015100208009,"Фонд компенсаций","030","04","01","510 02 08","009",2500]
[4015100209,"Организация временого трудоустройства несовершеннолетних граждан в возрасте от 14 до 18 лет","030","04","01","510 02 09",null,{"$f":"H2095","v":33145}]
[4015100209009,"Фонд компенсаций","030","04","01","510 02 09","009",33145]
[4015100210,"Организация временного трудоустройства безработных граждан в возрасте от 18 до 20 лет из числа выпускников учреждений начального и среднего профессионального образовования, ищущих работу впервые","030","04","01","510 02 10",null,{"$f":"H2097","v":999}]
[4015100210009,"Фонд компенсаций","030","04","01","510 02 10","009",999]
[4015100215,"Расходы по обеспечению осуществления переданных полномочий в области содействия занятости населения","030","04","01","510 02 15",null,{"$f":"H2099","v":33694}]
[4015100215009,"Фонд компенсаций","030","04","01","510 02 15","009",33694]
[40151099,"Обеспечение деятельности подведомственных учреждений","030","04","01","510 99 00",null,{"$f":"H2101+H2102","v":347933}]
[40151099001,"Выполнение функций бюджетными учреждениями","030","04","01","510 99 00","001",55539]
[40151099009,"Фонд компенсаций","030","04","01","510 99 00","009",292394]
[10,"Социальная политика","030",10,null,null,null,{"$f":"H2104","v":394827}]
[1003,"Социальное обеспечение населения","030",10,"03",null,null,{"$f":"H2105","v":394827}]
[1003510,"Реализация государственной политики занятости населения","030",10,"03","510 00 00",null,{"$f":"H2106","v":394827}]
[100351002,"Осуществление полномочий Российской Федерации в области содействия занятости населения, включая расходы по осуществлению этих полномочий","030",10,"03","510 02 00",null,{"$f":"H2107","v":394827}]
[100351002009,"Фонд компенсаций","030",10,"03","510 02 00","009",394827]
[]
[0,"Управление по обеспечению деятельности мировых судей Московской области","031",null,null,null,null,{"$f":"H2110+H2115","v":1164766}]
[1,"Общегосударственные вопросы","031","01",null,null,null,{"$f":"H2111","v":1163086}]
[105,"Судебная система","031","01","05",null,null,{"$f":"H2112","v":1163086}]
[105002,"Руководство и управление в сфере установленных функций органов государственной власти субъектов Российской Федерации  и органов местного самоуправления","031","01","05","002 00 00",null,{"$f":"H2113","v":1163086}]
[10500223,"Обеспечение деятельности аппаратов судов","031","01","05","002 23 00",null,{"$f":"SUM(H2114:H2114)","v":1163086}]
[10500223012,"Выполнение функций государственными органами","031","01","05","002 23 00","012",1163086]
[7,"Образование","031","07",null,null,null,{"$f":"H2116","v":1680}]
[707,"Молодежная политика и оздоровление детей","031","07","07",null,null,{"$f":"H2117","v":1680}]
[707432,"Мероприятия по проведению оздоровительной кампании детей ","031","07","07","432 00 00",null,{"$f":"H2118","v":1680}]
[70743202,"Оздоровление детей ","031","07","07","432 02 00",null,{"$f":"H2119","v":1680}]
[70743202001,"Выполнение функций бюджетными учреждениями","031","07","07","432 02 00","001",1680]
[]
[0,"Главное управление по надзору за техническим состоянием самоходных машин и других видов техники Московской области","032",null,null,null,null,{"$f":"H2122+H2127+H2132","v":134473}]
[2,"Национальная оборона","032","02",null,null,null,{"$f":"H2123","v":30}]
[204,"Мобилизационная подготовка экономики","032","02","04",null,null,{"$f":"H2124","v":30}]
[204209,"Реализация государственных функций по мобилизационной подготовке экономики","032","02","04","209 00 00",null,{"$f":"H2125","v":30}]
[20420901,"Мероприятия по обеспечению  мобилизационной готовности экономики","032","02","04","209 01 00",null,{"$f":"H2126","v":30}]
[20420901012,"Выполнение функций государственными органами","032","02","04","209 01 00","012",30]
[3,"Национальная безопасность и правоохранительная деятельность","032","03",null,null,null,{"$f":"H2128","v":10}]
[309,"Защита населения и территории от последствий чрезвычайных ситуаций природного и техногенного характера, гражданская оборона ","032","03","09",null,null,{"$f":"H2129","v":10}]
[309219,"Мероприятия по гражданской обороне","032","03","09","219 00 00",null,{"$f":"H2130","v":10}]
[30921901,"Подготовка населения и организаций к действиям в чрезвычайной ситуации в мирное и военное время","032","03","09","219 01 00",null,{"$f":"H2131","v":10}]
[30921901012,"Выполнение функций государственными органами","032","03","09","219 01 00","012",10]
[4,"Национальная экономика","032","04",null,null,null,{"$f":"H2133","v":134433}]
[408,"Транспорт","032","04","08",null,null,{"$f":"H2134","v":134433}]
[408002,"Руководство и управление в сфере установленных функций органов государственной власти субъектов Российской Федерации  и органов местного самоуправления","032","04","08","002 00 00",null,{"$f":"H2135","v":134433}]
[40800204,"Центральный аппарат","032","04","08","002 04 00",null,{"$f":"H2136","v":134433}]
[40800204012,"Выполнение функций государственными органами","032","04","08","002 04 00","012",134433]
[]
[0,"Главное архивное управление Московской области","034",null,null,null,null,{"$f":"H2139+H2150+H2155+H2160","v":322417}]
[1,"Общегосударственные вопросы","034","01",null,null,null,{"$f":"H2140","v":322250}]
[114,"Другие общегосударственные вопросы","034","01",14,null,null,{"$f":"H2141+H2144","v":322250}]
[114001,"Руководство и управление в сфере установленных функций","034","01",14,"001 00 00",null,{"$f":"H2142","v":3500}]
[11400167,"Возмещение расходов негосударственных организаций по отбору и передаче в упорядоченном состоянии архивных документов, отнесенных к собственности Московской области, в государственные архивы Московской области","034","01",14,"001 67 00",null,{"$f":"H2143","v":3500}]
[11400167013,"Прочие расходы","034","01",14,"001 67 00","013",3500]
[114002,"Руководство и управление в сфере установленных функций органов государственной власти субъектов Российской Федерации  и органов местного самоуправления","034","01",14,"002 00 00",null,{"$f":"H2145+H2148","v":318750}]
[11400204,"Центральный аппарат","034","01",14,"002 04 00",null,{"$f":"SUM(H2146:H2147)","v":268196}]
[11400204012,"Выполнение функций государственными органами","034","01",14,"002 04 00","012",267896]
[11400204902,"Проведение мероприятий по защите информации, обеспечению безопасности информационных систем и баз данных, содержащих конфиденциальную информацию, в том числе персональные данные населения Московской области","034","01",14,"002 04 00",902,300]
[11400299,"Обеспечение деятельности подведомственных учреждений","034","01",14,"002 99 00",null,{"$f":"SUM(H2149:H2149)","v":50554}]
[11400299001,"Выполнение функций бюджетными учреждениями","034","01",14,"002 99 00","001",50554]
[2,"Национальная оборона","034","02",null,null,null,{"$f":"H2151","v":60}]
[204,"Мобилизационная подготовка экономики","034","02","04",null,null,{"$f":"H2152","v":60}]
[204209,"Реализация государственных функций по мобилизационной подготовке экономики","034","02","04","209 00 00",null,{"$f":"H2153","v":60}]
[20420901,"Мероприятия по обеспечению  мобилизационной готовности экономики","034","02","04","209 01 00",null,{"$f":"H2154","v":60}]
[20420901012,"Выполнение функций государственными органами","034","02","04","209 01 00","012",60]
[3,"Национальная безопасность и правоохранительная деятельность","034","03",null,null,null,{"$f":"H2156","v":90}]
[309,"Защита населения и территории от последствий чрезвычайных ситуаций природного и техногенного характера, гражданская оборона ","034","03","09",null,null,{"$f":"H2157","v":90}]
[309219,"Мероприятия по гражданской обороне","034","03","09","219 00 00",null,{"$f":"H2158","v":90}]
[30921901,"Подготовка населения и организаций к действиям в чрезвычайной ситуации в мирное и военное время","034","03","09","219 01 00",null,{"$f":"H2159","v":90}]
[30921901012,"Выполнение функций государственными органами","034","03","09","219 01 00","012",90]
[7,"Образование","034","07",null,null,null,{"$f":"H2161","v":17}]
[707,"Молодежная политика и оздоровление детей","034","07","07",null,null,{"$f":"H2162","v":17}]
[707432,"Мероприятия по проведению оздоровительной кампании детей ","034","07","07","432 00 00",null,{"$f":"H2163","v":17}]
[70743202,"Оздоровление детей ","034","07","07","432 02 00",null,{"$f":"H2164","v":17}]
[70743202001,"Выполнение функций бюджетными учреждениями","034","07","07","432 02 00","001",17]
[]
[0,"Управление государственной и муниципальной службы Московской области","036",null,null,null,null,{"$f":"H2167+H2181+H2186+H2191+H2203+H2208","v":677649}]
[1,"Общегосударственные вопросы","036","01",null,null,null,{"$f":"H2168","v":76112}]
[114,"Другие общегосударственные вопросы","036","01",14,null,null,{"$f":"H2169+H2177","v":76112}]
[114001,"Руководство и управление в сфере установленных функций","036","01",14,"001 00 00",null,{"$f":"H2170+H2172","v":37071}]
[11400168,"Денежное содержание и доплата до размере денежного содержания лицам, замещавшим государственные должности Московской области*","036","01",14,"001 68 00",null,{"$f":"H2171","v":20412}]
[11400168013,"Прочие расходы","036","01",14,"001 68 00","013",20412]
[11400169,"Расходы по реализации Закона Московской области \"О государственной гражданской службе Московской области\"","036","01",14,"001 69 00",null,{"$f":"H2173+H2175","v":16659}]
[1140016901,"Возмещение расходов на ритуальные услуги, связанные с погребением государственного гражданского служащего Московской области или лица, имевшего на день смерти право на пенсию за выслугу лет*","036","01",14,"001 69 01",null,{"$f":"H2174","v":500}]
[1140016901013,"Прочие расходы","036","01",14,"001 69 01","013",500]
[1140016902,"Единовременное поощрение государственным гражданским служащим Московской области при выходе на государственную пенсию за выслугу лет*","036","01",14,"001 69 02",null,{"$f":"H2176","v":16159}]
[1140016902013,"Прочие расходы","036","01",14,"001 69 02","013",16159]
[114002,"Руководство и управление в сфере установленных функций органов государственной власти субъектов Российской Федерации  и органов местного самоуправления","036","01",14,"002 00 00",null,{"$f":"H2178","v":39041}]
[11400204,"Центральный аппарат","036","01",14,"002 04 00",null,{"$f":"SUM(H2179:H2180)","v":39041}]
[11400204012,"Выполнение функций государственными органами","036","01",14,"002 04 00","012",38621]
[11400204902,"Проведение мероприятий по защите информации, обеспечению безопасности информационных систем и баз данных, содержащих конфиденциальную информацию, в том числе персональные данные населения Московской области","036","01",14,"002 04 00",902,420]
[2,"Национальная оборона","036","02",null,null,null,{"$f":"H2182","v":17}]
[204,"Мобилизационная подготовка экономики","036","02","04",null,null,{"$f":"H2183","v":17}]
[204209,"Реализация государственных функций по мобилизационной подготовке экономики","036","02","04","209 00 00",null,{"$f":"H2184","v":17}]
[20420901,"Мероприятия по обеспечению  мобилизационной готовности экономики","036","02","04","209 01 00",null,{"$f":"H2185","v":17}]
[20420901012,"Выполнение функций государственными органами","036","02","04","209 01 00","012",17]
[3,"Национальная безопасность и правоохранительная деятельность","036","03",null,null,null,{"$f":"H2187","v":10}]
[309,"Защита населения и территории от последствий чрезвычайных ситуаций природного и техногенного характера, гражданская оборона ","036","03","09",null,null,{"$f":"H2188","v":10}]
[309219,"Мероприятия по гражданской обороне","036","03","09","219 00 00",null,{"$f":"H2189","v":10}]
[30921901,"Подготовка населения и организаций к действиям в чрезвычайной ситуации в мирное и военное время","036","03","09","219 01 00",null,{"$f":"H2190","v":10}]
[30921901012,"Выполнение функций государственными органами","036","03","09","219 01 00","012",10]
[7,"Образование","036","07",null,null,null,{"$f":"H2192+H2199","v":97194}]
[705,"Профессиональная подготовка, переподготовка и повышение квалификации","036","07","05",null,null,{"$f":"H2193","v":97160}]
[705429,"Учебные заведения и курсы по переподготовке кадров","036","07","05","429 00 00",null,{"$f":"H2194+H2196","v":97160}]
[70542978,"Переподготовка и повышение квалификации кадров","036","07","05","429 78 00",null,{"$f":"H2195","v":5908}]
[70542978001,"Выполнение функций бюджетными учреждениями","036","07","05","429 78 00","001",5908]
[70542999,"Обеспечение деятельности подведомственных учреждений","036","07","05","429 99 00",null,{"$f":"H2197","v":91252}]
[7054299999,"Другие расходы на содержание учебных заведений и курсов по переподготовке кадров, обеспечение и организацию учебного процесса  ","036","07","05","429 99 99",null,{"$f":"H2198","v":91252}]
[7054299999001,"Выполнение функций бюджетными учреждениями","036","07","05","429 99 99","001",91252]
[707,"Молодежная политика и оздоровление детей","036","07","07",null,null,{"$f":"H2200","v":34}]
[707432,"Мероприятия по проведению оздоровительной кампании детей ","036","07","07","432 00 00",null,{"$f":"H2201","v":34}]
[70743202,"Оздоровление детей ","036","07","07","432 02 00",null,{"$f":"H2202","v":34}]
[70743202001,"Выполнение функций бюджетными учреждениями","036","07","07","432 02 00","001",34]
[9,"Здравоохранение, физическая культура и спорт","036","09",null,null,null,{"$f":"H2204","v":303110}]
[910,"Другие вопросы в области здравоохранения, физической культуры и спорта","036","09",10,null,null,{"$f":"H2205","v":303110}]
[910485,"Реализация государственных функций  в области здравоохранения, спорта и туризма","036","09",10,"485 00 00",null,{"$f":"H2206","v":303110}]
[91048597,"Мероприятия в области здравоохранения, спорта и физической культуры, туризма","036","09",10,"485 97 00",null,{"$f":"H2207","v":303110}]
[91048597079,"Мероприятия в области здравоохранения, спорта и физической культуры","036","09",10,"485 97 00","079",{"$f":"281843+21267","v":303110}]
[10,"Социальная политика","036",10,null,null,null,{"$f":"H2209+H2213","v":201206}]
[1001,"Пенсионное обеспечение","036",10,"01",null,null,{"$f":"H2210","v":142633}]
[1001491,"Доплаты к пенсиям, дополнительное пенсионное обеспечение","036",10,"01","491 00 00",null,{"$f":"H2211","v":142633}]
[100149101,"Доплаты к пенсиям государственных служащих субъектов Российской Федерации и муниципальных служащих*","036",10,"01","491 01 00",null,{"$f":"H2212","v":142633}]
[100149101005,"Социальные выплаты","036",10,"01","491 01 00","005",142633]
[1006,"Другие вопросы в области социальной политики","036",10,"06",null,null,{"$f":"H2214","v":58573}]
[1006803,"Расходы на страхование ","036",10,"06","803 00 00",null,{"$f":"H2215","v":58573}]
[10068030007,"Расходы на страхование на случай причинения вреда жизни и здоровью лиц, замещающих государственные должности Московской области и государственных гражданских служащих Московской области","036",10,"06","803 00 07",null,{"$f":"H2216","v":58573}]
[10068030007013,"Прочие расходы","036",10,"06","803 00 07","013",{"$f":"50926+7647","v":58573}]
[]
[0,"Избирательная комиссия Московской области","039",null,null,null,null,{"$f":"H2219+H2226","v":68074}]
[1,"Общегосударственные вопросы","039","01",null,null,null,{"$f":"H2220","v":67921}]
[107,"Обеспечение проведения выборов и референдумов","039","01","07",null,null,{"$f":"H2221","v":67921}]
[107002,"Руководство и управление в сфере установленных функций органов государственной власти субъектов Российской Федерации  и органов местного самоуправления","039","01","07","002 00 00",null,{"$f":"H2222+H2224","v":67921}]
[10700204,"Центральный аппарат","039","01","07","002 04 00",null,{"$f":"H2223","v":64398}]
[10700204012,"Выполнение функций государственными органами","039","01","07","002 04 00","012",64398]
[10700220,"Члены избирательной комиссии субъектов Российской Федерации","039","01","07","002 20 00",null,{"$f":"H2225","v":3523}]
[10700220012,"Выполнение функций государственными органами","039","01","07","002 20 00","012",3523]
[7,"Образование","039","07",null,null,null,{"$f":"H2227","v":153}]
[707,"Молодежная политика и оздоровление детей","039","07","07",null,null,{"$f":"H2228","v":153}]
[707432,"Мероприятия по проведению оздоровительной кампании детей ","039","07","07","432 00 00",null,{"$f":"H2229","v":153}]
[70743202,"Оздоровление детей ","039","07","07","432 02 00",null,{"$f":"H2230","v":153}]
[70743202001,"Выполнение функций бюджетными учреждениями","039","07","07","432 02 00","001",153]
[]
[0,"Главное управление внутренних дел по Московской области 1)","040",null,null,null,null,{"$f":"H2233+H2238+H2284","v":11882711}]
[2,"Национальная оборона","040","02",null,null,null,{"$f":"H2234","v":2400}]
[204,"Мобилизационная подготовка экономики","040","02","04",null,null,{"$f":"H2235","v":2400}]
[204209,"Реализация государственных функций по мобилизационной подготовке экономики","040","02","04","209 00 00",null,{"$f":"H2236","v":2400}]
[20420901,"Мероприятия по обеспечению  мобилизационной готовности экономики","040","02","04","209 01 00",null,{"$f":"H2237","v":2400}]
[20420901012,"Выполнение функций государственными органами","040","02","04","209 01 00","012",2400]
[3,"Национальная безопасность и правоохранительная деятельность","040","03",null,null,null,{"$f":"H2239+H2280","v":11829876}]
[302,"Органы внутренних дел","040","03","02",null,null,{"$f":"H2240+H2244+H2270+H2273","v":11826176}]
[302102,"Бюджетные инвестиции в объекты капитального строительства, не включенные в целевые программы","040","03","02","102 00 00",null,{"$f":"H2241","v":315585}]
[30210201,"Бюджетные инвестиции в объекты капитального строительства государственной собственности субъектов Российской Федерации (объекты капитального строительства собственности муниципальных образований)","040","03","02","102 01 00",null,{"$f":"H2242","v":315585}]
[3021020101,"Бюджетные инвестиции в объекты капитального строительства государственной собственности субъектов Российской Федерации ","040","03","02","102 01 01",null,{"$f":"H2243","v":315585}]
[3021020101003,"Бюджетные инвестиции","040","03","02","102 01 01","003",315585]
[302202,"Воинские формирования (органы, подразделения)","040","03","02","202 00 00",null,{"$f":"H2245+H2247+H2252+H2254+H2264+H2266+H2268","v":11373391}]
[30220201,"Обеспечение равного с Министерством внутренних дел Российской Федерации повышения денежного довольствия сотрудникам и заработной платы работникам подразделений милиции общественной безопасности","040","03","02","202 01 00",null,{"$f":"H2246","v":814538}]
[30220201014,"Функционирование органов в сфере национальной безопасности, правоохранительной деятельности и обороны","040","03","02","202 01 00","014",814538]
[30220258,"Военный  персонал  ","040","03","02","202 58 00",null,{"$f":"H2248+H2250","v":6458191}]
[3022025801,"Дополнительные гарантии социальной защиты сотрудникам  территориальных федеральных органов, установленные законодательством Московской области ","040","03","02","202 58 01",null,{"$f":"H2249","v":2902526}]
[3022025801014,"Функционирование органов в сфере национальной безопасности, правоохранительной деятельности и обороны","040","03","02","202 58 01","014",2902526]
[3022025802,"Денежное довольствие и  дополнительные выплаты в соответствии  с законодательством Российской Федерации","040","03","02","202 58 02",null,{"$f":"H2251","v":3555665}]
[3022025802014,"Функционирование органов в сфере национальной безопасности, правоохранительной деятельности и обороны","040","03","02","202 58 02","014",3555665]
[30220264,"Компенсации членам семей погибших военнослужащих*","040","03","02","202 64 00",null,{"$f":"H2253","v":7500}]
[30220264005,"Социальные выплаты","040","03","02","202 64 00","005",7500]
[30220267,"Функционирование органов в сфере национальной безопасности, правоохранительной деятельности ","040","03","02","202 67 00",null,{"$f":"H2255+H2257+H2259+H2261","v":3878033}]
[3022026701,"Дополнительные гарантии социальной защиты  гражданскому персоналу территориальных федеральных органов, установленные законодательством Московской области ","040","03","02","202 67 01",null,{"$f":"H2256","v":356170}]
[3022026701014,"Функционирование органов в сфере национальной безопасности, правоохранительной деятельности и обороны","040","03","02","202 67 01","014",356170]
[3022026702,"Расходы на оплату труда гражданского персонала","040","03","02","202 67 02",null,{"$f":"H2258","v":155281}]
[3022026702014,"Функционирование органов в сфере национальной безопасности, правоохранительной деятельности и обороны","040","03","02","202 67 02","014",{"$f":"113281+42000","v":155281}]
[3022026703,"Обеспечение подразделений УГИБДД ГУВД по Московской области специальной продукцией для допуска транспортных средств к участию в дорожном движении","040","03","02","202 67 03",null,{"$f":"H2260","v":303106}]
[3022026703014,"Функционирование органов в сфере национальной безопасности, правоохранительной деятельности и обороны","040","03","02","202 67 03","014",{"$f":"277000+26106","v":303106}]
[3022026799,"Другие расходы на обеспечение деятельности органов в сфере национальной безопасности, правоохранительной деятельности ","040","03","02","202 67 99",null,{"$f":"SUM(H2262:H2263)","v":3063476}]
[3022026799014,"Функционирование органов в сфере национальной безопасности, правоохранительной деятельности и обороны","040","03","02","202 67 99","014",2708276]
[3022026799904,"Обеспечение деятельности подразделений УГИБДД ГУВД по Московской области ","040","03","02","202 67 99","904",{"$f":"397200-42000","v":355200}]
[30220271,"Продовольственное обеспечение","040","03","02","202 71 00",null,{"$f":"H2265","v":8316}]
[30220271014,"Функционирование органов в сфере национальной безопасности, правоохранительной деятельности и обороны","040","03","02","202 71 00","014",8316]
[30220272,"Вещевое обеспечение","040","03","02","202 72 00",null,{"$f":"H2267","v":112135}]
[30220272014,"Функционирование органов в сфере национальной безопасности, правоохранительной деятельности и обороны","040","03","02","202 72 00","014",112135]
[30220276,"Пособия и компенсации военнослужащим, приравненным к ним лицам, а также уволенным из их числа","040","03","02","202 76 00",null,{"$f":"H2269","v":94678}]
[30220276005,"Социальные выплаты","040","03","02","202 76 00","005",94678]
[302247,"Реализация других функций, связанных с обеспечением национальной безопасности и правоохранительной деятельности ","040","03","02","247 00 00",null,{"$f":"H2271","v":3000}]
[30224766,"Специальные объекты","040","03","02","247 66 00",null,{"$f":"H2272","v":3000}]
[30224766014,"Функционирование органов в сфере национальной безопасности, правоохранительной деятельности и обороны","040","03","02","247 66 00","014",3000]
[302522,"Региональные целевые программы","040","03","02","522 00 00",null,{"$f":"H2274","v":134200}]
[30252210,"Областная целевая программа \"Обеспечение безопасности дорожного движения на территории Московской области в 2007-2010 годах\"","040","03","02","522 10 00",null,{"$f":"H2275+H2277","v":134200}]
[3025221001,"Раздел \"Предупреждение опасного поведения участников дорожного движения\"","040","03","02","522 10 01",null,{"$f":"H2276","v":7900}]
[3025221001012,"Выполнение функций государственными органами","040","03","02","522 10 01","012",7900]
[3025221004,"Раздел \"Совершенствование контрольно-надзорной деятельности и деятельности по ликвидации последствий и снижению тяжести ДТП\"","040","03","02","522 10 04",null,{"$f":"SUM(H2278:H2279)","v":126300}]
[3025221004012,"Выполнение функций государственными органами","040","03","02","522 10 04","012",{"$f":"4500+121800","v":126300}]
[3025221004904,"Обеспечение деятельности подразделений УГИБДД ГУВД по Московской области за счет  средств, поступающих в бюджет Московской области за проведение государственного технического осмотра транспортных средств ","040","03","02","522 10 04","904",{"$f":"121800-121800","v":0}]
[309,"Защита населения и территории от последствий чрезвычайных ситуаций природного и техногенного характера, гражданская оборона ","040","03","09",null,null,{"$f":"H2281","v":3700}]
[309219,"Мероприятия по гражданской обороне","040","03","09","219 00 00",null,{"$f":"H2282","v":3700}]
[30921901,"Подготовка населения и организаций к действиям в чрезвычайной ситуации в мирное и военное время","040","03","09","219 01 00",null,{"$f":"H2283","v":3700}]
[30921901014,"Функционирование органов в сфере национальной безопасности, правоохранительной деятельности и обороны","040","03","09","219 01 00","014",3700]
[10,"Социальная политика","040",10,null,null,null,{"$f":"H2285","v":50435}]
[1003,"Социальное обеспечение населения","040",10,"03",null,null,{"$f":"H2286","v":50435}]
[1003505,"Социальная помощь","040",10,"03","505 00 00",null,{"$f":"H2287","v":50435}]
[100350585,"Оказание других видов социальной помощи","040",10,"03","505 85 00",null,{"$f":"H2288","v":50435}]
[10035058598,"Ежемесячные компенсационные выплаты членам семей погибших сотрудников органов внутренних дел*","040",10,"03","505 85 98",null,{"$f":"H2289","v":50435}]
[10035058598005,"Социальные выплаты","040",10,"03","505 85 98","005",50435]
[]
[0,"Департамент обеспечения правопорядка на закрытых территориях и режимных объектах (Восьмое главное управление) Министерства внутренних дел Российской Федерации","041",null,null,null,"              ",{"$f":"H2292+H2313","v":127881}]
[3,"Национальная безопасность и правоохранительная деятельность","041","03",null,null,null,{"$f":"H2293","v":126555}]
[302,"Органы внутренних дел","041","03","02",null,null,{"$f":"H2294","v":126555}]
[302202,"Воинские формирования (органы, подразделения)","041","03","02","202 00 00",null,{"$f":"H2295+H2297+H2302+H2309+H2311","v":126555}]
[30220201,"Обеспечение равного с Министерством внутренних дел Российской Федерации повышения денежного довольствия сотрудникам и заработной платы работникам подразделений милиции общественной безопасности","041","03","02","202 01 00",null,{"$f":"H2296","v":7508}]
[30220201014,"Функционирование органов в сфере национальной безопасности, правоохранительной деятельности и обороны","041","03","02","202 01 00","014",7508]
[30220258,"Военный  персонал  ","041","03","02","202 58 00",null,{"$f":"H2298+H2300","v":101163}]
[3022025801,"Дополнительные гарантии социальной защиты сотрудникам  территориальных федеральных органов, установленные законодательством Московской области ","041","03","02","202 58 01",null,{"$f":"H2299","v":54627}]
[3022025801014,"Функционирование органов в сфере национальной безопасности, правоохранительной деятельности и обороны","041","03","02","202 58 01","014",54627]
[3022025802,"Денежное довольствие и  дополнительные выплаты в соответствии  с законодательством Российской Федерации","041","03","02","202 58 02",null,{"$f":"H2301","v":46536}]
[3022025802014,"Функционирование органов в сфере национальной безопасности, правоохранительной деятельности и обороны","041","03","02","202 58 02","014",46536]
[30220267,"Функционирование органов в сфере национальной безопасности, правоохранительной деятельности ","041","03","02","202 67 00",null,{"$f":"H2303+H2305+H2307","v":15706}]
[3022026701,"Дополнительные гарантии социальной защиты  гражданскому персоналу территориальных федеральных органов, установленные законодательством Московской области ","041","03","02","202 67 01",null,{"$f":"H2304","v":4030}]
[3022026701014,"Функционирование органов в сфере национальной безопасности, правоохранительной деятельности и обороны","041","03","02","202 67 01","014",4030]
[3022026702,"Расходы на оплату труда гражданского персонала","041","03","02","202 67 02",null,{"$f":"H2306","v":371}]
[3022026702014,"Функционирование органов в сфере национальной безопасности, правоохранительной деятельности и обороны","041","03","02","202 67 02","014",371]
[3022026799,"Другие расходы на обеспечение деятельности органов в сфере национальной безопасности, правоохранительной деятельности ","041","03","02","202 67 99",null,{"$f":"H2308","v":11305}]
[3022026799014,"Функционирование органов в сфере национальной безопасности, правоохранительной деятельности и обороны","041","03","02","202 67 99","014",11305]
[30220272,"Вещевое обеспечение","041","03","02","202 72 00",null,{"$f":"H2310","v":451}]
[30220272014,"Функционирование органов в сфере национальной безопасности, правоохранительной деятельности и обороны","041","03","02","202 72 00","014",451]
[30220276,"Пособия и компенсации военнослужащим, приравненным к ним лицам, а также уволенным из их числа","041","03","02","202 76 00",null,{"$f":"H2312","v":1727}]
[30220276005,"Социальные выплаты","041","03","02","202 76 00","005",1727]
[10,"Социальная политика","041",10,null,null,null,{"$f":"H2314","v":1326}]
[1003,"Социальное обеспечение населения","041",10,"03",null,null,{"$f":"H2315","v":1326}]
[1003505,"Социальная помощь","041",10,"03","505 00 00",null,{"$f":"H2316","v":1326}]
[100350585,"Оказание других видов социальной помощи","041",10,"03","505 85 00",null,{"$f":"H2317","v":1326}]
[10035058598,"Ежемесячные компенсационные выплаты членам семей погибших сотрудников органов внутренних дел*","041",10,"03","505 85 98",null,{"$f":"H2318","v":1326}]
[10035058598005,"Социальные выплаты","041",10,"03","505 85 98","005",1326]
[]
[0,"Главное управление Министерства Российской Федерации по делам гражданской обороны, чрезвычайным ситуациям и ликвидации последствий стихийных бедствий по Московской области","042",null,null,null,null,{"$f":"H2321","v":4085343}]
[3,"Национальная безопасность и правоохранительная деятельность","042","03",null,null,null,{"$f":"H2322+H2335","v":4085343}]
[309,"Защита населения и территории от последствий чрезвычайных ситуаций природного и техногенного характера, гражданская оборона ","042","03","09",null,null,{"$f":"H2323+H2332","v":759070}]
[309202,"Воинские формирования (органы, подразделения)","042","03","09","202 00 00",null,{"$f":"H2324+H2327","v":82113}]
[30920258,"Военный  персонал  ","042","03","09","202 58 00",null,{"$f":"H2325","v":49043}]
[3092025801,"Дополнительные гарантии социальной защиты сотрудникам  территориальных федеральных органов, установленные законодательством Московской области ","042","03","09","202 58 01",null,{"$f":"H2326","v":49043}]
[3092025801014,"Функционирование органов в сфере национальной безопасности, правоохранительной деятельности и обороны","042","03","09","202 58 01","014",49043]
[30920267,"Функционирование органов в сфере национальной безопасности, правоохранительной деятельности ","042","03","09","202 67 00",null,{"$f":"H2328+H2330","v":33070}]
[3092026701,"Дополнительные гарантии социальной защиты  гражданскому персоналу территориальных федеральных органов, установленные законодательством Московской области ","042","03","09","202 67 01",null,{"$f":"H2329","v":13062}]
[3092026701014,"Функционирование органов в сфере национальной безопасности, правоохранительной деятельности и обороны","042","03","09","202 67 01","014",13062]
[3092026799,"Другие расходы на обеспечение деятельности органов в сфере национальной безопасности, правоохранительной деятельности ","042","03","09","202 67 99",null,{"$f":"H2331","v":20008}]
[3092026799014,"Функционирование органов в сфере национальной безопасности, правоохранительной деятельности и обороны","042","03","09","202 67 99","014",20008]
[309302,"Поисковые и аварийно-спасательные учреждения","042","03","09","302 00 00",null,{"$f":"H2333","v":676957}]
[30930299,"Обеспечение деятельности подведомственных учреждений","042","03","09","302 99 00",null,{"$f":"H2334","v":676957}]
[30930299001,"Выполнение функций бюджетными учреждениями","042","03","09","302 99 00","001",676957]
[310,"Обеспечение пожарной безопасности","042","03",10,null,null,{"$f":"H2336+H2339+H2343+H2354","v":3326273}]
[310001,"Руководство и управление в сфере установленных функций","042","03",10,"001 00 00",null,{"$f":"H2337","v":645949}]
[31000137,"Денежное довольствие и социальные выплаты сотрудникам, и заработная плата работникам территориальных подразделений Государственной противопожарной службы, содержащимся за счет средств субъектов Российской Федерации (за исключением подразделений, созданных субъектами Российской Федерации в соответствии со статьей 5 Федерального закона от 21 декабря 1994 года № 69-ФЗ \"О пожарной безопасности\")","042","03",10,"001 37 00",null,{"$f":"H2338","v":645949}]
[31000137014,"Функционирование органов в сфере национальной  безопасности, правоохранительной деятельности и обороны","042","03",10,"001 37 00","014",645949]
[310102,"Бюджетные инвестиции в объекты капитального строительства, не включенные в целевые программы","042","03",10,"102 00 00",null,{"$f":"H2340","v":46851}]
[31010201,"Бюджетные инвестиции в объекты капитального строительства государственной собственности субъектов Российской Федерации (объекты капитального строительства собственности муниципальных образований)","042","03",10,"102 01 00",null,{"$f":"H2341","v":46851}]
[3101020101,"Бюджетные инвестиции в объекты капитального строительства государственной собственности субъектов Российской Федерации ","042","03",10,"102 01 01",null,{"$f":"H2342","v":46851}]
[3101020101003,"Бюджетные инвестиции","042","03",10,"102 01 01","003",46851]
[310202,"Воинские формирования (органы, подразделения)","042","03",10,"202 00 00",null,{"$f":"H2344+H2347+H2352","v":458055}]
[31020258,"Военный  персонал  ","042","03",10,"202 58 00",null,{"$f":"H2345","v":323429}]
[3102025801,"Дополнительные гарантии социальной защиты сотрудникам  территориальных федеральных органов, установленные законодательством Московской области ","042","03",10,"202 58 01",null,{"$f":"H2346","v":323429}]
[3102025801014,"Функционирование органов в сфере национальной безопасности, правоохранительной деятельности и обороны","042","03",10,"202 58 01","014",323429]
[31020267,"Функционирование органов в сфере национальной безопасности, правоохранительной деятельности ","042","03",10,"202 67 00",null,{"$f":"H2348+H2350","v":122626}]
[3102026701,"Дополнительные гарантии социальной защиты  гражданскому персоналу территориальных федеральных органов, установленные законодательством Московской области ","042","03",10,"202 67 01",null,{"$f":"H2349","v":1112}]
[3102026701014,"Функционирование органов в сфере национальной безопасности, правоохранительной деятельности и обороны","042","03",10,"202 67 01","014",1112]
[3102026799,"Другие расходы на обеспечение деятельности органов в сфере национальной безопасности, правоохранительной деятельности ","042","03",10,"202 67 99",null,{"$f":"H2351","v":121514}]
[3102026799014,"Функционирование органов в сфере национальной безопасности, правоохранительной деятельности и обороны","042","03",10,"202 67 99","014",121514]
[31020272,"Вещевое обеспечение","042","03",10,"202 72 00",null,{"$f":"H2353","v":12000}]
[31020272014,"Функционирование органов в сфере национальной безопасности, правоохранительной деятельности и обороны","042","03",10,"202 72 00","014",12000]
[310247,"Реализация других функций, связанных с обеспечением национальной безопасности и правоохранительной деятельности","042","03",10,"247 00 00",null,{"$f":"H2355","v":2175418}]
[31024799,"Обеспечение деятельности подведомственных учреждений","042","03",10,"247 99 00",null,{"$f":"H2356","v":2175418}]
[31024799001,"Выполнение функций бюджетными учреждениями","042","03",10,"247 99 00","001",{"$f":"2121685+53733","v":2175418}]
[]
[0,"Уполномоченный по правам человека в Московской области","050",null,null,null,null,{"$f":"H2359","v":43586}]
[1,"Общегосударственные вопросы","050","01",null,null,null,{"$f":"H2360","v":43586}]
[114,"Другие общегосударственные вопросы","050","01",14,null,null,{"$f":"H2361","v":43586}]
[114002,"Руководство и управление в сфере установленных функций органов государственной власти субъектов Российской Федерации  и органов местного самоуправления","050","01",14,"002 00 00",null,{"$f":"H2362","v":43586}]
[11400204,"Центральный аппарат","050","01",14,"002 04 00",null,{"$f":"H2363","v":43586}]
[11400204012,"Выполнение функций государственными органами","050","01",14,"002 04 00","012",{"$f":"40586+3000","v":43586}]
[]
[0,"Государственное учреждение Московской области \"Управление автомобильных дорог Московской области \"Мосавтодор\"","052",null,null,null,null,{"$f":"H2366","v":35016518}]
[4,"Национальная экономика","052","04",null,null,null,{"$f":"H2367","v":35016518}]
[409,"Дорожное хозяйство","052","04","09",null,null,{"$f":"H2368+H2372+H2431","v":35016518}]
[409100,"Федеральные целевые программы","052","04","09","100 00 00",null,{"$f":"H2371","v":8478000}]
[4091000100,"Федеральная целевая программа \"Модернизация транспортной системы России (2002-2010 годы)\"","052","04","09","100 01 00",null,{"$f":"H2368","v":8478000}]
[4091000102,"Подпрограмма \"Автомобильные дороги\"","052","04","09","100 01 02",null,{"$f":"H2368","v":8478000}]
[4091000102003,"Бюджетные инвестиции","052","04","09","100 01 02","003",8478000]
[409315,"Дорожное хозяйство","052","04","09","315 00 00",null,{"$f":"SUM(H2373:H2427)","v":26438018}]
[409315001,"Выполнение функций бюджетными учреждениями","052","04","09","315 00 00","001",{"$f":"23354803-542991","v":22811812}]
[409315003,"Бюджетные инвестиции","052","04","09","315 00 00","003",{"$f":"2063181+542991+449970","v":3056142}]
[40931501701,"Реконструкция автомобильной дороги Челобитьево-Пирогово-Тарасовка (Осташковское шоссе) на участке Челобитьево-Беляниново в Мытищинском районе Московской области","052","04","09","315 00 00","701",52118]
[40931501702,"Реконструкция Лихачевского шоссе в г. Долгопрудном Московской области","052","04","09","315 00 00","702",72793]
[40931501703,"Реконструкция наплавного моста через р. Ока у г. Озеры на автомобильной дороге «Егорьевск-Коломна-Кашира-Ненашево» в Озерском районе Московской области","052","04","09","315 00 00","703",1000]
[40931501704,"Реконструкция автомобильной дороги «Подход к г. Подольску» на участке км 11- км 13,6 в Подольском районе Московской области","052","04","09","315 00 00","704",16282]
[40931501705,"Путепровод через пути Московской железной дороги на 11 км автодороги «Подход к г. Подольску» , Московская область","052","04","09","315 00 00","705",96540]
[40931501706,"Строительство мостового перехода через р.Пахру в пос. Володарского Ленинского района Московской области, Московская область","052","04","09","315 00 00","706",19433]
[40931501707,"Реконструкция автомобильной дороги «Москва-Жуковский» на участке км 22+400 - км 25+900 в Люберецком районе Московской области","052","04","09","315 00 00","707",16815]
[40931501708,"Реконструкция автомобильной дороги «Щелково-Фряново» на участке км 0- км 4 в Щелковском районе Московской области","052","04","09","315 00 00","708",39240]
[40931501709,"Реконструкция автомобильной дороги Челобитьево-Северная ТЭЦ-г. Мытищи (Волковское шоссе) на участке от ул. Мира до Олимпийского проспекта в Мытищинском районе Московской области","052","04","09","315 00 00","709",34880]
[40931501710,"Строительство автомобильной дороги «Объезд Истринского гидроузла» в Истринском районе","052","04","09","315 00 00","710",1000]
[40931501711,"Реконструкция автомобильной дороги «Подход к г. Подольску» (км 4,0- км 7,0)","052","04","09","315 00 00","711",1000]
[40931501712,"Реконструкция паромной переправы через р. Ока у н.п. Ловцы на 28,000 км а/д Врачево-Белоомут-Каданок-Ловцы-Дединово в Луховицком районе Московской области","052","04","09","315 00 00","712",500]
[40931501713,"Реконструкция автомобильной дороги «МК-Григорово-Гжель» с подъездом к ГКЗ в Раменском районе Московской области","052","04","09","315 00 00","713",500]
[40931501714,"Строительство мостового перехода через реку Яуза у населенного пункта Свистуново на автомобильной дороге «Степанцево-Овсянниково-Свистуново» в Клинском районе Московской области","052","04","09","315 00 00","714",1885]
[40931501715,"Реконструкция мостового перехода через р.Лутосня на км 1,67 автомобильной дороги «Москва-Санкт-Петербург-Высоковск»-Чумичево-Попелково в Клинском районе Московской области","052","04","09","315 00 00","715",2413]
[40931501716,"Реконструкция автомобильной дороги «Раменье-Ивашково-граница Московской области» с подъездом «Раменье-Ивашково-граница Московской области» - Ивашково»в Шаховском районе Московской области","052","04","09","315 00 00","716",16181]
[40931501717,"Реконструкция автомобильной дороги «Тимоново-Федино-Мерзлово-Заовражье» на участке км 0+000 - поворот на Толстяково в Солнечногорском районе Московской области","052","04","09","315 00 00","717",1807]
[40931501718,"Реконструкция автомобильной дороги «Можайское шоссе» на участке км 40+000- км 44+600 в Одинцовском районе Московской области","052","04","09","315 00 00","718",8973]
[40931501719,"Реконструкция автомобильной дороги «Тетерино-Мышкино-Поречье» на участке км 17+800 - км 29+978 в Можайском районе Московской области","052","04","09","315 00 00","719",22392]
[40931501720,"Реконструкция автодороги «Звенигород-Колюбакино-Нестерово»-Молодиково-Морево с мостовым переходом через р. Москва в Рузском районе Московской области","052","04","09","315 00 00","720",13944]
[40931501721,"Реконструкция мостового перехода через р.Протва у д. Загряжское на 11,5 км автомобильной дороги «Ермолино-Боровск-Верея-Колодкино» в Наро-Фоминском районе Московской области","052","04","09","315 00 00","721",10527]
[40931501722,"Реконструкция автомобильной дороги «Подъезд № 3011 на 17 км подъезда к г. Подольску, на участке км 1,18 - км 2,61» в Подольском районе Московской области","052","04","09","315 00 00","722",3293]
[40931501723,"Реконструкция автомобильной дороги «Москва-Воронеж»-Картино-Дроздово на участке км 3,0 - км 5,6 в Ленинском районе Московской области","052","04","09","315 00 00","723",2208]
[40931501724,"Реконструкция мостового перехода через р. Северка в д. Голубино на км 10+139 автомобильной дороги «Шебанцево-Голубино-Глотаево» в Домодедовском районе Московской области","052","04","09","315 00 00","724",4598]
[40931501725,"Реконструкция ул. Мира и ул. Октябрьская в г.Чехове Московской области","052","04","09","315 00 00","725",7578]
[40931501726,"Реконструкция автомобильной дороги «Сапроново-МК-Беспятово» Ступинского района Московской области","052","04","09","315 00 00","726",3961]
[40931501727,"Реконструкция автомобильной дороги «Кашира-Серебряные Пруды-Кимовск-Узловая»-Коровино-Малынь-Накаплово» в Серебряно-Прудском районе Московской области","052","04","09","315 00 00","727",2639]
[40931501728,"Строительство автомобильной дороги «Серебряные Пруды-Венев»- Н.Мойгоры со строительством моста через р. Осетр в Серебряно-Прудском районе Московской области","052","04","09","315 00 00","728",4200]
[40931501729,"Строительство автомобильной дороги «Коломна-Малино»-»Черкизово-Непецино-Шкинь» в Коломенском районе Московской области","052","04","09","315 00 00","729",10010]
[40931501730,"Строительство автомобильной дороги «Москва-Егорьевск-Тума-Касимов»- на участке обхода дд. Щеголево, Юрцово в Егорьевском районе Московской области","052","04","09","315 00 00","730",8170]
[40931501731,"Реконструкция мостового перехода через р. Пехорка на 0,7км автомобильной дороги «МКАД-Крутицы-Железнодорожный-Ликино-Дулево»- Троицкое-Фенино-Руднево в Балашихинском районе Московской области","052","04","09","315 00 00","731",2508]
[40931501732,"Реконструкция улицы Октября в г. Реутов Московской области","052","04","09","315 00 00","732",4103]
[40931501733,"Реконструкция автомобильной дороги «Велино-Сельвачево» в Раменском районе Московской области","052","04","09","315 00 00","733",8057]
[40931501734,"Реконструкция автомобильной дороги «Москва-Челябинск»-Дзержинский-Гремячево на участке км 0+000 - км 3+400 в г. Котельники Московской области","052","04","09","315 00 00","734",22227]
[40931501735,"Строительство автомобильной дороги проезда 6046 на участке от ул. Угрешская до автодороги «Москва-Челябинск»-Дзержинский-Гремячево, включая переезд через ж/д ст. Яничкино - г.Дзержинский, в г. Дзержинский Московской области","052","04","09","315 00 00","735",4354]
[40931501736," Реконструкция ул. Коммунальная в г. Королеве Московской области","052","04","09","315 00 00","736",14816]
[40931501737,"Реконструкция автомобильной дороги «Дмитров-Талдом-Темпы» на участке км 37+800 км 45+200 в Талдомском районе Московской области","052","04","09","315 00 00","737",8978]
[40931501738,"Строительство автомобильной дороги «Ивановское-Городище-Шляково» в Шаховском районе Московской области","052","04","09","315 00 00","738",3876]
[40931501739,"Реконструкция автомобильной дороги «Калужское шоссе - д.Рыжово» в Подольском районе Московской области","052","04","09","315 00 00","739",2915]
[40931501740,"Строительство автомобильной дороги «Скурыгино-Ходаево-Чепелево»-Б.Петровское в Чеховском районе Московской области","052","04","09","315 00 00","740",1565]
[40931501741,"Строительство автомобильной дороги «Скурыгино-Ходаево-Чепелево»-Покров-Аксенчиково в Чеховском районе Московской области","052","04","09","315 00 00","741",4478]
[40931501742,"Строительство автомобильной дороги «Озеры-Трасна-Полуряденки-Сосновка»-Свиридоново в Озерском районе Московской области","052","04","09","315 00 00","742",2712]
[40931501743,"Строительство Рузского проезда в г. Волоколамске Московской области","052","04","09","315 00 00","743",1000]
[40931501744,"Строительство соединительной автомобильной дороги от ул. Крестьянская с выходом на автомобильную дорогу Солнечногорск-Спасс в Солнечногорском районе Московской области","052","04","09","315 00 00","744",1095]
[40931501745,"Реконструкция подъезда 2066 на автомобильной дороге «Москва-Челябинск» в Воскресенском районе Московской области","052","04","09","315 00 00","745",1000]
[40931501746,"Строительство объездной автомобильной дороги г.Егорьевска: ул. 1 Мая - Антипова - ул. Рязанская в Егорьевском районе Московской области","052","04","09","315 00 00","746",1000]
[40931501747,"Строительство пешеходного моста через р. Клязьма со стороны ул. Заречная в г. Щелково Московской области","052","04","09","315 00 00","747",1000]
[40931501748,"Строительство транспортной развязки в одном уровне кольцевого типа на пересечении Красноармейского шоссе и старого Ярославского шоссе в г. Пушкино Пушкинского района Московской области","052","04","09","315 00 00","748",4000]
[40931501749,"Строительство автомобильной дороги «Подъезд к д. Сапроново от автомобильной дороги «Сапроново-МК-Беспятово» в Ступинском районе Московской области","052","04","09","315 00 00","749",1000]
[40931501750,"Строительство автодороги «Белоомут-Слемские Горки-Алпатьево»- Д-3 в Луховицком районе Московской области","052","04","09","315 00 00","750",500]
[40931501751,"Строительство подъезда к д. Комарево от автомобильной дороги «Москва-Ростов-на-Дону-Ступино-Городищи»-Озеры в Озерском районе Московской области","052","04","09","315 00 00","751",500]
[40931501752,"Строительство автомобильной дороги «Кашира-Серебряные Пруды-Узловая»-Топканово-Масловская фабрика Колмна в Каширском районе Московской области","052","04","09","315 00 00","752",500]
[40931501753,"Строительство автомобильной дороги «Степаново-Животино» в Дмитровском районе Московской области","052","04","09","315 00 00","753",1000]
[40931502,"Поддержка дорожного хозяйства","052","04","09","315 02 00",null,{"$f":"H2429","v":0}]
[4093150201,"Строительство и модернизация автомобильных дорог общего пользования, в том числе дорог в поселениях (за исключением автомобильных дорог федерального значения)","052","04","09","315 02 01",null,{"$f":"H2430","v":0}]
[4093150201001,"Выполнение функций бюджетными учреждениями","052","04","09","315 02 01","001",{"$f":"449970-449970","v":0}]
[409522,"Региональные целевые программы","052","04","09","522 00 00",null,{"$f":"H2432+H2448","v":100500}]
[40852203,"Областная целевая программа \"Дороги Подмосковья на период 2004-2007 годов\"","052","04","09","522 03 00",null,{"$f":"H2433+H2438+H2442+H2445","v":0}]
[4085220301,"Подпрограмма 1 \"Обеспечение содержания, ремонта, реконструкции и строительства автомобильных дорог общего пользования Московской области и сооружений на них в 2004-2007 годах\"","052","04","09","522 03 01",null,{"$f":"SUM(H2434:H2437)","v":0}]
[4085220301213,"Строительство объектов для нужд отрасли","052","04","09","522 03 01",213]
[4085220301327,"Обеспечение деятельности подведомственных учреждений","052","04","09","522 03 01",327]
[4085220301365,"Отдельные мероприятия в области дорожного хозяйства","052","04","09","522 03 01",365]
[4085220301593,"Строительство и модернизация автомобильных дорог общего пользования, в том числе дорог в поселениях (за исключением автомобильных дорог федерального значения) ","052","04","09","522 03 01",593]
[4085220302,"Подпрограмма 2 \"Обеспечение содержания, ремонта, реконструкции и строительства объектов дорожно-мостового хозяйства, находящихся в государственной собственности Московской области и расположенных в городских и сельских поселениях, в 2004-2007 годах\"","052","04","09","522 03 02",null,{"$f":"H2439+H2440+H2441","v":0}]
[4085220302213,"Строительство объектов для нужд отрасли","052","04","09","522 03 02",213]
[4085220302327,"Обеспечение деятельности подведомственных учреждений","052","04","09","522 03 02",327]
[4085220302365,"Отдельные мероприятия в области дорожного хозяйства","052","04","09","522 03 02",365]
[4085220303,"Подпрограмма 3 \"Обеспечение содержания, ремонта, реконструкции и строительства (установки) светофорных объектов, находящихся в государственной собственности Московской области, в 2004-2007 годах\"","052","04","09","522 03 03",null,{"$f":"H2443+H2444","v":0}]
[4085220303213,"Строительство объектов для нужд отрасли","052","04","09","522 03 03",213]
[4085220303365,"Отдельные мероприятия в области дорожного хозяйства","052","04","09","522 03 03",365]
[4085220304,"Подпрограмма 4 \"Обустройство участков автомобильных дорог, находящихся в государственной собственности Московской области и расположенных вблизи детских и образовательных учреждений, в 2007 году\"","052","04","09","522 03 04",null,{"$f":"H2446+H2447","v":0}]
[4085220304213,"Строительство объектов для нужд отрасли","052","04","09","522 03 04",213]
[4085220304365,"Отдельные мероприятия в области дорожного хозяйства","052","04","09","522 03 04",365]
[40952210,"Областная целевая программа \"Обеспечение безопасности дорожного движения на территории Московской области в 2007-2010 годах\"","052","04","09","522 10 00",null,{"$f":"H2449+H2451","v":100500}]
[4095221002,"Раздел \"Организационно-планировочные и инженерные меры, направленные на совершенствование организации движения транспортных средств и пешеходов\"","052","04","09","522 10 02",null,{"$f":"H2450","v":100500}]
[4095221002001,"Выполнение функций бюджетными учреждениями","052","04","09","522 10 02","001",100500]
[]
[0,"Государственное специализированное учреждение Московской области \"Московский областной финансовый центр\"","053",null,null,null,null,{"$f":"H2453","v":56894}]
[1,"Общегосударственные вопросы","053","01",null,null,null,{"$f":"H2454","v":56894}]
[114,"Другие общегосударственные вопросы","053","01",14,null,null,{"$f":"H2455","v":56894}]
[114002,"Руководство и управление в сфере установленных функций органов государственной власти субъектов Российской Федерации  и органов местного самоуправления","053","01",14,"002 00 00",null,{"$f":"H2456","v":56894}]
[11400204,"Центральный аппарат","053","01",14,"002 04 00",null,{"$f":"H2457","v":56894}]
[11400204012,"Выполнение функций государственными органами","053","01",14,"002 04 00","012",56894]
[]
[0,"Государственное специализированное учреждение Московской области \"Фонд имущества Московской области\"","054",null,null,null,null,{"$f":"H2460","v":36700}]
[1,"Общегосударственные вопросы","054","01",null,null,null,{"$f":"H2461","v":36700}]
[114,"Другие общегосударственные вопросы","054","01",14,null,null,{"$f":"H2462","v":36700}]
[114002,"Руководство и управление в сфере установленных функций органов государственной власти субъектов Российской Федерации  и органов местного самоуправления","054","01",14,"002 00 00",null,{"$f":"H2463","v":36700}]
[11400204,"Центральный аппарат","054","01",14,"002 04 00",null,{"$f":"H2464","v":36700}]
[11400204012,"Выполнение функций государственными органами","054","01",14,"002 04 00","012",36700]
[]
[0,"Государственное учреждение Московской области \"Комплекс \"Сатурн\" ","055",null,null,null,null,{"$f":"H2467","v":203000}]
[9,"Здравоохранение, физическая культура и спорт","055","09",null,null,null,{"$f":"H2468","v":203000}]
[908,"Физическая культура и спорт","055","09","08",null,null,{"$f":"H2469","v":203000}]
[908482,"Центры спортивной подготовки (сборные команды)","055","09","08","482 00 00",null,{"$f":"H2470","v":203000}]
[90848299,"Обеспечение деятельности подведомственных учреждений","055","09","08","482 99 00",null,{"$f":"H2471","v":203000}]
[90848299001,"Выполнение функций бюджетными учреждениями","055","09","08","482 99 00","001",203000]
[]
[0,"Государственное учреждение Московской области \"Спортивный клуб \"Химик\"","056",null,null,null,null,{"$f":"H2474","v":170245}]
[9,"Здравоохранение, физическая культура и спорт","056","09",null,null,null,{"$f":"H2475","v":170245}]
[908,"Физическая культура и спорт","056","09","08",null,null,{"$f":"H2476","v":170245}]
[908482,"Центры спортивной подготовки (сборные команды)","056","09","08","482 00 00",null,{"$f":"H2477","v":170245}]
[90848299,"Обеспечение деятельности подведомственных учреждений","056","09","08","482 99 00",null,{"$f":"H2478","v":170245}]
[90848299001,"Выполнение функций бюджетными учреждениями","056","09","08","482 99 00","001",170245]
[]
[0,"Государственное учреждение Московской области \"Противопожарная служба Московской области\"","057",null,null,null,null,{"$f":"H2481","v":0}]
[3,"Национальная безопасность и правоохранительная деятельность","057","03",null,null,null,{"$f":"H2482+H2485","v":0}]
[309,"Предупреждение и ликвидация последствий чрезвычайных ситуаций и стихийных бедствий, гражданская оборона","059","03","09",null,null,{"$f":"H2483","v":0}]
[309219,"Мероприятия по гражданской обороне","057","03","09","219 00 00",null,{"$f":"H2484","v":0}]
[309219261,"Подготовка населения и организаций к действиям в чрезвычайной ситуации в мирное и военное время","057","03","09","219 00 00",261]
[310,"Обеспечение противопожарной безопасности","057","03",10,null,null,{"$f":"H2486","v":0}]
[310247,"Реализация государственных функций, связанных с обеспечением национальной безопасности и правоохранительной деятельности","057","03",10,"247 00 00",null,{"$f":"H2487","v":0}]
[310247327,"Обеспечение деятельности подведомственных учреждений","057","03",10,"247 00 00",327]
[]
[0,"Государственное учреждение Московской области \"Московская областная спасательная служба\"","058",null,null,null,null,{"$f":"H2490","v":0}]
[3,"Национальная безопасность и правоохранительная деятельность","058","03",null,null,null,{"$f":"H2491","v":0}]
[309,"Предупреждение и ликвидация последствий чрезвычайных ситуаций и стихийных бедствий, гражданская оборона","058","03","09",null,null,{"$f":"H2492","v":0}]
[309302,"Поисковые и аварийно-спасательные учреждения","058","03","09","302 00 00",null,{"$f":"H2493","v":0}]
[309302327,"Обеспечение деятельности подведомственных учреждений","058","03","09","302 00 00",327]
[]
[0,"Государственное учреждение Московской области \"Специальный центр \"Звенигород\"","059",null,null,null,null,{"$f":"H2496","v":184963}]
[3,"Национальная безопасность и правоохранительная деятельность","059","03",null,null,null,{"$f":"H2497","v":184963}]
[309,"Защита населения и территории от последствий чрезвычайных ситуаций природного и техногенного характера, гражданская оборона ","059","03","09",null,null,{"$f":"H2498+H2501","v":184963}]
[309219,"Мероприятия по гражданской обороне","059","03","09","219 00 00",null,{"$f":"H2499","v":2670}]
[30921901,"Подготовка населения и организаций к действиям в чрезвычайной ситуации в мирное и военное время","059","03","09","219 01 00",null,{"$f":"H2500","v":2670}]
[30921901001,"Выполнение функций бюджетными учреждениями","059","03","09","219 01 00","001",2670]
[309247,"Реализация других функций, связанных с обеспечением национальной безопасности и правоохранительной деятельности ","059","03","09","247 00 00",null,{"$f":"H2502+H2504","v":182293}]
[30924766,"Специальные объекты","059","03","09","247 66 00",null,{"$f":"H2503","v":74560}]
[30924766001,"Выполнение функций бюджетными учреждениями","059","03","09","247 66 00","001",74560]
[30924799,"Обеспечение деятельности подведомственных учреждений","059","03","09","247 99 00",null,{"$f":"H2505","v":107733}]
[30924799001,"Выполнение функций бюджетными учреждениями","059","03","09","247 99 00","001",107733]
[]
[0,"Московский областной фонд обязательного медицинского страхования ","063",null,null,null,null,{"$f":"H2508","v":15158639}]
[9,"Здравоохранение, физическая культура и спорт","063","09",null,null,null,{"$f":"H2509","v":15158639}]
[910,"Другие вопросы в области здравоохранения, физической культуры и спорта","063","09",10,null,null,{"$f":"H2510","v":15158639}]
[910771,"Территориальная программа обязательного медицинского страхования","063","09",10,"771 00 00",null,{"$f":"H2511","v":15158639}]
[91077101,"Обязательное медицинское страхование неработающего населения ","063","09",10,"771 01 00",null,{"$f":"H2512","v":15158639}]
[91077101905,"Страховые взносы по обязательному медицинскому страхованию неработающего населения","063","09",10,"771 01 00",905,15158639]
[]
[0,"Топливно-энергетический комитет Московской области","064",null,null,null,null,{"$f":"H2515+H2520+H2525+H2535","v":910342}]
[2,"Национальная оборона","064","02",null,null,null,{"$f":"H2516","v":620}]
[204,"Мобилизационная подготовка экономики","064","02","04",null,null,{"$f":"H2517","v":620}]
[204209,"Реализация государственных функций по мобилизационной подготовке экономики","064","02","04","209 00 00",null,{"$f":"H2518","v":620}]
[20420901,"Мероприятия по обеспечению  мобилизационной готовности экономики","064","02","04","209 01 00",null,{"$f":"H2519","v":620}]
[20420901012,"Выполнение функций государственными органами","064","02","04","209 01 00","012",620]
[3,"Национальная безопасность и правоохранительная деятельность","064","03",null,null,null,{"$f":"H2521","v":40}]
[309,"Защита населения и территории от последствий чрезвычайных ситуаций природного и техногенного характера, гражданская оборона ","064","03","09",null,null,{"$f":"H2522","v":40}]
[309219,"Мероприятия по гражданской обороне","064","03","09","219 00 00",null,{"$f":"H2523","v":40}]
[30921901,"Подготовка населения и организаций к действиям в чрезвычайной ситуации в мирное и военное время","064","03","09","219 01 00",null,{"$f":"H2524","v":40}]
[30921901012,"Выполнение функций государственными органами","064","03","09","219 01 00","012",40]
[4,"Национальная экономика","064","04",null,null,null,{"$f":"H2526+H2531","v":909589}]
[402,"Топливно-энергетический комплекс","064","04","02",null,null,{"$f":"H2527","v":139333}]
[402002,"Руководство и управление в сфере установленных функций органов государственной власти субъектов Российской Федерации  и органов местного самоуправления","064","04","02","002 00 00",null,{"$f":"H2528","v":139333}]
[40200204,"Центральный аппарат","064","04","02","002 04 00",null,{"$f":"SUM(H2529:H2530)","v":139333}]
[40200204012,"Выполнение функций государственными органами","064","04","02","002 04 00","012",139180]
[40200204902,"Проведение мероприятий по защите информации, обеспечению безопасности информационных систем и баз данных, содержащих конфиденциальную информацию, в том числе персональные данные населения Московской области","064","04","02","002 04 00",902,153]
[412,"Другие вопросы в области национальной экономики","064","04",12,null,null,{"$f":"H2532","v":770256}]
[412340,"Реализация государственных функций в области национальной экономики","064","04",12,"340 00 00",null,{"$f":"H2533","v":770256}]
[41234004,"Мероприятия в области гражданской промышленности","064","04",12,"340 04 00",null,{"$f":"H2534","v":770256}]
[41234004013,"Прочие расходы","064","04",12,"340 04 00","013",770256]
[7,"Образование","064","07",null,null,null,{"$f":"H2536","v":93}]
[707,"Молодежная политика и оздоровление детей","064","07","07",null,null,{"$f":"H2537","v":93}]
[707432,"Мероприятия по проведению оздоровительной кампании детей ","064","07","07","432 00 00",null,{"$f":"H2538","v":93}]
[70743202,"Оздоровление детей ","064","07","07","432 02 00",null,{"$f":"H2539","v":93}]
[70743202001,"Выполнение функций бюджетными учреждениями","064","07","07","432 02 00","001",93]
[]
[0,"Комитет по туризму Московской области","066",null,null,null,null,{"$f":"H2542+H2547+H2552","v":74920}]
[2,"Национальная оборона","066","02",null,null,null,{"$f":"H2543","v":50}]
[204,"Мобилизационная подготовка экономики","066","02","04",null,null,{"$f":"H2544","v":50}]
[204209,"Реализация государственных функций по мобилизационной подготовке экономики","066","02","04","209 00 00",null,{"$f":"H2545","v":50}]
[20420901,"Мероприятия по обеспечению  мобилизационной готовности экономики","066","02","04","209 01 00",null,{"$f":"H2546","v":50}]
[20420901012,"Выполнение функций государственными органами","066","02","04","209 01 00","012",50]
[3,"Национальная безопасность и правоохранительная деятельность","066","03",null,null,null,{"$f":"H2548","v":104}]
[309,"Защита населения и территории от последствий чрезвычайных ситуаций природного и техногенного характера, гражданская оборона ","066","03","09",null,null,{"$f":"H2549","v":104}]
[309219,"Мероприятия по гражданской обороне","066","03","09","219 00 00",null,{"$f":"H2550","v":104}]
[30921901,"Подготовка населения и организаций к действиям в чрезвычайной ситуации в мирное и военное время","066","03","09","219 01 00",null,{"$f":"H2551","v":104}]
[30921901012,"Выполнение функций государственными органами","066","03","09","219 01 00","012",104]
[9,"Здравоохранение, физическая культура и спорт","066","09",null,null,null,{"$f":"H2553","v":74766}]
[910,"Другие вопросы в области здравоохранения, физической культуры и спорта","066","09",10,null,null,{"$f":"H2554","v":74766}]
[910002,"Руководство и управление в сфере установленных функций органов государственной власти субъектов Российской Федерации  и органов местного самоуправления","066","09",10,"002 00 00",null,{"$f":"H2555","v":74766}]
[91000204,"Центральный аппарат","066","09",10,"002 04 00",null,{"$f":"H2556","v":74766}]
[91000204012,"Выполнение функций государственными органами","066","09",10,"002 04 00","012",74766]
[]
[0,"Государственное учреждение Московской области \"Гандбольный центр Московской области\"","070",null,null,null,null,{"$f":"H2559","v":46650}]
[9,"Здравоохранение, физическая культура и спорт","070","09",null,null,null,{"$f":"H2560","v":46650}]
[908,"Физическая культура и спорт","070","09","08",null,null,{"$f":"H2561","v":46650}]
[908482,"Центры спортивной подготовки (сборные команды)","070","09","08","482 00 00",null,{"$f":"H2562","v":46650}]
[90848299,"Обеспечение деятельности подведомственных учреждений","070","09","08","482 99 00",null,{"$f":"H2563","v":46650}]
[90848299001,"Выполнение функций бюджетными учреждениями","070","09","08","482 99 00","001",46650]
[]
[0,"Главное управление государственного административно-технического надзора Московской области","073",null,null,null,null,{"$f":"H2566+H2571+H2576+H2586","v":440190}]
[2,"Национальная оборона","073","02",null,null,null,{"$f":"H2567","v":8}]
[204,"Мобилизационная подготовка экономики","073","02","04",null,null,{"$f":"H2568","v":8}]
[204209,"Реализация государственных функций по мобилизационной подготовке экономики","073","02","04","209 00 00",null,{"$f":"H2569","v":8}]
[20420901,"Мероприятия по обеспечению  мобилизационной готовности экономики","073","02","04","209 01 00",null,{"$f":"H2570","v":8}]
[20420901012,"Выполнение функций государственными органами","073","02","04","209 01 00","012",8]
[3,"Национальная безопасность и правоохранительная деятельность","073","03",null,null,null,{"$f":"H2572","v":352}]
[309,"Защита населения и территории от последствий чрезвычайных ситуаций природного и техногенного характера, гражданская оборона ","073","03","09",null,null,{"$f":"H2573","v":352}]
[309219,"Мероприятия по гражданской обороне","073","03","09","219 00 00",null,{"$f":"H2574","v":352}]
[30921901,"Подготовка населения и организаций к действиям в чрезвычайной ситуации в мирное и военное время","073","03","09","219 01 00",null,{"$f":"H2575","v":352}]
[30921901012,"Выполнение функций государственными органами","073","03","09","219 01 00","012",352]
[5,"Жилищно-коммунальное хозяйство","073","05",null,null,null,{"$f":"H2577","v":439662}]
[505,"Другие вопросы в области жилищно-коммунального хозяйства","073","05","05",null,null,{"$f":"H2578+H2581","v":439662}]
[505002,"Руководство и управление в сфере установленных функций органов государственной власти субъектов Российской Федерации  и органов местного самоуправления","073","05","05","002 00 00",null,{"$f":"H2579","v":435693}]
[50500204,"Центральный аппарат","073","05","05","002 04 00",null,{"$f":"H2580","v":435693}]
[50500204012,"Выполнение функций государственными органами","073","05","05","002 04 00","012",435693]
[505803,"Расходы на страхование","073","05","05","803 00 00",null,{"$f":"H2582+H2584","v":3969}]
[5058030001,"Расходы на страхование имущества, находящегося в государственной собственности Московской области","073","05","05","803 00 01",null,{"$f":"H2583","v":2886}]
[5058030001013,"Прочие расходы","073","05","05","803 00 01","013",2886]
[5058030003,"Расходы на обязательное страхование гражданской ответственности владельцев транспортных средств","073","05","05","803 00 03",null,{"$f":"H2585","v":1083}]
[5058030003013,"Прочие расходы","073","05","05","803 00 03","013",1083]
[7,"Образование","073","07",null,null,null,{"$f":"H2587","v":168}]
[707,"Молодежная политика и оздоровление детей","073","07","07",null,null,{"$f":"H2588","v":168}]
[707432,"Мероприятия по проведению оздоровительной кампании детей ","073","07","07","432 00 00",null,{"$f":"H2589","v":168}]
[70743202,"Оздоровление детей ","073","07","07","432 02 00",null,{"$f":"H2590","v":168}]
[70743202001,"Выполнение функций бюджетными учреждениями","073","07","07","432 02 00","001",168]
[]
[0,"Главное управление Московской области \"Государственная жилищная инспекция Московской области\"","074",null,null,null,null,{"$f":"H2593+H2598","v":172949}]
[3,"Национальная безопасность и правоохранительная деятельность","074","03",null,null,null,{"$f":"H2594","v":220}]
[309,"Защита населения и территории от последствий чрезвычайных ситуаций природного и техногенного характера, гражданская оборона ","074","03","09",null,null,{"$f":"H2595","v":220}]
[309219,"Мероприятия по гражданской обороне","074","03","09","219 00 00",null,{"$f":"H2596","v":220}]
[30921901,"Подготовка населения и организаций к действиям в чрезвычайной ситуации в мирное и военное время","074","03","09","219 01 00",null,{"$f":"H2597","v":220}]
[30921901012,"Выполнение функций государственными органами","074","03","09","219 01 00","012",220]
[5,"Жилищно-коммунальное хозяйство","074","05",null,null,null,{"$f":"H2599","v":172729}]
[505,"Другие вопросы в области жилищно-коммунального хозяйства","074","05","05",null,null,{"$f":"H2600","v":172729}]
[505002,"Руководство и управление в сфере установленных функций органов государственной власти субъектов Российской Федерации  и органов местного самоуправления","074","05","05","002 00 00",null,{"$f":"H2601","v":172729}]
[50500204,"Центральный аппарат","074","05","05","002 04 00",null,{"$f":"H2602","v":172729}]
[50500204012,"Выполнение функций государственными органами","074","05","05","002 04 00","012",172729]
[]
[0,"Территориальный исполнительный орган государственной власти Московской области на территории города Подольска Московской области","079",null,null,null,null,{"$f":"H2605","v":8400}]
[1,"Общегосударственные вопросы","079","01",null,null,null,{"$f":"H2606","v":8400}]
[114,"Другие общегосударственные вопросы","079","01",14,null,null,{"$f":"H2607","v":8400}]
[114002,"Руководство и управление в сфере установленных функций органов государственной власти субъектов Российской Федерации  и органов местного самоуправления","079","01",14,"002 00 00",null,{"$f":"H2608","v":8400}]
[11400204,"Центральный аппарат","079","01",14,"002 04 00",null,{"$f":"H2609","v":8400}]
[11400204012,"Выполнение функций государственными органами","079","01",14,"002 04 00","012",8400]
[]
[0,"Государственное учреждение Московской области \"Дирекция спортивных сооружений\"","080",null,null,null,null,{"$f":"H2612","v":210000}]
[9,"Здравоохранение, физическая культура и спорт","080","09",null,null,null,{"$f":"H2613","v":210000}]
[908,"Физическая культура и спорт","080","09","08",null,null,{"$f":"H2614","v":210000}]
[908482,"Центры спортивной подготовки (сборные команды)","080","09","08","482 00 00",null,{"$f":"H2615","v":210000}]
[90848299,"Обеспечение деятельности подведомственных учреждений","080","09","08","482 99 00",null,{"$f":"H2616","v":210000}]
[90848299001,"Выполнение функций бюджетными учреждениями","080","09","08","482 99 00","001",210000]
[]
[]
[null,"В  С  Е  Г  О    Р  А  С  Х  О  Д  О  В ",null,null,null,null,null,{"$f":"SUMIF($A$17:$A$2618,\"=0\",H17:H2618)","v":250120048}]
[]
[null,"Примечание:"]
[null,"      1) Главное управление внутренних дел по Московской области, являясь в соответствии с настоящим Законом главным распорядителем средств бюджета Московской области, исполняет функции государственного заказчика при размещении заказов на поставку товаров, выполнение работ, оказание услуг за счет средств бюджета Московской области; "]
[null,"  * Публичные нормативные обязательства .",null,null,null,null,null,null,{"$f":"H304+H306+H308+H310+H400+H402+H404+H406+H522+H524+H651+H659+H661+H917+H919+H921+H923+H1101+H1103+H1105+H1113+H1115+H1117+H1119+H1131+H1133+H1141+H1143+H1145+H1147+H1163+H1165+H1167+H1169+H1171+H1173+H1185+H1187+H1189+H1191+H1212+H1214+H1216+H1248+H1257+H1259+H1261+H1263+H1265+H1267+H1291+H1293+H1295+H1298+H1300+H1302+H1304+H1306+H1309+H1311+H1313+H1315+H1425+H1427+H1429+H1431+H1433+H1542+H1604+H1606+H1608+H1610+H1662+H1665+H1667+H1669+H1671+H1680+H1682+H1686+H1688+H1694+H1696+H1709+H1711+H1720+H1722+H1726+H1728+H1730+H1732+H1735+H1737+H1739+H1741+H1743+H1745+H1747+H1749+H1751+H1753+H1755+H1757+H1759+H1761+H1763+H1765+H1767+H1769+H1771+H1773+H1775+H1777+H1779+H1796+H2170+H2173+H2175+H2211+H2252+H2288+H2317","v":17592588}]

{"sheet":"коды","index":1,"n_rows":57,"n_cols":5,"rows_kept":57,"cut":false,"hidden":true,"merged":[]}
[]
["ЦСР",null,null,"ВР"]
[null,null,null,901,"Взносы Московской области в общественные организации, фонды, ассоциации"]
[null,null,null,"701-823","Софинансирование дорожных объектов"]
["802 00 00","Прочие учреждения в области образования",null,902,"Проведение мероприятий по защите информации, обеспечению безопасности информационных систем и баз данных, содержащих конфиденциальную информацию, в том числе персональные данные населения Московской области"]
["803 00 00","Расходы на страхование ",null,903,"Бюджетные инвестиции в объекты капитального строительства собственности муниципальных образований, софинансирование которых осуществляется за счет средств федерального бюджета"]
["803 00 01","Расходы на страхование имущества, находящегося в государственной собственности Московской области",null,904,"Обеспечение деятельности подразделений УГИБДД ГУВД по Московской области"]
["803 00 02","Расходы на страхование гражданской ответственности учреждений, находящихся в государственной собственности Московской области",null,905,"Страховые взносы по обязательному медицинскому страхованию неработающего населения"]
["803 00 03","Расходы на обязательное страхование гражданской ответственности владельцев транспортных средств",null,906,"Работы по гидрометеорологии и мониторингу окружающей среды"]
["803 00 04","Расходы на добровольное страхование гражданской ответственности владельцев транспортных средств",null,907,"Проведение государственной экологической экспертизы объектов регионального уровня на территории Московской области"]
["803 00 05","Расходы на страхование жизни и здоровья медицинских, фармацевтических и других работников государственных учреждений здравоохранения Московской области, работа которых связана с угрозой их жизни и здоровью",null,908,"Софинансирование строительства объектов газификации собственности муниципальных образований"]
["803 00 06","Расходы на страхование жизни и здоровья членов сборных команд Московской области",null,909,"Софинансирование строительства объектов водоснабжения собственности муниципальных образований"]
["803 00 07","Расходы на страхование на случай причинения вреда жизни и здоровью лиц, замещающих государственные должности Московской области и государственных гражданских служащих Московской области",null,910,"Финансирование расходов, осуществляемое за счет средств, поступающих от сдачи в аренду имущества, закрепленного за государственными организациями"]
["804 00 00 ","Приобретение земельных участков в государственную собственность Московской области",null,917,"Субсидии на возмещение за счет средств фонда стимулирования организаций легкой и текстильной промышленности, состоящих на учете в налоговых органах по Московской области, части процентных ставок по кредитам, предоставляемых российскими кредитными организациями"]
["806 00 00","Прочие расходы, не отнесенные к другим целевым статьям",null,919,"Финансирование транспортным организациям выпадающих доходов, возникающих в связи с предоставлением мер социальной поддержки по проезду отдельных категорий граждан, имеющих место жительства в Московской области, за исключением ветеранов труда, тружеников тыла, реабилитированных лиц и лиц, признанных пострадавшими от политических репрессий,  финансирование выпадающих доходов по перевозке отдельных категорий граждан на внутреннем водном транспорте пригородного сообщения"]
["806 01 00","Подготовка врачебных кадров",null,921,"Финансирование транспортным организациям выпадающих доходов, возникающих в связи с реализацией мер социальной поддержки в части транспортного обслуживания отдельных категорий граждан, имеющих место жительства в городе Москве, паасажирским транспортом общего пользования Московской области"]
["806 02 00","Подготовка кадров в сфере культуры и искусства"]
["806 00 30","Создание финансового резерва для обеспечения выплаты дополнительных пенсий работникам государственных учреждений Московской области, вышедшим на пенсию"]
["806 00 31","Компенсация расходов адвокатам, оказывающим гражданам Российской Федерации на территории Московской области юридическую помощь бесплатно"]
["806 00 32","Проведение мероприятий в сфере социальной защиты населения, посвященных знаменательным событиям и памятным датам, установленным в Российской Федерации и Московской области "]
["806 00 33","Возмещение стоимости услуг, согласно гарантированному перечню услуг по погребению умерших"]
["807 00 00","Меры социальной поддержки по обеспечению проездом граждан"]
["808 00 00","Расходы на оценку имущества, подлежащего страхованию"]
["522 01 00","Областная целевая программа \"Экология Подмосковья на 2007-2008 годы\""]
["522 02 00","Областная целевая программа \"Жилище\" на 2006-2010 годы"]
["522 02 01","Подпрограмма \"Модернизация объектов коммунальной инфраструктуры\""]
["522 02 02","Подпрограмма \"Переселение граждан из ветхого и аварийного жилищного фонда\""]
["522 02 03","Подпрограмма \"Обеспечение земельных участков коммунальной инфраструктурой в целях жилищного строительства\""]
["522 02 04","Подпрограмма \"Обеспечение жильем молодых семей\""]
["522 03 00","Областная целевая программа \"Разработка Генерального плана развития Московской области на период до 2020 года\""]
["522 04 00","Областная целевая программа \"Электронное Подмосковье на период 2006-2009 годы\""]
["522 05 00","Областная целевая программа \"Сохранение объектов культурного наследия (памятников истории и культуры) в Московской области на 2006-2008 годы\""]
["522 05 01","Раздел 1 \"Сохранение объектов культурного наследия\""]
["522 05 02","Раздел 2 \"Государственная охрана объектов культурного наследия\""]
["522 05 03","Раздел 3 \"Оказание поддержки религиозным организациям в проведении работ по сохранению памятников истории и культуры религиозного назначения\""]
["522 05 04","Раздел 4 \"Установка памятника создателям славянской азбуки, просветителям славянских народов, святым братьям Кириллу и Мефодию\""]
["522 06 00","Областная целевая программа \"Развитие образования в Московской области на период 2006-2010 годов\""]
["522 07 00","Областная целевая программа \"Молодое поколение Подмосковья на 2006-2008 годы\""]
["522 08 00","Областная целевая программа \"Радиационная безопасность Московской области на 2006-2010 годы\""]
["522 09 00","Областная целевая программа \"Поддержка Московской областью соотечественников за рубежом на 2007-2010 годы\""]
["522 10 00","Областная целевая программа \"Обеспечение безопасности дорожного движения на территории Московской области в 2007-2010 годах\""]
["522 10 01","Раздел \"Предупреждение опасного поведения участников дорожного движения\""]
["522 10 02","Раздел \"Организационно-планировочные и инженерные меры, направленные на совершенствование организации движения транспортных средств и пешеходов\""]
["522 10 03","Раздел \"Совершенствование системы подготовки и переподготовки водительского, ремонтного и инженерно-технического персонала\""]
["522 10 05","Раздел \"Совершенствование контрольно-надзорной деятельности и деятельности по ликвидации последствий и снижению тяжести ДТП\""]
["522 11 00","Областная целевая программа \"Совершенствование медицинской помощи новорожденным, беременным женщинам и матерям в Московской области на период 2008-2011 годов\""]
["522 12 00","Областная целевая программа \"Предупреждение и борьба с заболеваниями социального характера в Московской области на период 2008-2011 годов\""]
["522 12 01","Подпрограмма \"Сахарный диабет\""]
["522 12 02","Подпрограмма \"Неотложные меры борьбы с туберкулезом\""]
["522 12 03","Подпрограмма \"О мерах по предупреждению распространения заболевания, вызываемого вирусом иммунодефицита человека (ВИЧ - инфекции)\""]
["522 12 04","Подпрограмма \"О мерах по развитию онкологической помощи\""]
["522 12 05","Подпрограмма \"О мерах по предупреждению дальнейшего распространения заболеваний, передаваемых половым путем\""]
["522 12 06","Подпрограмма \"Вирусные гепатиты\""]
["522 12 07","Подпрограмма \"Развитие психиатрической помощи\""]
["522 12 08","Подпрограмма \"Вакцинопрофилактика\""]
["522 12 09","Подпрограмма \"Профилактика и лечение артериальной гипертонии\""]
["522 12 10","Подпрограмма \"Общая врачебная практика\""]

{"sheet":"разделы","index":2,"n_rows":143,"n_cols":5,"rows_kept":143,"cut":false,"hidden":true,"merged":[]}
[null,"проект"]
["Код","Наименование раздела и подраздела"]
[null,null,null,"фуккцион","свод"]
["0100","ОБЩЕГОСУДАРСТВЕННЫЕ ВОПРОСЫ",{"$f":"SUM(C5:C18)","v":23580617},{"$f":"C4-'ведом. 2022-2024'!G11","v":23580617},{"$f":"C4-[1]свод!$E$203","v":0}]
["0101","Функционирование Президента Российской Федерации"]
["0102","Функционирование высшего должностного лица субъекта Российской Федерации и муниципального образования",2114,{"$f":"C6-'ведом. 2022-2024'!G12","v":2114}]
["0103","Функционирование законодательных (представительных) органов государственной власти и представительных органов муниципальных образований",{"$f":"8479+797591","v":806070},{"$f":"C7-'ведом. 2022-2024'!#REF!","v":{"$error":"#REF!"}}]
["0104","Функционирование Правительства Российской Федерации, высших исполнительных органов государственной власти субъектов Российской Федерации, местных администраций",902951,{"$f":"C8-'ведом. 2022-2024'!G19","v":902951}]
["0105","Судебная система",1163086,{"$f":"C9-'ведом. 2022-2024'!#REF!","v":{"$error":"#REF!"}}]
["0106","Обеспечение деятельности финансовых, налоговых и таможенных органов и органов финансового (финансово-бюджетного) надзора",{"$f":"5050+2170797+3000+141000","v":2319847},{"$f":"C10-'ведом. 2022-2024'!#REF!","v":{"$error":"#REF!"}}]
["0107","Обеспечение проведения выборов и референдумов",67921,{"$f":"C11-'ведом. 2022-2024'!#REF!","v":{"$error":"#REF!"}}]
["0108","Международные отношения и международное сотрудничество",{"$f":"203700+5800","v":209500},{"$f":"C12-'ведом. 2022-2024'!#REF!","v":{"$error":"#REF!"}}]
["0109","Государственный материальный резерв"]
["0110","Фундаментальные исследования"]
["0111","Обслуживание государственного и муниципального долга",8537000,{"$f":"C15-'ведом. 2022-2024'!G437","v":8537000}]
["0112","Резервные фонды",{"$f":"1500000+55107","v":1555107},{"$f":"C16-'ведом. 2022-2024'!G76","v":1555107}]
["0113","Прикладные научные исследования в области общегосударственных вопросов"]
["0114","Другие общегосударственные вопросы",{"$f":"26190+27274+720000+375064+3754446+10000+3099047-8621+8621+2000+3000","v":8017021},{"$f":"C18-'ведом. 2022-2024'!G84","v":8017021}]
[]
["0200","НАЦИОНАЛЬНАЯ ОБОРОНА",{"$f":"SUM(C21:C29)","v":12972},{"$f":"C20-'ведом. 2022-2024'!G141","v":12972},{"$f":"C20-[1]свод!$E$204","v":0}]
["0201","Вооруженные Силы Российской Федерации"]
["0202","Модернизация Вооруженных Сил Российской Федерации и воинских формирований"]
["0203","Мобилизационная и вневойсковая подготовка"]
["0204","Мобилизационная подготовка экономики",12972,{"$f":"C24-'ведом. 2022-2024'!#REF!","v":{"$error":"#REF!"}}]
["0205","Подготовка и участие в обеспечении коллективной безопасности и миротворческой деятельности;"]
["0206","Ядерно-оружейный комплекс"]
["0207","Реализация международных обязательств в сфере военно-технического сотрудничества"]
["0208","Прикладные научные исследования в области национальной обороны"]
["0209","Другие вопросы в области национальной обороны"]
[]
["0300","НАЦИОНАЛЬНАЯ БЕЗОПАСНОСТЬ И ПРАВООХРАНИТЕЛЬНАЯ ДЕЯТЕЛЬНОСТЬ",{"$f":"SUM(C32:C45)","v":16669168},{"$f":"C31-'ведом. 2022-2024'!G158","v":16669168},{"$f":"C31-[1]свод!$E$205","v":0}]
["0301","Органы прокуратуры"]
["0302","Органы внутренних дел",{"$f":"315585+11659394+26106","v":12001085},{"$f":"C33-'ведом. 2022-2024'!#REF!","v":{"$error":"#REF!"}}]
["0303","Внутренние войска"]
["0304","Органы юстиции"]
["0305","Система исполнения наказаний",177958,{"$f":"C36-'ведом. 2022-2024'!#REF!","v":{"$error":"#REF!"}}]
["0306","Органы безопасности"]
["0307","Органы пограничной службы"]
["0308","Органы по контролю за оборотом наркотических средств и психотропных веществ",67662,{"$f":"C39-'ведом. 2022-2024'!#REF!","v":{"$error":"#REF!"}}]
["0309","Предупреждение и ликвидация последствий чрезвычайных ситуаций природного и техногенного характера, гражданская оборона",996190,{"$f":"C40-'ведом. 2022-2024'!G159","v":996190}]
["0310","Обеспечение пожарной безопасности",{"$f":"46851+3225689+100000+53733","v":3426273},{"$f":"C41-'ведом. 2022-2024'!#REF!","v":{"$error":"#REF!"}}]
["0311","Миграционная политика"]
["0312","Модернизация внутренних войск, войск гражданской обороны, а также правоохранительных и иных органов"]
["0313","Прикладные научные исследования в области национальной безопасности и правоохранительной деятельности"]
["0314","Другие вопросы в области национальной безопасности и правоохранительной деятельности"]
[]
["0400","НАЦИОНАЛЬНАЯ ЭКОНОМИКА",{"$f":"SUM(C48:C59)","v":47268313},{"$f":"C47-'ведом. 2022-2024'!G218","v":47268313},{"$f":"C47-[1]свод!$E$206","v":0}]
["0401","Общеэкономические вопросы",{"$f":"449106+1060+723785","v":1173951},{"$f":"C48-'ведом. 2022-2024'!#REF!","v":{"$error":"#REF!"}}]
["0402","Топливно-энергетический комплекс",{"$f":"139180+153","v":139333},{"$f":"C49-'ведом. 2022-2024'!#REF!","v":{"$error":"#REF!"}}]
["0403","Исследование и использование космического пространства"]
["0404","Воспроизводство минерально-сырьевой базы"]
["0405","Сельское хозяйство и рыболовство",{"$f":"121513+1781175+10276+669+22224","v":1935857},{"$f":"C52-'ведом. 2022-2024'!#REF!","v":{"$error":"#REF!"}}]
["0406","Водные ресурсы",36721,{"$f":"C53-'ведом. 2022-2024'!#REF!","v":{"$error":"#REF!"}}]
["0407","Лесное хозяйство"]
["0408","Транспорт",{"$f":"1712331+442920","v":2155251},{"$f":"C55-'ведом. 2022-2024'!G219","v":2155251}]
["0409","Дорожное хозяйство",35016518,{"$f":"C56-'ведом. 2022-2024'!#REF!","v":{"$error":"#REF!"}}]
["0410","Связь и информатика",{"$f":"391523+82000","v":473523},{"$f":"C57-'ведом. 2022-2024'!#REF!","v":{"$error":"#REF!"}}]
["0411","Прикладные научные исследования в области национальной экономики",{"$f":"101000+19000","v":120000},{"$f":"C58-'ведом. 2022-2024'!#REF!","v":{"$error":"#REF!"}}]
["0412","Другие вопросы в области национальной экономики",{"$f":"10506+256+53397+1278437+377300+3110389+6896+537478+800000+42500","v":6217159},{"$f":"C59-'ведом. 2022-2024'!#REF!","v":{"$error":"#REF!"}}]
[]
["0500","ЖИЛИЩНО-КОММУНАЛЬНОЕ ХОЗЯЙСТВО",{"$f":"SUM(C62:C66)","v":2711709},{"$f":"C61-'ведом. 2022-2024'!#REF!","v":{"$error":"#REF!"}},{"$f":"C61-[1]свод!$E$207","v":0}]
["0501","Жилищное хозяйство",{"$f":"659378+190153","v":849531},{"$f":"C62-'ведом. 2022-2024'!#REF!","v":{"$error":"#REF!"}}]
["0502","Коммунальное хозяйство",{"$f":"371840+283200+143500","v":798540},{"$f":"C63-'ведом. 2022-2024'!#REF!","v":{"$error":"#REF!"}}]
["0503","Благоустройство"]
["0504","Прикладные научные исследования в области жилищно- коммунального хозяйства"]
["0505","Другие вопросы в области жилищно-коммунального хозяйства",{"$f":"500+3969+147910+888459+22800","v":1063638},{"$f":"C66-'ведом. 2022-2024'!#REF!","v":{"$error":"#REF!"}}]
[]
["0600","ОХРАНА ОКРУЖАЮЩЕЙ СРЕДЫ",{"$f":"SUM(C69:C73)","v":487816},{"$f":"C68-'ведом. 2022-2024'!#REF!","v":{"$error":"#REF!"}},{"$f":"C68-[1]свод!$E$208","v":0}]
["0601","Экологический контроль"]
["0602","Сбор, удаление отходов и очистка сточных вод"]
["0603","Охрана объектов растительного и животного мира и среды их обитания",{"$f":"5794-669","v":5125},{"$f":"C71-'ведом. 2022-2024'!#REF!","v":{"$error":"#REF!"}}]
["0604","Прикладные научные исследования в области охраны окружающей среды"]
["0605","Другие вопросы в области охраны окружающей среды",{"$f":"850+190719+291122","v":482691},{"$f":"C73-'ведом. 2022-2024'!#REF!","v":{"$error":"#REF!"}}]
[]
["0700","ОБРАЗОВАНИЕ",{"$f":"SUM(C76:C84)","v":15977562},{"$f":"C75-'ведом. 2022-2024'!G322","v":15977562},{"$f":"C75-[1]свод!$E$209","v":0}]
["0701","Дошкольное образование",45109,{"$f":"C76-'ведом. 2022-2024'!#REF!","v":{"$error":"#REF!"}}]
["0702","Общее образование",{"$f":"16320+1579553+35000-120708","v":1510165},{"$f":"C77-'ведом. 2022-2024'!#REF!","v":{"$error":"#REF!"}}]
["0703","Начальное профессиональное образование",4671918,{"$f":"C78-'ведом. 2022-2024'!#REF!","v":{"$error":"#REF!"}}]
["0704","Среднее профессиональное образование",{"$f":"30220+3196696+9500-18000","v":3218416},{"$f":"C79-'ведом. 2022-2024'!#REF!","v":{"$error":"#REF!"}}]
["0705","Профессиональная подготовка, переподготовка и повышение квалификации",419843,{"$f":"C80-'ведом. 2022-2024'!#REF!","v":{"$error":"#REF!"}}]
["0706","Высшее и послевузовское профессиональное образование",{"$f":"507500+3215131","v":3722631},{"$f":"C81-'ведом. 2022-2024'!#REF!","v":{"$error":"#REF!"}}]
["0707","Молодежная политика и оздоровление детей",{"$f":"73808+458+39313+268054","v":381633},{"$f":"C82-'ведом. 2022-2024'!G334","v":381633}]
["0708","Прикладные научные исследования в области образования",5625,{"$f":"C83-'ведом. 2022-2024'!#REF!","v":{"$error":"#REF!"}}]
["0709","Другие вопросы в области образования",{"$f":"520+80550+787674+1057879+75599","v":2002222},{"$f":"C84-'ведом. 2022-2024'!#REF!","v":{"$error":"#REF!"}}]
[]
["0800","КУЛЬТУРА, КИНЕМАТОГРАФИЯ И СРЕДСТВА МАССОВОЙ ИНФОРМАЦИИ",{"$f":"SUM(C87:C92)","v":4620983},{"$f":"C86-'ведом. 2022-2024'!G361","v":4620983},{"$f":"C86-[1]свод!$E$210","v":0}]
["0801","Культура",{"$f":"2049557+253950+3000","v":2306507},{"$f":"C87-'ведом. 2022-2024'!G362","v":2306507}]
["0802","Кинематография"]
["0803","Телевидение и радиовещание",915009,{"$f":"C89-'ведом. 2022-2024'!#REF!","v":{"$error":"#REF!"}}]
["0804","Периодическая печать и издательства",482232,{"$f":"C90-'ведом. 2022-2024'!#REF!","v":{"$error":"#REF!"}}]
["0805","Прикладные научные исследования в области культуры, кинематографии и средств массовой информации"]
["0806","Другие вопросы в области культуры, кинематографии и средств массовой информации",{"$f":"1210+12189+1700+611492+290644","v":917235},{"$f":"C92-'ведом. 2022-2024'!#REF!","v":{"$error":"#REF!"}}]
[]
["0900","ЗДРАВООХРАНЕНИЕ, ФИЗИЧЕСКАЯ КУЛЬТУРА И СПОРТ",{"$f":"SUM(C95:C104)","v":37148428},{"$f":"C94-'ведом. 2022-2024'!#REF!","v":{"$error":"#REF!"}},{"$f":"C94-[1]свод!$E$211","v":0}]
["0901","Стационарная медицинская помощь",{"$f":"820590+7752658+2890840+2783923","v":14248011},{"$f":"C95-'ведом. 2022-2024'!#REF!","v":{"$error":"#REF!"}}]
["0902","Амбулаторная помощь",662232,{"$f":"C96-'ведом. 2022-2024'!#REF!","v":{"$error":"#REF!"}}]
["0903","Медицинская помощь в дневных стационарах всех типов"]
["0904","Скорая медицинская помощь "]
["0905","Санаторно-оздоровительная помощь",724098,{"$f":"C99-'ведом. 2022-2024'!#REF!","v":{"$error":"#REF!"}}]
["0906","Заготовка, переработка, хранение и обеспечение безопасности донорской крови и её компонентов",377981,{"$f":"C100-'ведом. 2022-2024'!#REF!","v":{"$error":"#REF!"}}]
["0907","Санитарно-эпидемиологическое благополучие"]
["0908","Физическая культура и спорт",{"$f":"7800+1408321+370000+6700","v":1792821},{"$f":"C102-'ведом. 2022-2024'!#REF!","v":{"$error":"#REF!"}}]
["0909","Прикладные научные исследования в области здравоохранения, физической культуры и спорта",269728,{"$f":"C103-'ведом. 2022-2024'!#REF!","v":{"$error":"#REF!"}}]
["0910","Другие вопросы в области здравоохранения, физической культуры и спорта",{"$f":"700+77619-4704+1061358+45000+20330903+21267+285337+40000-2783923","v":19073557},{"$f":"C104-'ведом. 2022-2024'!#REF!","v":{"$error":"#REF!"}}]
[]
["1000","СОЦИАЛЬНАЯ ПОЛИТИКА",{"$f":"SUM(C107:C112)","v":43410314},{"$f":"C106-'ведом. 2022-2024'!G403","v":43410314},{"$f":"C106-[1]свод!$E$212","v":0}]
["1001","Пенсионное обеспечение",142633,{"$f":"C107-'ведом. 2022-2024'!G404","v":142633}]
["1002","Социальное обслуживание населения",{"$f":"6842258-285000+384800","v":6942058},{"$f":"C108-'ведом. 2022-2024'!#REF!","v":{"$error":"#REF!"}}]
["1003","Социальное обеспечение населения",{"$f":"12882130+394827+10076960+5733862+51761+768117+120000-5045+375914+84409+52500+415975","v":30951410},{"$f":"C109-'ведом. 2022-2024'!G410","v":30951410}]
["1004","Охрана семьи и детства",{"$f":"580+2000+2871367","v":2873947},{"$f":"C110-'ведом. 2022-2024'!#REF!","v":{"$error":"#REF!"}}]
["1005","Прикладные научные исследования в области социальной политики"]
["1006","Другие вопросы в области социальной политики",{"$f":"78766+7647+85664+1988045+285000+55144","v":2500266},{"$f":"C112-'ведом. 2022-2024'!#REF!","v":{"$error":"#REF!"}}]
[]
["1100","МЕЖБЮДЖЕТНЫЕ ТРАНСФЕРТЫ",{"$f":"SUM(C115:C119)","v":58232166},{"$f":"C114-'ведом. 2022-2024'!#REF!","v":{"$error":"#REF!"}},{"$f":"C114-[1]свод!$E$213","v":0}]
["1101","Дотации бюджетам субъектов Российской Федерации и муниципальных образований",{"$f":"5289811-576383","v":4713428},{"$f":"C115-'ведом. 2022-2024'!#REF!","v":{"$error":"#REF!"}},{"$f":"C115-[1]свод!$E$215","v":0}]
["1102","Субсидии бюджетам субъектов Российской Федерации и муниципальных образований (межбюджетные субсидии)",{"$f":"45137+1422412-8000+3516363+1120817+115530+4450200+25040+1454659+1115615+610471+973579+151146+160000+297200+281+400000+1000000","v":16850450},{"$f":"C116-'ведом. 2022-2024'!#REF!","v":{"$error":"#REF!"}},{"$f":"C116-[1]свод!$E$222","v":0}]
["1103","Субвенции бюджетам субъектов Российской Федерации и муниципальных образований",{"$f":"4668019+281+70477+805870+159381+90840+27834+1551298+281597+26495709+21661+8000+146682-281+175000+7400+37+2088","v":34511893},{"$f":"C117-'ведом. 2022-2024'!#REF!","v":{"$error":"#REF!"}},{"$f":"C117-[1]свод!$E$261","v":0}]
["1104","Иные межбюджетные трансферты",{"$f":"200000+23893+6013666-141000-21267-7647-3911250","v":2156395},{"$f":"C118-'ведом. 2022-2024'!#REF!","v":{"$error":"#REF!"}},{"$f":"C118-[1]свод!$E$292","v":0}]
["1105","Межбюджетные трансферты бюджетам государственных внебюджетных фондов"]
["ВСЕГО",null,{"$f":"C4+C20+C31+C47+C61+C68+C75+C86+C94+C106+C114","v":250120048},{"$f":"C120-'ведом. 2022-2024'!#REF!","v":{"$error":"#REF!"}},{"$f":"C120-[1]свод!$E$300","v":0}]
[]
[null,"ведомственная",{"$f":"C120-'Ведомственная 2008'!H2619","v":0}]
[null,"функцион",{"$f":"C120-'ведом. 2022-2024'!#REF!","v":{"$error":"#REF!"}}]
[]
[null,"Резерв было всего",6013666,3911250]
[null,null,-141000]
[null,null,-21267]
[null,null,-7647]
[null,"Остаток в Думу",{"$f":"C125+C126+C127+C128","v":5843752}]
[null,"спец продукция, для допуска транспортных средст ГУВД МО",-26106]
[null,"выплата надбавок к денежному довольствию личного состава Гл. упр. региональной безопасности МО   ",-100000]
[null,"замены электропроводки и установки противопожарной сигнализации для Лобненского техникума строительной индустрии и предпринимательства предусмотреть Министерству строительного комплекса ",-9500]
[null,"проведение капитального ремонта комплекса зданий, в котором располагается министерство жилищно-коммунального хозяйства ",-22800]
[null,"открытие пяти отделений на базе государственного учреждения Московской области «Детская юношеская спортивная школа олимпийского резерва по футболу» (Комитет физ-ры)",-15000]
[null,"открытие государственного учреждения дополнительного образования «Детско-юношеская спортивная школа по гандболу» на 500 человек (Комитет физ-ры)",-2000]
[null,"проведение спортивных соревнований на призы Правительства Московской области в рамках международных соревнований мемориала братьев Знаменских (Комитет физ-ры)",-6700]
[null,"Мин. Потребительского рынка",-42500]
[null,"Премия Думы",-8621]
[null,"АПК",-17956]
[]
[]
[null,"Минус с остатка",{"$f":"SUM(C130:C141)","v":-251183}]
[null,"Остаток резерва",{"$f":"C129+C142","v":5592569}]

{"sheet":"Функц. 2022-2024","index":3,"n_rows":808,"n_cols":14,"rows_kept":808,"cut":false,"hidden":false,"merged":[[7,0,7,10],[1,3,1,4],[1,5,1,10],[2,7,2,10],[3,5,3,10]]}
[]
[null,null,null,null,null,"Приложение 2"]
[null,null,null,null,null,null,null,"к бюджету городского округа Лыткарино на 2023 год"]
[null,null,null,null,null,"и  на плановый  период  2024  и  2025 годов"]
[]
[]
[]
["Распределение бюджетных ассигнований по разделам, подразделам, целевым статьям \n(муниципальным программам городского округа Лыткарино и непрограммным направлениям деятельности), \nгруппам и подгруппам видов расходов классификации расходов бюджета городского округа Лыткарино\nна 2023 год и на плановый период 2024 и 2025 годов\n"]
[null,null,null,null,null,null,null,null,null,null,"(тыс.руб.)"]
["Наименования","Рз","ПР","ЦСР","ВР","Сумма  \nна 2023 год\n","В т.ч. Субвенции, субсидии, иные межбюджетные трансферты","Сумма  \nна 2024 год\n","В т.ч. Субвенции, субсидии, иные межбюджетные трансферты","Сумма  \nна 2025 год\n","В т.ч. Субвенции, субсидии, иные межбюджетные трансферты"]
[1,2,3,4,5,6,7,8,9,10,11]
["Общегосударственные вопросы","01",null,null,null,{"$f":"F13+F20+F44+F101+F135+F143","v":338500},6034.1,320950.09999999998,6065.1,300099.19999999995,6087.9]
["Функционирование высшего должностного лица субъекта Российской Федерации и муниципального образования","01","02",null,null,{"$f":"F14","v":3395.7},null,{"$f":"H14","v":3395.7},null,{"$f":"J14","v":3395.7}]
["Муниципальная программа «Управление имуществом и муниципальными финансами»   ","01","02","12 0 00 00000",null,{"$f":"F15","v":3395.7},null,{"$f":"H15","v":3395.7},null,3395.7]
["Обеспечивающая подпрограмма   ","01","02","12 5 00 00000",null,{"$f":"F16","v":3395.7},null,{"$f":"H16","v":3395.7},null,3395.7]
["Основное мероприятие «Создание условий для реализации полномочий органов местного самоуправления» ","01","02","12 5 01 00000",null,{"$f":"F17","v":3395.7},null,{"$f":"H17","v":3395.7},null,3395.7]
["Функционирование высшего должностного лица","01","02","12 5 01 00110",null,{"$f":"'ведом. 2022-2024'!AD16","v":3395.7},null,{"$f":"'ведом. 2022-2024'!AE16","v":3395.7},null,3395.7]
["Расходы на выплаты персоналу в целях обеспечения выполнения функций государственными (муниципальными) органами, казенными учреждениями, органами управления государственными внебюджетными фондами ","01","02","12 5 01 00110",100,{"$f":"F19","v":3395.7},null,{"$f":"H19","v":3395.7},null,3395.7]
["Расходы на выплаты персоналу государственных (муниципальных) органов","01","02","12 5 01 00110",120,{"$f":"'ведом. 2022-2024'!AD18","v":3395.7},null,{"$f":"'ведом. 2022-2024'!AE18","v":3395.7},null,{"$f":"'ведом. 2022-2024'!AF18","v":3395.7}]
["Функционирование законодательных (представительных) органов государственной власти и представительных органов муниципальных образований","01","03",null,null,{"$f":"F27+F21","v":16011.699999999999},null,{"$f":"H27+H21","v":16011.699999999999},null,16166.699999999999]
["Муниципальная программа «Культура»                  ","01","03","02 0 00 00000",null,{"$f":"F22","v":0},null,{"$f":"H22","v":0},null,{"$f":"J22","v":155}]
["Подпрограмма «Развитие архивного дела»","01","03","02 9 00 00000",null,0,null,0,null,155]
["Основное мероприятие «Хранение, комплектование, учет и использование архивных документов в муниципальных архивах»","01","03","02 9 01 00000",null,0,null,0,null,155]
["Расходы на обеспечение деятельности (оказание услуг) муниципальных архивов","01","03","02 9 01 06160",null,0,null,0,null,155]
["Закупка товаров, работ и услуг для обеспечения государственных (муниципальных) нужд","01","03","02 9 01 06160",200,0,null,0,null,155]
["Иные закупки товаров, работ и услуг для обеспечения государственных (муниципальных) нужд","01","03","02 9 01 06160",240,{"$f":"'ведом. 2022-2024'!AD452","v":0},null,{"$f":"'ведом. 2022-2024'!AE452","v":0},null,{"$f":"'ведом. 2022-2024'!AF452","v":155}]
["Руководство и управление в сфере установленных функций органов местного самоуправления","01","03","95 0 00 00000",null,{"$f":"F28+F31+F34","v":16011.699999999999},null,{"$f":"H28+H31+H34","v":16011.699999999999},null,{"$f":"J28+J31+J34","v":16011.699999999999}]
["Председатель представительного органа местного самоуправления","01","03","95 0 00 00010",null,{"$f":"F29","v":3017.8},null,{"$f":"H29","v":3017.8},null,{"$f":"J29","v":3017.8}]
["Расходы на выплаты персоналу в целях обеспечения выполнения функций государственными (муниципальными) органами, казенными учреждениями, органами управления государственными внебюджетными фондами ","01","03","95 0 00 00010",100,{"$f":"F30","v":3017.8},null,{"$f":"H30","v":3017.8},null,{"$f":"J30","v":3017.8}]
["Расходы на выплаты персоналу государственных (муниципальных) органов","01","03","95 0 00 00010",120,{"$f":"'ведом. 2022-2024'!AD456","v":3017.8},null,{"$f":"'ведом. 2022-2024'!AE456","v":3017.8},null,{"$f":"'ведом. 2022-2024'!AF456","v":3017.8}]
["Депутат представительного органа местного самоуправления на постоянной основе","01","03","95 0 00 00020",null,{"$f":"F33","v":2325.1},null,{"$f":"H33","v":2325.1},null,{"$f":"J33","v":2325.1}]
["Расходы на выплаты персоналу в целях обеспечения выполнения функций государственными (муниципальными) органами, казенными учреждениями, органами управления государственными внебюджетными фондами ","01","03","95 0 00 00020",100,{"$f":"F33","v":2325.1},null,{"$f":"H33","v":2325.1},null,{"$f":"J33","v":2325.1}]
["Расходы на выплаты персоналу государственных (муниципальных) органов","01","03","95 0 00 00020",120,{"$f":"'ведом. 2022-2024'!AD459","v":2325.1},null,{"$f":"'ведом. 2022-2024'!AE459","v":2325.1},null,{"$f":"'ведом. 2022-2024'!AF459","v":2325.1}]
["Расходы на содержание представительного органа муниципального образования","01","03","95 0 00 00030",null,{"$f":"F35+F38+F41","v":10668.8},null,{"$f":"H35+H38+H41","v":10668.8},null,{"$f":"J35+J38+J41","v":10668.8}]
["Расходы на содержание представительного органа муниципального образования( обеспечение деятельности)","01","03","95 0 00 00031",null,{"$f":"F36","v":1697.3},null,{"$f":"H36","v":1697.3},null,1697.3]
["Закупка товаров, работ и услуг для обеспечения государственных (муниципальных) нужд","01","03","95 0 00 00031",200,{"$f":"F37","v":1697.3},null,{"$f":"H37","v":1697.3},null,{"$f":"J37","v":1697.3}]
["Иные закупки товаров, работ и услуг для обеспечения государственных (муниципальных) нужд","01","03","95 0 00 00031",240,{"$f":"'ведом. 2022-2024'!AD463","v":1697.3},null,{"$f":"'ведом. 2022-2024'!AE463","v":1697.3},null,{"$f":"'ведом. 2022-2024'!AF463","v":1697.3}]
["Расходы на содержание представительного органа муниципального образования  (расходы  на  содержание  лиц,  замещающих должности, не являющиеся должностями муниципальной  службы)","01","03","95 0 00 00032",null,{"$f":"F39","v":4263.8999999999996},null,{"$f":"H39","v":4263.8999999999996},null,{"$f":"J39","v":4263.8999999999996}]
["Расходы на выплаты персоналу в целях обеспечения выполнения функций государственными (муниципальными) органами, казенными учреждениями, органами управления государственными внебюджетными фондами ","01","03","95 0 00 00032",100,{"$f":"F40","v":4263.8999999999996},null,{"$f":"H40","v":4263.8999999999996},null,{"$f":"J40","v":4263.8999999999996}]
["Расходы на выплаты персоналу государственных (муниципальных) органов","01","03","95 0 00 00032",120,{"$f":"'ведом. 2022-2024'!AD466","v":4263.8999999999996},null,{"$f":"'ведом. 2022-2024'!AE466","v":4263.8999999999996},null,{"$f":"'ведом. 2022-2024'!AF466","v":4263.8999999999996}]
["Расходы на содержание представительного органа муниципального образования (расходы  на  содержание  лиц,  замещающих должности  муниципальной  службы)","01","03","95 0 00 00033",null,{"$f":"F42","v":4707.6000000000004},null,{"$f":"H42","v":4707.6000000000004},null,{"$f":"J42","v":4707.6000000000004}]
["Расходы на выплаты персоналу в целях обеспечения выполнения функций государственными (муниципальными) органами, казенными учреждениями, органами управления государственными внебюджетными фондами ","01","03","95 0 00 00033",100,{"$f":"F43","v":4707.6000000000004},null,{"$f":"H43","v":4707.6000000000004},null,{"$f":"J43","v":4707.6000000000004}]
["Расходы на выплаты персоналу государственных (муниципальных) органов","01","03","95 0 00 00033",120,{"$f":"'ведом. 2022-2024'!AD469","v":4707.6000000000004},null,{"$f":"'ведом. 2022-2024'!AE469","v":4707.6000000000004},null,{"$f":"'ведом. 2022-2024'!AF469","v":4707.6000000000004}]
["Функционирование Правительства Российской Федерации, высших исполнительных органов государственной власти субъектов Российской Федерации, местных администраций","01","04",null,null,{"$f":"F45+F57+F87+F93+F70","v":93540},4336,92911,4367,93079,4390]
["Муниципальная программа «Культура и туризм»                  ","01","04","02 0 00 00000",null,{"$f":"F46","v":2102},1802,1806,1806,1953,1808]
["Подпрограмма «Развитие архивного дела»","01","04","02 9 00 00000",null,{"$f":"F47+F51","v":2102},1802,1806,1806,1953,1808]
["Основное мероприятие «Хранение, комплектование, учет и использование архивных документов в муниципальных архивах»","01","04","02 9 01 00000",null,{"$f":"F48","v":300},null,{"$f":"H48","v":0},null,{"$f":"J48","v":145}]
["Расходы на обеспечение деятельности (оказание услуг) муниципальных архивов","01","04","02 9 01 06160",null,{"$f":"F49","v":300},null,{"$f":"H49","v":0},null,{"$f":"J49","v":145}]
["Закупка товаров, работ и услуг для обеспечения государственных (муниципальных) нужд","01","04","02 9 01 06160",200,{"$f":"F50","v":300},null,{"$f":"H50","v":0},null,{"$f":"J50","v":145}]
["Иные закупки товаров, работ и услуг для обеспечения государственных (муниципальных) нужд","01","04","02 9 01 06160",240,{"$f":"'ведом. 2022-2024'!AD25","v":300},null,{"$f":"'ведом. 2022-2024'!AE25","v":0},null,{"$f":"'ведом. 2022-2024'!AF25","v":145}]
["Основное мероприятие «Временное хранение, комплектование, учет и использование архивных документов, относящихся к собственности Московской области и временно хранящихся в муниципальных архивах»","01","04","02 9 02 00000",null,{"$f":"F52","v":1802},1802,1806,1806,1808,1808]
["Обеспечение переданных полномочий по временному хранению, комплектованию, учету и использованию архивных документов, относящихся к собственности Московской области и временно хранящихся в муниципальных архивах","01","04","02 9 02 60690",null,{"$f":"F53+F55","v":1802},1802,1806,1806,1808,1808]
["Расходы на выплаты персоналу в целях обеспечения выполнения функций государственными (муниципальными) органами, казенными учреждениями, органами управления государственными внебюджетными фондами ","01","04","02 9 02 60690",100,{"$f":"F54","v":1733},1733,1733,1733,1733,1733]
["Расходы на выплаты персоналу государственных (муниципальных) органов","01","04","02 9 02 60690",120,{"$f":"'ведом. 2022-2024'!AD29","v":1733},{"$f":"F54","v":1733},{"$f":"'ведом. 2022-2024'!AE29","v":1733},{"$f":"H54","v":1733},{"$f":"'ведом. 2022-2024'!AF29","v":1733},{"$f":"J54","v":1733}]
["Закупка товаров, работ и услуг для обеспечения государственных (муниципальных) нужд","01","04","02 9 02 60690",200,{"$f":"F56","v":69},69,73,73,75,75]
["Иные закупки товаров, работ и услуг для обеспечения государственных (муниципальных) нужд","01","04","02 9 02 60690",240,{"$f":"'ведом. 2022-2024'!AD31","v":69},{"$f":"F56","v":69},{"$f":"'ведом. 2022-2024'!AE31","v":73},{"$f":"H56","v":73},{"$f":"'ведом. 2022-2024'!AF31","v":75},{"$f":"J56","v":75}]
["Муниципальная программа «Социальная защита населения»                    ","01","04","04 0 00 00000",null,{"$f":"F58+F65","v":2765},{"$f":"G58+G65","v":2335},2432,2362,2453,2383]
["Обеспечивающая подпрограмма","01","04","04 5 00 00000",null,{"$f":"F59","v":2335},2335,2362,2362,2383,2383]
["Основное мероприятие «Иные мероприятия, реализуемые в целях создания условий для реализации полномочий органов государственной власти Московской области и государственных органов Московской области»","01","04","04 5 03 00000",null,2335,2335,2362,2362,2383,2383]
["Обеспечение переданного государственного полномочия Московской области по созданию комиссий по делам несовершеннолетних и защите их прав муниципальных образований Московской области","01","04","04 5 03 60680",null,{"$f":"F61+F63","v":2335},2335,2362,2362,2383,2383]
["Расходы на выплаты персоналу в целях обеспечения выполнения функций государственными (муниципальными) органами, казенными учреждениями, органами управления государственными внебюджетными фондами ","01","04","04 5 03 60680",100,{"$f":"F62","v":1998},1998,1998,1998,1998,1998]
["Расходы на выплаты персоналу государственных (муниципальных) органов","01","04","04 5 03 60680",120,{"$f":"'ведом. 2022-2024'!AD37","v":1998},{"$f":"F62","v":1998},{"$f":"'ведом. 2022-2024'!AE37","v":1998},{"$f":"H62","v":1998},{"$f":"'ведом. 2022-2024'!AF37","v":1998},{"$f":"J62","v":1998}]
["Закупка товаров, работ и услуг для обеспечения государственных (муниципальных) нужд","01","04","04 5 03 60680",200,{"$f":"F64","v":337},337,364,364,385,385]
["Иные закупки товаров, работ и услуг для обеспечения государственных (муниципальных) нужд","01","04","04 5 03 60680",240,{"$f":"'ведом. 2022-2024'!AD39","v":337},{"$f":"F64","v":337},{"$f":"'ведом. 2022-2024'!AE39","v":364},{"$f":"H64","v":364},{"$f":"'ведом. 2022-2024'!AF39","v":385},{"$f":"J64","v":385}]
["Подпрограмма \"Обеспечение доступности для инвалидов и маломобильных групп населения объектов инфраструктуры и услуг\"","01","04","04 7 00 00000",null,{"$f":"F66","v":430},null,{"$f":"H66","v":70},null,70]
["Основное мероприятие \"Обеспечение доступности для инвалидов и маломобильных групп населения объектов инфраструктуры (за исключением сфер культуры, образования, спорта)\"","01","04","04 7 01 00000",null,{"$f":"F67","v":430},null,70,null,70]
["Обеспечение доступности для инвалидов и маломобильных групп населения объектов инфраструктуры (за исключением сфер культуры, образования, спорта)","01","04","04 7 01 01770",null,{"$f":"F68","v":430},null,70,null,70]
["Закупка товаров, работ и услуг для обеспечения государственных (муниципальных) нужд","01","04","04 7 01 01770",200,{"$f":"F69","v":430},null,70,null,70]
["Иные закупки товаров, работ и услуг для обеспечения государственных (муниципальных) нужд","01","04","04 7 01 01770",240,{"$f":"'ведом. 2022-2024'!AD44","v":430},null,{"$f":"'ведом. 2022-2024'!AE44","v":70},null,{"$f":"'ведом. 2022-2024'!AF44","v":70}]
["Муниципальная программа «Управление имуществом и муниципальными финансами»   ","01","04","12 0 00 00000",null,{"$f":"F71","v":82222},null,{"$f":"H71","v":82222},null,82222]
["Обеспечивающая подпрограмма   ","01","04","12 5 00 00000",null,{"$f":"F72+F83","v":82222},null,{"$f":"H72+H83","v":82222},null,{"$f":"J72+J83","v":82222}]
["Основное мероприятие «Создание условий для реализации полномочий органов местного самоуправления» ","01","04","12 5 01 00000",null,{"$f":"F73","v":82172},null,{"$f":"H73","v":82172},null,{"$f":"J73","v":82172}]
["Обеспечение деятельности администрации","01","04","12 5 01 00120",null,{"$f":"F74+F77+F80","v":82172},null,{"$f":"H74+H77+H80","v":82172},null,{"$f":"J74+J77+J80","v":82172}]
["Обеспечение деятельности администрации (расходы на обеспечение деятельности органов местного самоуправления)","01","04","12 5 01 00121",null,{"$f":"F75","v":8226.7999999999993},null,{"$f":"H75","v":8226.7999999999993},null,8226.7999999999993]
["Закупка товаров, работ и услуг для обеспечения государственных (муниципальных) нужд","01","04","12 5 01 00121",200,{"$f":"F76","v":8226.7999999999993},null,{"$f":"H76","v":8226.7999999999993},null,{"$f":"J76","v":8226.7999999999993}]
["Иные закупки товаров, работ и услуг для обеспечения государственных (муниципальных) нужд","01","04","12 5 01 00121",240,{"$f":"'ведом. 2022-2024'!AD51","v":8226.7999999999993},null,{"$f":"'ведом. 2022-2024'!AE51","v":8226.7999999999993},null,{"$f":"'ведом. 2022-2024'!AF51","v":8226.7999999999993}]
["Обеспечение деятельности администрации (расходы  на  содержание  лиц,  замещающих должности, не являющиеся должностями муниципальной  службы)","01","04","12 5 01 00122",null,{"$f":"F78","v":25933.7},null,{"$f":"H78","v":25933.7},null,{"$f":"J78","v":25933.7}]
["Расходы на выплаты персоналу в целях обеспечения выполнения функций государственными (муниципальными) органами, казенными учреждениями, органами управления государственными внебюджетными фондами ","01","04","12 5 01 00122",100,{"$f":"F79","v":25933.7},null,{"$f":"H79","v":25933.7},null,{"$f":"J79","v":25933.7}]
["Расходы на выплаты персоналу государственных (муниципальных) органов","01","04","12 5 01 00122",120,{"$f":"'ведом. 2022-2024'!AD54","v":25933.7},null,{"$f":"'ведом. 2022-2024'!AE54","v":25933.7},null,{"$f":"'ведом. 2022-2024'!AF54","v":25933.7}]
["Обеспечение деятельности администрации (расходы  на  содержание  лиц,  замещающих должности  муниципальной  службы)","01","04","12 5 01 00123",null,{"$f":"F81","v":48011.5},null,{"$f":"H81","v":48011.5},null,{"$f":"J81","v":48011.5}]
["Расходы на выплаты персоналу в целях обеспечения выполнения функций государственными (муниципальными) органами, казенными учреждениями, органами управления государственными внебюджетными фондами ","01","04","12 5 01 00123",100,{"$f":"F82","v":48011.5},null,{"$f":"H82","v":48011.5},null,{"$f":"J82","v":48011.5}]
["Расходы на выплаты персоналу государственных (муниципальных) органов","01","04","12 5 01 00123",120,{"$f":"'ведом. 2022-2024'!AD57","v":48011.5},null,{"$f":"'ведом. 2022-2024'!AE57","v":48011.5},null,{"$f":"'ведом. 2022-2024'!AF57","v":48011.5}]
["Основное мероприятие \"Мероприятия, реализуемые в целях создания условий для реализации полномочий органов местного самоуправления\"","01","04","12 5 03 00000",null,{"$f":"F84","v":50},null,{"$f":"H84","v":50},null,50]
["Организация профессионального образования и дополнительного профессионального образования выборных должностных лиц местного самоуправления, членов выборных органов местного самоуправления, депутатов представительных органов муниципальных образований, муниципальных служащих и работников муниципальных учреждений, организация подготовки кадров для муниципальной службы","01","04","12 5 03 00830",null,{"$f":"F85","v":50},null,50,null,50]
["Закупка товаров, работ и услуг для обеспечения государственных (муниципальных) нужд","01","04","12 5 03 00830",200,{"$f":"F86","v":50},null,{"$f":"H86","v":50},null,{"$f":"J86","v":50}]
["Иные закупки товаров, работ и услуг для обеспечения государственных (муниципальных) нужд","01","04","12 5 03 00830",240,{"$f":"'ведом. 2022-2024'!AD61","v":50},null,{"$f":"'ведом. 2022-2024'!AE61","v":50},null,{"$f":"'ведом. 2022-2024'!AF61","v":50}]
["Муниципальная программа  «Развитие институтов гражданского общества, повышение эффективности местного самоуправления и реализации молодежной политики»","01","04","13 0 00 00000",null,{"$f":"F88","v":6252},null,{"$f":"H88","v":6252},null,{"$f":"J88","v":6252}]
["Подпрограмма «Развитие системы информирования населения о деятельности органов местного самоуправления Московской области, создание доступной современной медиасреды»","01","04","13 1 00 00000",null,{"$f":"F89","v":6252},null,{"$f":"H89","v":6252},null,{"$f":"J89","v":6252}]
["Основное мероприятие «Информирование населения об основных событиях социально-экономического развития и общественно-политической жизни»","01","04","13 1 01 00000",null,{"$f":"F90","v":6252},null,{"$f":"H90","v":6252},null,{"$f":"J90","v":6252}]
["Информирование населения о деятельности, о положении дел на территории  муниципального образования, опубликование муниципальных правовых актов, обсуждение проектов муниципальных правовых актов по вопросам местного значения, доведение до сведения жителей муниципального образования официальной информации о социально-экономическом и культурном развитии муниципального образования, о развитии его общественной инфраструктуры и иной официальной информации","01","04","13 1 01 00820",null,{"$f":"F91","v":6252},null,{"$f":"H91","v":6252},null,{"$f":"J91","v":6252}]
["Закупка товаров, работ и услуг для обеспечения государственных (муниципальных) нужд","01","04","13 1 01 00820",200,{"$f":"F92","v":6252},null,{"$f":"H92","v":6252},null,{"$f":"J92","v":6252}]
["Иные закупки товаров, работ и услуг для обеспечения государственных (муниципальных) нужд","01","04","13 1 01 00820",240,{"$f":"'ведом. 2022-2024'!AD67","v":6252},null,{"$f":"'ведом. 2022-2024'!AE67","v":6252},null,{"$f":"'ведом. 2022-2024'!AF67","v":6252}]
["Муниципальная программа «Архитектура и градостроительство»","01","04","16 0 00 00000",null,{"$f":"F94","v":199},{"$f":"G94","v":199},199,199,199,199]
["Подпрограмма «Реализация политики пространственного развития городского округа»","01","04","16 2 00 00000",null,{"$f":"F95","v":199},{"$f":"G95","v":199},199,199,199,199]
["Основное мероприятие \"Финансовое обеспечение выполнения отдельных государственных полномочий в сфере архитектуры и градостроительства, переданных органам местного самоуправления муниципальных образований\"","01","04","16 2 04 00000",null,{"$f":"F96","v":199},{"$f":"G96","v":199},199,199,199,199]
["Осуществление отдельных государственных полномочий в части присвоения адресов объектам адресации и согласования перепланировки помещений в многоквартирном доме","01","04","16 2 04 60700",null,{"$f":"F97+F99","v":199},{"$f":"G97+G99","v":199},199,199,199,199]
["Расходы на выплаты персоналу в целях обеспечения выполнения функций государственными (муниципальными) органами, казенными учреждениями, органами управления государственными внебюджетными фондами ","01","04","16 2 04 60700",100,{"$f":"F98","v":158.30000000000001},{"$f":"G98","v":158.30000000000001},158.30000000000001,158.30000000000001,158.30000000000001,158.30000000000001]
["Расходы на выплаты персоналу государственных (муниципальных) органов","01","04","16 2 04 60700",120,{"$f":"'ведом. 2022-2024'!AD73","v":158.30000000000001},{"$f":"F98","v":158.30000000000001},{"$f":"'ведом. 2022-2024'!AF73","v":158.30000000000001},{"$f":"H98","v":158.30000000000001},{"$f":"I98","v":158.30000000000001},158.30000000000001]
["Закупка товаров, работ и услуг для обеспечения государственных (муниципальных) нужд","01","04","16 2 04 60700",200,{"$f":"F100","v":40.700000000000003},{"$f":"G100","v":40.700000000000003},40.700000000000003,40.700000000000003,40.700000000000003,40.700000000000003]
["Иные закупки товаров, работ и услуг для обеспечения государственных (муниципальных) нужд","01","04","16 2 04 60700",240,{"$f":"'ведом. 2022-2024'!AD75","v":40.700000000000003},{"$f":"F100","v":40.700000000000003},{"$f":"'ведом. 2022-2024'!AE75","v":40.700000000000003},{"$f":"H100","v":40.700000000000003},{"$f":"'ведом. 2022-2024'!AF75","v":40.700000000000003},{"$f":"J100","v":40.700000000000003}]
["Обеспечение  деятельности  финансовых, налоговых  и  таможенных  органов  и  органов  финансового  (финансово-бюджетного)  надзора","01","06",null,null,{"$f":"F108+F121+F102","v":35457},null,{"$f":"H108+H121+H102","v":35547},null,35457]
["Муниципальная программа «Культура и туризм»                  ","01","06","02 0 00 00000",null,{"$f":"F103","v":0},null,90,null,{"$f":"J103","v":0}]
["Подпрограмма «Развитие архивного дела»","01","06","02 9 00 00000",null,0,null,90,null,{"$f":"J104","v":0}]
["Основное мероприятие «Хранение, комплектование, учет и использование архивных документов в муниципальных архивах»","01","06","02 9 01 00000",null,0,null,90,null,{"$f":"J105","v":0}]
["Расходы на обеспечение деятельности (оказание услуг) муниципальных архивов","01","06","02 9 01 06160",null,0,null,90,null,{"$f":"J106","v":0}]
["Закупка товаров, работ и услуг для обеспечения государственных (муниципальных) нужд","01","06","02 9 01 06160",200,0,null,90,null,{"$f":"J107","v":0}]
["Иные закупки товаров, работ и услуг для обеспечения государственных (муниципальных) нужд","01","06","02 9 01 06160",240,{"$f":"'ведом. 2022-2024'!AD486","v":0},null,{"$f":"'ведом. 2022-2024'!AE486","v":90},null,{"$f":"'ведом. 2022-2024'!AF486","v":0}]
["Муниципальная программа «Управление имуществом и муниципальными финансами»   ","01","06","12 0 00 00000",null,{"$f":"F109","v":25455.8},null,{"$f":"H109","v":25455.8},null,{"$f":"J109","v":25455.8}]
["Обеспечивающая подпрограмма   ","01","06","12 5 00 00000",null,{"$f":"F110","v":25455.8},null,{"$f":"H110","v":25455.8},null,{"$f":"J110","v":25455.8}]
["Основное мероприятие «Создание условий для реализации полномочий органов местного самоуправления» ","01","06","12 5 01 00000",null,{"$f":"F111","v":25455.8},null,{"$f":"H111","v":25455.8},null,{"$f":"J111","v":25455.8}]
["Обеспечение деятельности финансового органа","01","06","12 5 01 00160",null,{"$f":"F112+F115+F118","v":25455.8},null,{"$f":"H112+H115+H118","v":25455.8},null,{"$f":"J112+J115+J118","v":25455.8}]
["Обеспечение деятельности финансового органа (расходы на обеспечение деятельности органов местного самоуправления)","01","06","12 5 01 00161",null,{"$f":"F113","v":3279.7},null,{"$f":"H113","v":3279.7},null,3279.7]
["Закупка товаров, работ и услуг для обеспечения государственных (муниципальных) нужд","01","06","12 5 01 00161",200,{"$f":"F114","v":3279.7},null,{"$f":"H114","v":3279.7},null,{"$f":"J114","v":3279.7}]
["Иные закупки товаров, работ и услуг для обеспечения государственных (муниципальных) нужд","01","06","12 5 01 00161",240,{"$f":"'ведом. 2022-2024'!AD493","v":3279.7},null,{"$f":"'ведом. 2022-2024'!AE493","v":3279.7},null,{"$f":"'ведом. 2022-2024'!AF493","v":3279.7}]
["Обеспечение деятельности финансового органа (расходы  на  содержание  лиц,  замещающих должности, не являющиеся должностями муниципальной  службы)","01","06",{"$f":"D116","v":"12 5 01 00162"},null,{"$f":"F117","v":13550.9},null,{"$f":"H117","v":13550.9},null,{"$f":"J117","v":13550.9}]
["Расходы на выплаты персоналу в целях обеспечения выполнения функций государственными (муниципальными) органами, казенными учреждениями, органами управления государственными внебюджетными фондами ","01","06",{"$f":"D117","v":"12 5 01 00162"},100,{"$f":"F117","v":13550.9},null,{"$f":"H117","v":13550.9},null,{"$f":"J117","v":13550.9}]
["Расходы на выплаты персоналу государственных (муниципальных) органов","01","06","12 5 01 00162",120,{"$f":"'ведом. 2022-2024'!AD496","v":13550.9},null,{"$f":"'ведом. 2022-2024'!AE496","v":13550.9},null,{"$f":"'ведом. 2022-2024'!AF496","v":13550.9}]
["Обеспечение деятельности финансового органа (расходы  на  содержание  лиц,  замещающих должности  муниципальной  службы)","01","06",{"$f":"D119","v":"12 5 01 00163"},null,{"$f":"F119","v":8625.2000000000007},null,{"$f":"H119","v":8625.2000000000007},null,{"$f":"J119","v":8625.2000000000007}]
["Расходы на выплаты персоналу в целях обеспечения выполнения функций государственными (муниципальными) органами, казенными учреждениями, органами управления государственными внебюджетными фондами ","01","06",{"$f":"D120","v":"12 5 01 00163"},100,{"$f":"F120","v":8625.2000000000007},null,{"$f":"H120","v":8625.2000000000007},null,{"$f":"J120","v":8625.2000000000007}]
["Расходы на выплаты персоналу государственных (муниципальных) органов","01","06","12 5 01 00163",120,{"$f":"'ведом. 2022-2024'!AD499","v":8625.2000000000007},null,{"$f":"'ведом. 2022-2024'!AE499","v":8625.2000000000007},null,{"$f":"'ведом. 2022-2024'!AF499","v":8625.2000000000007}]
["Руководство и управление в сфере установленных функций органов местного самоуправления","01","06","95 0 00 00000",null,{"$f":"F122","v":10001.200000000001},null,{"$f":"H122","v":10001.200000000001},null,10001.200000000001]
["Обеспечение деятельности контрольно-счетной палаты ","01","06","95 0 00 00150",null,{"$f":"F123+F126+F129+F132","v":10001.200000000001},null,{"$f":"H123+H126+H129+H132","v":10001.200000000001},null,{"$f":"J123+J126+J129+J132","v":10001.200000000001}]
["Обеспечение деятельности контрольно-счетной палаты (обеспечение деятельности)","01","06","95 0 00 00151",null,{"$f":"F124","v":1041},null,{"$f":"H124","v":1041},null,1041]
["Закупка товаров, работ и услуг для обеспечения государственных (муниципальных) нужд","01","06","95 0 00 00151",200,{"$f":"F125","v":1041},null,{"$f":"H125","v":1041},null,{"$f":"J125","v":1041}]
["Иные закупки товаров, работ и услуг для обеспечения государственных (муниципальных) нужд","01","06","95 0 00 00151",240,{"$f":"'ведом. 2022-2024'!AD899","v":1041},null,{"$f":"'ведом. 2022-2024'!AE899","v":1041},null,{"$f":"'ведом. 2022-2024'!AF899","v":1041}]
["Обеспечение деятельности контрольно-счетной палаты(расходы  на  содержание  лиц,  замещающих должности, не являющиеся должностями муниципальной  службы)","01","06","95 0 00 00152",null,{"$f":"F127","v":2131.9},null,{"$f":"H127","v":2131.9},null,{"$f":"J127","v":2131.9}]
["Расходы на выплаты персоналу в целях обеспечения выполнения функций государственными (муниципальными) органами, казенными учреждениями, органами управления государственными внебюджетными фондами ","01","06","95 0 00 00152",100,{"$f":"F128","v":2131.9},null,{"$f":"H128","v":2131.9},null,{"$f":"J128","v":2131.9}]
["Расходы на выплаты персоналу государственных (муниципальных) органов","01","06","95 0 00 00152",120,{"$f":"'ведом. 2022-2024'!AD902","v":2131.9},null,{"$f":"'ведом. 2022-2024'!AE902","v":2131.9},null,{"$f":"'ведом. 2022-2024'!AF902","v":2131.9}]
["Обеспечение деятельности контрольно-счетной палаты (расходы  на  содержание  лиц,  замещающих должности  муниципальной  службы)","01","06","95 0 00 00153",null,{"$f":"F130","v":2647.4},null,{"$f":"H130","v":2647.4},null,{"$f":"J130","v":2647.4}]
["Расходы на выплаты персоналу в целях обеспечения выполнения функций государственными (муниципальными) органами, казенными учреждениями, органами управления государственными внебюджетными фондами ","01","06","95 0 00 00153",100,{"$f":"F131","v":2647.4},null,{"$f":"H131","v":2647.4},null,{"$f":"J131","v":2647.4}]
["Расходы на выплаты персоналу государственных (муниципальных) органов","01","06","95 0 00 00153",120,{"$f":"'ведом. 2022-2024'!AD905","v":2647.4},null,{"$f":"'ведом. 2022-2024'!AE905","v":2647.4},null,{"$f":"'ведом. 2022-2024'!AF905","v":2647.4}]
["Обеспечение деятельности контрольно-счетной палаты (расходы  на  содержание  лиц, замещающих муниципальные должности )","01","06","95 0 00 00154",null,{"$f":"F133","v":4180.8999999999996},null,{"$f":"H133","v":4180.8999999999996},null,4180.8999999999996]
["Расходы на выплаты персоналу в целях обеспечения выполнения функций государственными (муниципальными) органами, казенными учреждениями, органами управления государственными внебюджетными фондами ","01","06","95 0 00 00154",100,{"$f":"F134","v":4180.8999999999996},null,{"$f":"H134","v":4180.8999999999996},null,4180.8999999999996]
["Расходы на выплаты персоналу государственных (муниципальных) органов","01","06","95 0 00 00154",120,{"$f":"'ведом. 2022-2024'!AD908","v":4180.8999999999996},null,{"$f":"'ведом. 2022-2024'!AE908","v":4180.8999999999996},null,{"$f":"'ведом. 2022-2024'!AF908","v":4180.8999999999996}]
["Резервные фонды","01",11,null,null,{"$f":"F136","v":3530.5},null,{"$f":"H136","v":4571.6000000000004},null,{"$f":"J136","v":3697.9}]
["Непрограммные расходы ","01",11,"99 0 00 00000",null,{"$f":"F137+F140","v":3530.5},null,{"$f":"H137+H140","v":4571.6000000000004},null,{"$f":"J137+J140","v":3697.9}]
["Резервный фонд администрации ","01",11,"99 0 00 00060",null,{"$f":"F138","v":2530.5},null,{"$f":"H138","v":3571.6},null,{"$f":"J138","v":2697.9}]
["Иные бюджетные ассигнования","01",11,"99 0 00 00060",800,{"$f":"F139","v":2530.5},null,{"$f":"H139","v":3571.6},null,{"$f":"J139","v":2697.9}]
["Резервные  средства","01",11,"99 0 00 00060",870,{"$f":"'ведом. 2022-2024'!AD80","v":2530.5},null,{"$f":"'ведом. 2022-2024'!AE80","v":3571.6},null,{"$f":"'ведом. 2022-2024'!AF80","v":2697.9}]
["Резервный фонд на предупреждение и ликвидацию чрезвычайных ситуаций и последствий стихийных бедствий","01",11,"99 0 00 00070",null,{"$f":"F141","v":1000},null,{"$f":"H141","v":1000},null,{"$f":"J141","v":1000}]
["Иные бюджетные ассигнования","01",11,"99 0 00 00070",800,{"$f":"F142","v":1000},null,{"$f":"H142","v":1000},null,{"$f":"J142","v":1000}]
["Резервные  средства","01",11,"99 0 00 00070",870,{"$f":"'ведом. 2022-2024'!AD83","v":1000},null,{"$f":"'ведом. 2022-2024'!AE83","v":1000},null,{"$f":"'ведом. 2022-2024'!AF83","v":1000}]
["Другие общегосударственные вопросы","01",13,null,null,{"$f":"F150+F201+F207+F218+F144","v":186565.1},1698.1,168513.1,1698.1,148302.9,1697.9]
["Муниципальная программа «Культура и туризм»                  ","01",13,"02 0 00 00000",null,{"$f":"F145","v":0},null,{"$f":"H145","v":210},null,{"$f":"J145","v":0}]
["Подпрограмма «Развитие архивного дела»","01",13,"02 9 00 00000",null,{"$f":"F146","v":0},null,{"$f":"H146","v":210},null,{"$f":"J146","v":0}]
["Основное мероприятие «Хранение, комплектование, учет и использование архивных документов в муниципальных архивах»","01",13,"02 9 01 00000",null,{"$f":"F147","v":0},null,{"$f":"H147","v":210},null,{"$f":"J147","v":0}]
["Расходы на обеспечение деятельности (оказание услуг) муниципальных архивов","01",13,"02 9 01 06160",null,{"$f":"F148","v":0},null,{"$f":"H148","v":210},null,{"$f":"J148","v":0}]
["Закупка товаров, работ и услуг для обеспечения государственных (муниципальных) нужд","01",13,"02 9 01 06160",200,{"$f":"F149","v":0},null,{"$f":"H149","v":210},null,{"$f":"J149","v":0}]
["Иные закупки товаров, работ и услуг для обеспечения государственных (муниципальных) нужд","01",13,"02 9 01 06160",240,0,null,{"$f":"'ведом. 2022-2024'!AE516","v":210},null,{"$f":"'ведом. 2022-2024'!AF516","v":0}]
["Муниципальная программа «Управление имуществом и муниципальными финансами»   ","01",13,"12 0 00 00000",null,{"$f":"F151+F177","v":134101.9},1031,115839.90000000001,1031,105839.90000000001,1031]
["Подпрограмма «Эффективное управление имущественным комплексом»","01",13,"12 1 00 00000",null,{"$f":"F152+F160+F166","v":36602.800000000003},1031,36602.800000000003,1031,36602.800000000003,1031]
["Основное мероприятие «Управление имуществом, находящимся в муниципальной собственности, и выполнение кадастровых работ»","01",13,"12 1 02 00000",null,{"$f":"F153","v":12554},null,{"$f":"H153","v":12554},null,{"$f":"J153","v":12554}]
["Владение, пользование и распоряжение имуществом, находящимся в муниципальной собственности городского округа","01",13,"12 1 02 00170",null,{"$f":"F154+F158+F156","v":12554},null,{"$f":"H154+H158+H156","v":12554},null,{"$f":"J154+J158+J156","v":12554}]
["Закупка товаров, работ и услуг для обеспечения государственных (муниципальных) нужд","01",13,"12 1 02 00170",200,{"$f":"F155","v":1560},null,{"$f":"H155","v":1560},null,{"$f":"J155","v":1560}]
["Иные закупки товаров, работ и услуг для обеспечения государственных (муниципальных) нужд","01",13,"12 1 02 00170",240,{"$f":"'ведом. 2022-2024'!AD90+'ведом. 2022-2024'!AD522","v":1560},null,{"$f":"'ведом. 2022-2024'!AE90+'ведом. 2022-2024'!AE522","v":1560},null,{"$f":"'ведом. 2022-2024'!AF90+'ведом. 2022-2024'!AF522","v":1560}]
["Социальное обеспечение и иные выплаты населению","01",13,"12 1 02 00170",300,{"$f":"F157","v":1994},null,{"$f":"H157","v":1994},null,{"$f":"J157","v":1994}]
["Иные выплаты населению","01",13,"12 1 02 00170",360,{"$f":"'ведом. 2022-2024'!AD92","v":1994},null,{"$f":"'ведом. 2022-2024'!AE92","v":1994},null,{"$f":"'ведом. 2022-2024'!AF92","v":1994}]
["Предоставление субсидий бюджетным, автономным учреждениям и иным некоммерческим организациям","01",13,"12 1 02 00170",600,{"$f":"F159","v":9000},null,{"$f":"H159","v":9000},null,{"$f":"J159","v":9000}]
["Субсидии бюджетным учреждениям","01",13,"12 1 02 00170",610,{"$f":"'ведом. 2022-2024'!AD94","v":9000},null,{"$f":"'ведом. 2022-2024'!AE94","v":9000},null,{"$f":"'ведом. 2022-2024'!AF94","v":9000}]
["Основное мероприятие «Создание условий для реализации государственных полномочий в области земельных отношений»","01",13,"12 1 03 00000",null,{"$f":"F161","v":1031},1031,1031,1031,1031,1031]
["Осуществление государственных полномочий Московской области в области земельных отношений","01",13,"12 1 03 60830",null,{"$f":"F162+F164","v":1031},1031,1031,1031,1031,1031]
["Расходы на выплаты персоналу в целях обеспечения выполнения функций государственными (муниципальными) органами, казенными учреждениями, органами управления государственными внебюджетными фондами ","01",13,"12 1 03 60830",100,{"$f":"F163","v":928},928,928,928,928,928]
["Расходы на выплаты персоналу государственных (муниципальных) органов","01",13,"12 1 03 60830",120,{"$f":"'ведом. 2022-2024'!AD526","v":928},{"$f":"F163","v":928},{"$f":"'ведом. 2022-2024'!AE526","v":928},{"$f":"H163","v":928},{"$f":"'ведом. 2022-2024'!AF526","v":928},{"$f":"J163","v":928}]
["Закупка товаров, работ и услуг для обеспечения государственных (муниципальных) нужд","01",13,"12 1 03 60830",200,{"$f":"F165","v":103},103,103,103,103,103]
["Иные закупки товаров, работ и услуг для обеспечения государственных (муниципальных) нужд","01",13,"12 1 03 60830",240,{"$f":"'ведом. 2022-2024'!AD528","v":103},{"$f":"F165","v":103},{"$f":"'ведом. 2022-2024'!AE528","v":103},{"$f":"H165","v":103},{"$f":"'ведом. 2022-2024'!AF528","v":103},{"$f":"J165","v":103}]
["Основное мероприятие \"Создание условий для реализации полномочий органов местного самоуправления\"","01",13,"12 1 04 00000",null,{"$f":"F167","v":23017.8},null,{"$f":"H167","v":23017.8},null,{"$f":"J167","v":23017.8}]
["Обеспечение деятельности органов местного самоуправления ","01",13,"12 1 04 00130",null,{"$f":"F168+F171+F174","v":23017.8},null,{"$f":"H168+H171+H174","v":23017.8},null,{"$f":"J168+J171+J174","v":23017.8}]
["Обеспечение деятельности органов местного самоуправления (расходы на обеспечение деятельности органов местного самоуправления)","01",13,"12 1 04 00131",null,{"$f":"F169","v":1576.1},null,{"$f":"H169","v":1576.1},null,1576.1]
["Закупка товаров, работ и услуг для обеспечения государственных (муниципальных) нужд","01",13,"12 1 04 00131",200,{"$f":"F170","v":1576.1},null,{"$f":"H170","v":1576.1},null,{"$f":"J170","v":1576.1}]
["Иные закупки товаров, работ и услуг для обеспечения государственных (муниципальных) нужд","01",13,"12 1 04 00131",240,{"$f":"'ведом. 2022-2024'!AD533","v":1576.1},null,{"$f":"'ведом. 2022-2024'!AE533","v":1576.1},null,{"$f":"'ведом. 2022-2024'!AF533","v":1576.1}]
["Обеспечение деятельности органов местного самоуправления (расходы  на  содержание  лиц,  замещающих должности, не являющиеся должностями муниципальной  службы)","01",13,{"$f":"D172","v":"12 1 04 00132"},null,{"$f":"F172","v":7242.7},null,{"$f":"H172","v":7242.7},null,7242.7]
["Расходы на выплаты персоналу в целях обеспечения выполнения функций государственными (муниципальными) органами, казенными учреждениями, органами управления государственными внебюджетными фондами ","01",13,{"$f":"D173","v":"12 1 04 00132"},100,{"$f":"F173","v":7242.7},null,{"$f":"H173","v":7242.7},null,{"$f":"J173","v":7242.7}]
["Расходы на выплаты персоналу государственных (муниципальных) органов","01",13,"12 1 04 00132",120,{"$f":"'ведом. 2022-2024'!AD536","v":7242.7},null,{"$f":"'ведом. 2022-2024'!AE536","v":7242.7},null,{"$f":"'ведом. 2022-2024'!AF536","v":7242.7}]
["Обеспечение деятельности органов местного самоуправления (расходы  на  содержание  лиц,  замещающих должности  муниципальной  службы)","01",13,{"$f":"D175","v":"12 1 04 00133"},null,{"$f":"F175","v":14199},null,{"$f":"H175","v":14199},null,{"$f":"J175","v":14199}]
["Расходы на выплаты персоналу в целях обеспечения выполнения функций государственными (муниципальными) органами, казенными учреждениями, органами управления государственными внебюджетными фондами ","01",13,{"$f":"D176","v":"12 1 04 00133"},100,{"$f":"F176","v":14199},null,{"$f":"H176","v":14199},null,{"$f":"J176","v":14199}]
["Расходы на выплаты персоналу государственных (муниципальных) органов","01",13,"12 1 04 00133",120,{"$f":"'ведом. 2022-2024'!AD539","v":14199},null,{"$f":"'ведом. 2022-2024'!AE539","v":14199},null,{"$f":"'ведом. 2022-2024'!AF539","v":14199}]
["Обеспечивающая подпрограмма   ","01",13,"12 5 00 00000",null,{"$f":"F178","v":97499.099999999991},null,{"$f":"H178","v":79237.100000000006},null,{"$f":"J178","v":69237.100000000006}]
["Основное мероприятие «Создание условий для реализации полномочий органов местного самоуправления» ","01",13,"12 5 01 00000",null,{"$f":"F179+F187+F190+F182","v":97499.099999999991},null,{"$f":"H179+H187+H190+H182","v":79237.100000000006},null,69237.100000000006]
["Взносы в общественные организации","01",13,"12 5 01 00870",null,{"$f":"F180","v":144},null,{"$f":"H180","v":144},null,{"$f":"J180","v":144}]
["Иные бюджетные ассигнования","01",13,"12 5 01 00870",800,{"$f":"F181","v":144},null,{"$f":"H181","v":144},null,{"$f":"J181","v":144}]
["Уплата налогов, сборов и иных платежей","01",13,"12 5 01 00870",850,{"$f":"'ведом. 2022-2024'!AD99","v":144},null,{"$f":"'ведом. 2022-2024'!AE99","v":144},null,{"$f":"'ведом. 2022-2024'!AF99","v":144}]
["Обеспечение деятельности муниципальных казенных учреждений в сфере закупок товаров, работ, услуг","01",13,"12 5 01 01680",null,{"$f":"F183+F185","v":12197.800000000001},null,{"$f":"H183+H185","v":10600},null,10600]
["Расходы на выплаты персоналу в целях обеспечения выполнения функций государственными (муниципальными) органами, казенными учреждениями, органами управления государственными внебюджетными фондами ","01",13,"12 5 01 01680","100",{"$f":"F184","v":11391.2},null,{"$f":"H184","v":9793.4},null,9793.4]
["Расходы на выплаты персоналу казенных учреждений","01",13,"12 5 01 01680","110",{"$f":"'ведом. 2022-2024'!AD102","v":11391.2},null,{"$f":"'ведом. 2022-2024'!AE102","v":9793.4},null,{"$f":"'ведом. 2022-2024'!AF102","v":9793.4}]
["Закупка товаров, работ и услуг для обеспечения государственных (муниципальных) нужд","01",13,"12 5 01 01680","200",{"$f":"F186","v":806.6},null,{"$f":"H186","v":806.6},null,806.6]
["Иные закупки товаров, работ и услуг для обеспечения государственных (муниципальных) нужд","01",13,"12 5 01 01680","240",{"$f":"'ведом. 2022-2024'!AD104","v":806.6},null,{"$f":"'ведом. 2022-2024'!AF104","v":806.6},null,{"$f":"'ведом. 2022-2024'!AF104","v":806.6}]
["Расходы на обеспечение деятельности (оказание услуг) муниципальных учреждений - централизованная бухгалтерия муниципального образования","01",13,"12 5 01 06070",null,{"$f":"F188","v":23220.5},null,{"$f":"H188","v":23220.5},null,{"$f":"J188","v":23220.5}]
["Предоставление субсидий бюджетным, автономным учреждениям и иным некоммерческим организациям","01",13,"12 5 01 06070",600,{"$f":"F189","v":23220.5},null,{"$f":"H189","v":23220.5},null,{"$f":"J189","v":23220.5}]
["Субсидии бюджетным учреждениям","01",13,"12 5 01 06070",610,{"$f":"'ведом. 2022-2024'!AD563","v":23220.5},null,{"$f":"'ведом. 2022-2024'!AE563","v":23220.5},null,{"$f":"'ведом. 2022-2024'!AF563","v":23220.5}]
["Расходы на обеспечение деятельности (оказание услуг) муниципальных учреждений - обеспечение деятельности органов местного самоуправления","01",13,"12 5 01 06090",null,{"$f":"F191+F196","v":61936.799999999996},null,{"$f":"H191+H196","v":45272.6},null,35272.6]
["Расходы на обеспечение деятельности (оказание услуг) муниципальных учреждений - обеспечение деятельности органов местного самоуправления( \"Управление обеспечения деятельности Администрации города Лыткарино\")","01",13,"12 5 01 06092",null,{"$f":"F192+F194","v":55272.6},null,{"$f":"H192+H194","v":45272.6},null,35272.6]
["Расходы на выплаты персоналу в целях обеспечения выполнения функций государственными (муниципальными) органами, казенными учреждениями, органами управления государственными внебюджетными фондами ","01",13,"12 5 01 06092","100",{"$f":"F193","v":54604.1},null,{"$f":"H193","v":44604.1},null,{"$f":"'ведом. 2022-2024'!AF107","v":34604.1}]
["Расходы на выплаты персоналу казенных учреждений","01",13,"12 5 01 06092","110",{"$f":"'ведом. 2022-2024'!AD108","v":54604.1},null,{"$f":"'ведом. 2022-2024'!AE108","v":44604.1},null,{"$f":"'ведом. 2022-2024'!AF108","v":34604.1}]
["Закупка товаров, работ и услуг для обеспечения государственных (муниципальных) нужд","01",13,"12 5 01 06092","200",{"$f":"F195","v":668.5},null,{"$f":"H195","v":668.5},null,{"$f":"'ведом. 2022-2024'!AF109","v":668.5}]
["Иные закупки товаров, работ и услуг для обеспечения государственных (муниципальных) нужд","01",13,"12 5 01 06092","240",{"$f":"'ведом. 2022-2024'!AD110","v":668.5},null,{"$f":"'ведом. 2022-2024'!AE110","v":668.5},null,{"$f":"'ведом. 2022-2024'!AF110","v":668.5}]
["Расходы на обеспечение деятельности (оказание услуг) муниципальных учреждений - обеспечение деятельности органов местного самоуправления (\"Комитет  по  делам  культуры, молодежи,спорта  и  туризма  г.Лыткарино\")","01",13,"12 5 01 06093",null,{"$f":"F197+F199","v":6664.2},null,{"$f":"H197+H199","v":0},null,0]
["Расходы на выплаты персоналу в целях обеспечения выполнения функций государственными (муниципальными) органами, казенными учреждениями, органами управления государственными внебюджетными фондами ","01",13,"12 5 01 06093","100",{"$f":"F198","v":6057.3},null,{"$f":"H198","v":0},null,{"$f":"J198","v":0}]
["Расходы на выплаты персоналу казенных учреждений","01",13,"12 5 01 06093","110",{"$f":"'ведом. 2022-2024'!AD113","v":6057.3},null,{"$f":"'ведом. 2022-2024'!AE113","v":0},null,{"$f":"'ведом. 2022-2024'!AF113","v":0}]
["Закупка товаров, работ и услуг для обеспечения государственных (муниципальных) нужд","01",13,"12 5 01 06093","200",{"$f":"F200","v":606.9},null,{"$f":"H200","v":0},null,{"$f":"J200","v":0}]
["Иные закупки товаров, работ и услуг для обеспечения государственных (муниципальных) нужд","01",13,"12 5 01 06093","240",{"$f":"'ведом. 2022-2024'!AD115","v":606.9},null,{"$f":"'ведом. 2022-2024'!AE115","v":0},null,{"$f":"'ведом. 2022-2024'!AF115","v":0}]
["Муниципальная программа  «Развитие институтов гражданского общества, повышение эффективности местного самоуправления и реализации молодежной политики»","01",13,"13 0 00 00000",null,{"$f":"F202","v":2.1},2.1,2.1,2.1,1.9,1.9]
["Обеспечивающая подпрограмма","01",13,"13 6 00 00000",null,{"$f":"F203","v":2.1},{"$f":"G203","v":2.1},2.1,2.1,1.9,1.9]
["Основное мероприятие «Корректировка списков кандидатов в присяжные заседатели федеральных судов общей юрисдикции в Российской Федерации»","01",13,"13 6 04 00000",null,{"$f":"F204","v":2.1},2.1,2.1,2.1,{"$f":"'ведом. 2022-2024'!AF118","v":1.9},1.9]
["Осуществление полномочий по составлению (изменению) списков кандидатов в присяжные заседатели федеральных судов общей юрисдикции в Российской Федерации","01",13,"13 6 04 51200",null,2.1,2.1,2.1,2.1,{"$f":"'ведом. 2022-2024'!AF119","v":1.9},1.9]
["Закупка товаров, работ и услуг для обеспечения государственных (муниципальных) нужд","01",13,"13 6 04 51200",200,2.1,2.1,2.1,2.1,{"$f":"'ведом. 2022-2024'!AF120","v":1.9},1.9]
["Иные закупки товаров, работ и услуг для обеспечения государственных (муниципальных) нужд","01",13,"13 6 04 51200",240,{"$f":"'ведом. 2022-2024'!AD121","v":2.1},{"$f":"F206","v":2.1},{"$f":"'ведом. 2022-2024'!AE121","v":2.1},{"$f":"H206","v":2.1},{"$f":"'ведом. 2022-2024'!AF121","v":1.9},{"$f":"J206","v":1.9}]
["Муниципальная программа «Цифровое муниципальное образование»                                   ","01",13,"15 0 00 00000",null,{"$f":"F208+F213","v":42361.1},{"$f":"G208+G213","v":665},42361.1,665,42361.1,665]
["Подпрограмма «Повышение качества и доступности предоставления государственных и муниципальных услуг на базе многофункциональных центров предоставления государственных и муниципальных услуг»","01",13,"15 1 00 00000",null,{"$f":"F209","v":799},{"$f":"G209","v":665},799,665,799,665]
["Основное мероприятие \"Совершенствование системы предоставления государственных и муниципальных услуг по принципу одного окна в многофункциональных центрах предоставления государственных и муниципальных услуг\"","01",13,"15 1 03 00000",null,{"$f":"F210","v":799},665,799,665,799,665]
["Техническая поддержка программно-технических комплексов для оформления паспортов гражданина Российской Федерации, удостоверяющих личность гражданина Российской Федерации за пределами территории Российской Федерации в многофункциональных центрах предоставления государственных и муниципальных услуг","01",13,"15 1 03 S0860",null,799,665,799,665,799,665]
["Предоставление субсидий бюджетным, автономным учреждениям и иным некоммерческим организациям","01",13,"15 1 03 S0860",600,799,665,799,665,799,665]
["Субсидии бюджетным учреждениям","01",13,"15 1 03 S0860",610,{"$f":"'ведом. 2022-2024'!AD127","v":799},665,{"$f":"'ведом. 2022-2024'!AE127","v":799},665,{"$f":"'ведом. 2022-2024'!AF127","v":799},665]
["Обеспечивающая подпрограмма","01",13,"15 3 00 00000",null,{"$f":"F214","v":41562.1},null,{"$f":"H214","v":41562.1},null,41562.1]
["Основное мероприятие \"Создание условий для реализации полномочий органов местного самоуправления\"","01",13,"15 3 01 00000",null,{"$f":"F215","v":41562.1},null,{"$f":"H215","v":41562.1},null,41562.1]
["Расходы на обеспечение деятельности (оказание услуг) муниципальных учреждений - многофункциональный центр  предоставления государственных и муниципальных услуг ","01",13,"15 3 01 06190",null,{"$f":"F216","v":41562.1},null,{"$f":"H216","v":41562.1},null,41562.1]
["Предоставление субсидий бюджетным, автономным учреждениям и иным некоммерческим организациям","01",13,"15 3 01 06190",600,{"$f":"F217","v":41562.1},null,{"$f":"H217","v":41562.1},null,41562.1]
["Субсидии бюджетным учреждениям","01",13,"15 3 01 06190",610,{"$f":"'ведом. 2022-2024'!AD132","v":41562.1},null,{"$f":"'ведом. 2022-2024'!AE132","v":41562.1},null,{"$f":"'ведом. 2022-2024'!AF132","v":41562.1}]
["Непрограммные расходы                    ","01",13,"99 0 00 00000",null,{"$f":"F219+F222","v":10100},null,{"$f":"H219+H222","v":10100},null,{"$f":"J219+J222","v":100}]
["Оплата исполнительных листов, судебных издержек ","01",13,"99 0 00 00080",null,{"$f":"F220","v":100},null,{"$f":"H220","v":100},null,{"$f":"J220","v":100}]
["Иные бюджетные ассигнования","01",13,"99 0 00 00080",800,{"$f":"F221","v":100},null,{"$f":"H221","v":100},null,{"$f":"J221","v":100}]
["Исполнение судебных актов","01",13,"99 0 00 00080",830,{"$f":"'ведом. 2022-2024'!AD136","v":100},null,{"$f":"'ведом. 2022-2024'!AE136","v":100},null,{"$f":"'ведом. 2022-2024'!AF136","v":100}]
["Иные расходы","01",13,"99 0 00 04000",null,{"$f":"F223","v":10000},null,{"$f":"H223","v":10000},null,0]
["Иные расходы (обеспечение участия городского округа Лыткарино в государственных программах Московской области)","01",13,"99 0 00 04006",null,{"$f":"F224","v":10000},null,{"$f":"H224","v":10000},null,0]
["Иные бюджетные ассигнования","01",13,"99 0 00 04006",800,{"$f":"F225","v":10000},null,{"$f":"H225","v":10000},null,0]
["Резервные  средства","01",13,"99 0 00 04006",870,{"$f":"'ведом. 2022-2024'!AD140","v":10000},null,{"$f":"'ведом. 2022-2024'!AE140","v":10000},null,{"$f":"'ведом. 2022-2024'!AF140","v":0}]
["Национальная оборона","02",null,null,null,{"$f":"F227+F236","v":4267.3},4067.3,4313.2,4249.2,4462.8,4398.8]
["Мобилизационная  и  вневойсковая  подготовка","02","03",null,null,{"$f":"F228","v":4067.3},4067.3,4249.2,4249.2,4398.8,4398.8]
["Муниципальная программа  «Развитие институтов гражданского общества, повышение эффективности местного самоуправления и реализации молодежной политики»","02","03","13 0 00 00000",null,4067.3,4067.3,4249.2,4249.2,4398.8,4398.8]
["Обеспечивающая подпрограмма","02","03","13 6 00 00000",null,{"$f":"F230","v":4067.3},4067.3,4249.2,4249.2,4398.8,4398.8]
["Основное мероприятие «Осуществление первичного воинского учета»","02","03","13 6 03 00000",null,4067.3,4067.3,4249.2,4249.2,4398.8,4398.8]
["Осуществление первичного воинского учета органами местного самоуправления поселений, муниципальных и городских округов","02","03","13 6 03 51180",null,{"$f":"F232+F234","v":4067.3},{"$f":"G232+G234","v":4067.3},4249.2,4249.2,4398.8,4398.8]
["Расходы на выплаты персоналу в целях обеспечения выполнения функций государственными (муниципальными) органами, казенными учреждениями, органами управления государственными внебюджетными фондами ","02","03","13 6 03 51180",100,4067.3,4067.3,4067.3,4067.3,4067.3,4067.3]
["Расходы на выплаты персоналу государственных (муниципальных) органов","02","03","13 6 03 51180",120,{"$f":"'ведом. 2022-2024'!AD148","v":4067.3},{"$f":"F233","v":4067.3},{"$f":"'ведом. 2022-2024'!AE148","v":4067.3},{"$f":"H233","v":4067.3},{"$f":"'ведом. 2022-2024'!AF148","v":4067.3},{"$f":"J233","v":4067.3}]
["Закупка товаров, работ и услуг для обеспечения государственных (муниципальных) нужд","02","03","13 6 03 51180",200,{"$f":"F235","v":0},null,{"$f":"H235","v":181.9},{"$f":"I235","v":181.9},{"$f":"J235","v":331.5},{"$f":"K235","v":331.5}]
["Иные закупки товаров, работ и услуг для обеспечения государственных (муниципальных) нужд","02","03","13 6 03 51180",240,{"$f":"'ведом. 2022-2024'!AD150","v":0},null,{"$f":"'ведом. 2022-2024'!AE150","v":181.9},{"$f":"H235","v":181.9},{"$f":"'ведом. 2022-2024'!AF150","v":331.5},{"$f":"J235","v":331.5}]
["Мобилизационная  подготовка  экономики","02","04",null,null,{"$f":"F237","v":200},null,64,null,64]
["Муниципальная программа «Управление имуществом и муниципальными финансами»   ","02","04","12 0 00 00000",null,200,null,64,null,64]
["Обеспечивающая подпрограмма   ","02","04","12 5 00 00000",null,200,null,64,null,64]
["Основное мероприятие «Создание условий для реализации полномочий органов местного самоуправления» ","02","04","12 5 01 00000",null,200,null,64,null,64]
["Организация и осуществление мероприятий по мобилизационной подготовке ","02","04","12 5 01 00720",null,200,null,64,null,64]
["Закупка товаров, работ и услуг для обеспечения государственных (муниципальных) нужд","02","04","12 5 01 00720",200,200,null,64,null,64]
["Иные закупки товаров, работ и услуг для обеспечения государственных (муниципальных) нужд","02","04","12 5 01 00720",240,{"$f":"'ведом. 2022-2024'!AD157","v":200},null,{"$f":"'ведом. 2022-2024'!AE157","v":64},null,{"$f":"'ведом. 2022-2024'!AF157","v":64}]
["Национальная безопасность и правоохранительная деятельность","03",null,null,null,{"$f":"F244+F255+F292","v":41771.5},null,{"$f":"H244+H255+H292","v":30686.799999999999},null,{"$f":"J244+J255+J292","v":31174.799999999999}]
["Гражданская  оборона","03","09",null,null,{"$f":"F245","v":1300},null,{"$f":"H245","v":1300},null,{"$f":"J245","v":1300}]
["Муниципальная программа «Безопасность и обеспечение безопасности жизнедеятельности населения»                    ","03","09","08 0 00 00000",null,{"$f":"F246","v":1300},null,{"$f":"H246","v":1300},null,1300]
["Подпрограмма \"Обеспечение мероприятий гражданской обороны на территории муниципального образования Московской области\"","03","09","08 3 00 00000",null,{"$f":"F247+F251","v":1300},null,{"$f":"H247+H251","v":1300},null,1300]
["Основное мероприятие «Создание, развитие и поддержание в постоянной готовности систем оповещения населения об опасностях, возникающих при военных конфликтах или вследствие этих конфликтов, а также при чрезвычайных ситуациях природного и техногенного характера (происшествияй) на территории муниципального образования  Московской области»","03","09","08 3 01 00000",null,{"$f":"F248","v":850},null,850,null,850]
["Поддержка в состоянии постоянной готовности к использованию систем оповещения населения об опасности, объектов гражданской обороны","03","09","08 3 01 00690",null,{"$f":"F249","v":850},null,850,null,850]
["Закупка товаров, работ и услуг для обеспечения государственных (муниципальных) нужд","03","09","08 3 01 00690",200,{"$f":"F250","v":850},null,{"$f":"H250","v":850},null,{"$f":"J250","v":850}]
["Иные закупки товаров, работ и услуг для обеспечения государственных (муниципальных) нужд","03","09","08 3 01 00690",240,{"$f":"'ведом. 2022-2024'!AD165","v":850},null,{"$f":"'ведом. 2022-2024'!AE165","v":850},null,{"$f":"'ведом. 2022-2024'!AF165","v":850}]
["Основное мероприятие «Развитие и совершенствование материально-технической базы учреждений в сфере гражданской обороны и защиты населения и территорий от чрезвычайных ситуаций»","03","09","08 3 03 00000",null,{"$f":"F252","v":450},null,{"$f":"H252","v":450},null,{"$f":"J252","v":450}]
["Организация и осуществление мероприятий по территориальной обороне и гражданской обороне","03","09","08 3 03 00670",null,{"$f":"F253","v":450},null,{"$f":"H253","v":450},null,{"$f":"J253","v":450}]
["Закупка товаров, работ и услуг для обеспечения государственных (муниципальных) нужд","03","09","08 3 03 00670","200",{"$f":"F254","v":450},null,{"$f":"H254","v":450},null,{"$f":"J254","v":450}]
["Иные закупки товаров, работ и услуг для обеспечения государственных (муниципальных) нужд","03","09","08 3 03 00670","240",{"$f":"'ведом. 2022-2024'!AD169","v":450},null,{"$f":"'ведом. 2022-2024'!AE169","v":450},null,{"$f":"'ведом. 2022-2024'!AF169","v":450}]
["Защита населения и территории от чрезвычайных ситуаций природного и техногенного характера,пожарная безопасность","03","10",null,null,{"$f":"F256","v":25033.300000000003},null,{"$f":"H256","v":21691},null,21691]
["Муниципальная программа «Безопасность и обеспечение безопасности жизнедеятельности населения»                    ","03","10","08 0 00 00000",null,{"$f":"F257+F270+F284+F277","v":25033.300000000003},null,{"$f":"H257+H270+H284+H277","v":21691},null,21691]
["Подпрограмма \"Обеспечение мероприятий по защите населения и территории от чрезвычайных ситуаций\"","03","10","08 2 00 00000",null,{"$f":"F258+F262+F266","v":1142},null,{"$f":"H258+H262+H266","v":1142},null,1142]
["Основное мероприятие \"Развитие и эксплуатация Системы-112 на территории Московской области\"","03","10","08 2 01 00000",null,{"$f":"F259","v":535},null,{"$f":"H259","v":535},null,535]
["Содержание и развитие Системы-112, ЕДДС","03","10","08 2 01 01850",null,{"$f":"F260","v":535},null,{"$f":"H260","v":535},null,535]
["Закупка товаров, работ и услуг для обеспечения государственных (муниципальных) нужд","03","10","08 2 01 01850","200",{"$f":"F261","v":535},null,535,null,535]
["Иные закупки товаров, работ и услуг для обеспечения государственных (муниципальных) нужд","03","10","08 2 01 01850","240",{"$f":"'ведом. 2022-2024'!AD176","v":535},null,{"$f":"'ведом. 2022-2024'!AE176","v":535},null,{"$f":"'ведом. 2022-2024'!AF176","v":535}]
["Основное мероприятие \"Создание резервов материальных ресурсов для ликвидации чрезвычайных ситуаций\"","03","10","08 2 02 00000",null,{"$f":"F263","v":340},null,{"$f":"H263","v":340},null,340]
["Участие в предупреждении и ликвидации последствий чрезвычайных ситуаций в границах городского округа","03","10","08 2 02 00340",null,{"$f":"F264","v":340},null,{"$f":"H264","v":340},null,{"$f":"J264","v":340}]
["Закупка товаров, работ и услуг для обеспечения государственных (муниципальных) нужд","03","10","08 2 02 00340","200",{"$f":"F265","v":340},null,{"$f":"H265","v":340},null,{"$f":"J265","v":340}]
["Иные закупки товаров, работ и услуг для обеспечения государственных (муниципальных) нужд","03","10","08 2 02 00340","240",{"$f":"'ведом. 2022-2024'!AD180","v":340},null,{"$f":" 'ведом. 2022-2024'!AE180","v":340},null,{"$f":"'ведом. 2022-2024'!AF180","v":340}]
["Основное мероприятие \"Реализация мероприятий по подготовке населения и специалистов и должностных лиц в области гражданской обороны, защиты населения и территории от чрезвычайных ситуаций природного и техногенного характера\"","03","10","08 2 03 00000",null,{"$f":"F267","v":267},null,{"$f":"H267","v":267},null,{"$f":"J267","v":267}]
["Участие в предупреждении и ликвидации последствий чрезвычайных ситуаций в границах городского округа","03","10","08 2 03 00340",null,{"$f":"F268","v":267},null,{"$f":"H268","v":267},null,267]
["Закупка товаров, работ и услуг для обеспечения государственных (муниципальных) нужд","03","10","08 2 03 00340","200",{"$f":"F269","v":267},null,{"$f":"H269","v":267},null,{"$f":"J269","v":267}]
["Иные закупки товаров, работ и услуг для обеспечения государственных (муниципальных) нужд","03","10","08 2 03 00340","240",{"$f":"'ведом. 2022-2024'!AD184","v":267},null,{"$f":"'ведом. 2022-2024'!AE184","v":267},null,{"$f":"'ведом. 2022-2024'!AF184","v":267}]
["Подпрограмма «Обеспечение пожарной безопасности на территории муниципального образования Московской области»","03","10","08 4 00 00000",null,{"$f":"F271","v":1888},null,{"$f":"H271","v":694},null,{"$f":"J271","v":694}]
["Основное мероприятие \"Повышение степени пожарной безопасности на территории муниципального образования Московской области\"","03","10","08 4 01 00000",null,{"$f":"F272","v":1888},null,{"$f":"H272","v":694},null,{"$f":"J272","v":694}]
["Обеспечение первичных мер пожарной безопасности в границах городского округа","03","10","08 4 01 00360",null,{"$f":"F273+F275","v":1888},null,{"$f":"H273+H275","v":694},null,694]
["Закупка товаров, работ и услуг для обеспечения государственных (муниципальных) нужд","03","10","08 4 01 00360","200",{"$f":"F274","v":1324},null,{"$f":"H274","v":325},null,{"$f":"J274","v":325}]
["Иные закупки товаров, работ и услуг для обеспечения государственных (муниципальных) нужд","03","10","08 4 01 00360","240",{"$f":"'ведом. 2022-2024'!AD189","v":1324},null,{"$f":"'ведом. 2022-2024'!AE189","v":325},null,{"$f":"'ведом. 2022-2024'!AF189","v":325}]
["Предоставление субсидий бюджетным, автономным учреждениям и иным некоммерческим организациям","03","10","08 4 01 00360","600",{"$f":"F276","v":564},null,{"$f":"H276","v":369},null,369]
["Субсидии бюджетным учреждениям","03","10","08 4 01 00360","610",{"$f":"'ведом. 2022-2024'!AD191","v":564},null,{"$f":"'ведом. 2022-2024'!AE191","v":369},null,{"$f":"'ведом. 2022-2024'!AF191","v":369}]
["Подпрограмма \"Обеспечение безопасности населения на водных объектах, расположенных на территории муниципального образования Московской области\"","03","10","08 5 00 00000",null,{"$f":"F278","v":770},null,{"$f":"H278","v":770},null,770]
["Основное мероприятие \"Выполнение мероприятий по безопасности населения на водных объектах, расположенных на территории Московской области\"","03","10","08 5 01 00000",null,{"$f":"F279","v":770},null,{"$f":"H279","v":770},null,770]
["Осуществление мероприятий по обеспечению безопасности людей на водных объектах, охране их жизни и здоровья","03","10","08 5 01 00730",null,{"$f":"F280+F282","v":770},null,{"$f":"H280+H282","v":770},null,770]
["Закупка товаров, работ и услуг для обеспечения государственных (муниципальных) нужд","03","10","08 5 01 00730","200",{"$f":"F281","v":70},null,{"$f":"H281","v":70},null,70]
["Иные закупки товаров, работ и услуг для обеспечения государственных (муниципальных) нужд","03","10","08 5 01 00730","240",{"$f":"'ведом. 2022-2024'!AD196","v":70},null,{"$f":"'ведом. 2022-2024'!AE196","v":70},null,{"$f":"'ведом. 2022-2024'!AF196","v":70}]
["Предоставление субсидий бюджетным, автономным учреждениям и иным некоммерческим организациям","03","10","08 5 01 00730","600",{"$f":"F283","v":700},null,{"$f":"H283","v":700},null,700]
["Субсидии бюджетным учреждениям","03","10","08 5 01 00730","610",{"$f":"'ведом. 2022-2024'!AD198","v":700},null,{"$f":"'ведом. 2022-2024'!AE198","v":700},null,{"$f":"'ведом. 2022-2024'!AF198","v":700}]
["Обеспечивающая подпрограмма","03","10","08 6 00 00000",null,{"$f":"F285","v":21233.300000000003},null,{"$f":"H285","v":19085},null,19085]
["Основное мероприятие «Создание условий для реализации полномочий органов местного самоуправления»","03","10","08 6 01 00000",null,{"$f":"F286+F289","v":21233.300000000003},null,{"$f":"H286+H289","v":19085},null,19085]
["Содержание и развитие муниципальных экстренных оперативных служб ","03","10","08 6 01 01020",null,{"$f":"F287","v":20217.900000000001},null,{"$f":"H287","v":18069.599999999999},null,18069.599999999999]
["Расходы на выплаты персоналу в целях обеспечения выполнения функций государственными (муниципальными) органами, казенными учреждениями, органами управления государственными внебюджетными фондами","03","10","08 6 01 01020","100",{"$f":"F288","v":20217.900000000001},null,{"$f":"H288","v":18069.599999999999},null,{"$f":"J288","v":18069.599999999999}]
["Расходы на выплаты персоналу казенных учреждений","03","10","08 6 01 01020","110",{"$f":"'ведом. 2022-2024'!AD203","v":20217.900000000001},null,{"$f":"'ведом. 2022-2024'!AE203","v":18069.599999999999},null,{"$f":"'ведом. 2022-2024'!AF203","v":18069.599999999999}]
["Создание, оснащение, модернизация, развитие и эксплуатация имущества экстренных оперативных служб (ЕДДС и системы 112)","03","10","08 6 01 01820",null,{"$f":"F290","v":1015.4},null,{"$f":"H290","v":1015.4},null,1015.4]
["Закупка товаров, работ и услуг для обеспечения государственных (муниципальных) нужд","03","10","08 6 01 01820","200",{"$f":"F291","v":1015.4},null,{"$f":"H291","v":1015.4},null,{"$f":"J291","v":1015.4}]
["Иные закупки товаров, работ и услуг для обеспечения государственных (муниципальных) нужд","03","10","08 6 01 01820","240",{"$f":"'ведом. 2022-2024'!AD206","v":1015.4},null,{"$f":"'ведом. 2022-2024'!AE206","v":1015.4},null,{"$f":"'ведом. 2022-2024'!AF206","v":1015.4}]
["Другие  вопросы  в  области  национальной  безопасности  и  правоохранительной  деятельности","03",14,null,null,{"$f":"F293","v":15438.199999999999},null,{"$f":"H293","v":7695.8},null,{"$f":"J293","v":8183.8}]
["Муниципальная программа «Безопасность и обеспечение безопасности жизнедеятельности населения»                    ","03",14,"08 0 00 00000",null,{"$f":"F294","v":15438.199999999999},null,{"$f":"H294","v":7695.8},null,{"$f":"J294","v":8183.8}]
["Подпрограмма «Профилактика преступлений и иных правонарушений»","03",14,"08 1 00 00000",null,{"$f":"F295+F299","v":15438.199999999999},null,{"$f":"H295+H299","v":7695.8},null,8183.8]
["Основное мероприятие «Обеспечение деятельности общественных объединений правоохранительной направленности»","03",14,"08 1 02 00000",null,{"$f":"F296","v":64.8},null,{"$f":"H296","v":64.8},null,{"$f":"J296","v":64.8}]
["Оказание поддержки гражданам и их объединениям, участвующим в охране общественного порядка, создание условий для деятельности народных дружин","03",14,"08 1 02 00780",null,{"$f":"F297","v":64.8},null,{"$f":"H297","v":64.8},null,64.8]
["Предоставление субсидий бюджетным, автономным учреждениям и иным некоммерческим организациям","03",14,"08 1 02 00780",600,{"$f":"F298","v":64.8},null,{"$f":"H298","v":64.8},null,{"$f":"J298","v":64.8}]
["Субсидии некоммерческим организациям (за исключением государственных (муниципальных) учреждений, государственных корпораций (компаний), публично-правовых компаний)","03",14,"08 1 02 00780",630,{"$f":"'ведом. 2022-2024'!AD213","v":64.8},null,{"$f":"'ведом. 2022-2024'!AE213","v":64.8},null,{"$f":"'ведом. 2022-2024'!AF213","v":64.8}]
["Основное мероприятие «Развертывание элементов системы технологического обеспечения региональной общественной безопасности и оперативного управления «Безопасный регион»","03","14","08 1 04 00000",null,{"$f":"F300","v":15373.4},null,7631,null,8119]
["Осуществление мероприятий в сфере профилактики правонарушений","03","14","08 1 04 00900",null,{"$f":"F301","v":15373.4},null,7631,null,8119]
["Закупка товаров, работ и услуг для обеспечения государственных (муниципальных) нужд","03","14","08 1 04 00900",200,{"$f":"F302","v":15373.4},null,{"$f":"H302","v":7631},null,{"$f":"J302","v":8119}]
["Иные закупки товаров, работ и услуг для обеспечения государственных (муниципальных) нужд","03","14","08 1 04 00900",240,{"$f":"'ведом. 2022-2024'!AD217","v":15373.4},null,{"$f":"'ведом. 2022-2024'!AE217","v":7631},null,{"$f":"'ведом. 2022-2024'!AF217","v":8119}]
["Национальная экономика","04",null,null,null,{"$f":"F311+F375+F329+F360+F304","v":126971.4},49018.7,66082.5,11255,55514.5,7455]
["Сельское хозяйство и рыболовство","04","05",null,null,{"$f":"F305","v":1482},1482,1482,1482,1482,1482]
["Муниципальная программа «Развитие сельского хозяйства»                    ","04","05","06 0 00 00000",null,1482,1482,1482,1482,1482,1482]
["Подпрограмма \"Обеспечение эпизоотического и ветеринарно-санитарного благополучия и развития государственной ветеринарной службы\"","04","05","06 4 00 00000",null,1482,1482,1482,1482,1482,1482]
["Основное мероприятие \"Сохранение ветеринарно-санитарного благополучия\"","04","05","06 4 01 00000",null,1482,1482,1482,1482,1482,1482]
["Осуществление переданных полномочий Московской области по организации мероприятий при осуществлении деятельности по обращению с собаками без владельцев","04","05","06 4 01 60870",null,{"$f":"F309","v":1482},1482,1482,1482,1482,1482]
["Закупка товаров, работ и услуг для обеспечения государственных (муниципальных) нужд","04","05","06 4 01 60870",200,1482,1482,1482,1482,1482,1482]
["Иные закупки товаров, работ и услуг для обеспечения государственных (муниципальных) нужд","04","05","06 4 01 60870",240,{"$f":"'ведом. 2022-2024'!AD725","v":1482},{"$f":"F310","v":1482},{"$f":"'ведом. 2022-2024'!AE725","v":1482},{"$f":"H310","v":1482},{"$f":"'ведом. 2022-2024'!AF725","v":1482},{"$f":"J310","v":1482}]
["Транспорт","04","08",null,null,{"$f":"F312+F319","v":23132.6},null,{"$f":"H312+H319","v":18132.599999999999},null,{"$f":"J312+J319","v":18132.599999999999}]
["Муниципальная программа «Управление имуществом и муниципальными финансами»   ","04","08","12 0 00 00000",null,{"$f":"F313","v":23017.599999999999},null,18017.599999999999,null,18017.599999999999]
["Обеспечивающая подпрограмма   ","04","08","12 5 00 00000",null,23017.599999999999,null,18017.599999999999,null,18017.599999999999]
["Основное мероприятие «Создание условий для реализации полномочий органов местного самоуправления» ","04","08","12 5 01 00000",null,23017.599999999999,null,18017.599999999999,null,18017.599999999999]
["Расходы на обеспечение деятельности (оказание услуг) муниципальных учреждений - обеспечение деятельности органов местного самоуправления","04","08","12 5 01 06090",null,23017.599999999999,null,18017.599999999999,null,18017.599999999999]
["Расходы на обеспечение деятельности (оказание услуг) муниципальных учреждений - обеспечение деятельности органов местного самоуправления( МБУ\"ЛАТП- автотранспортное обслуживание\")","04","08","12 5 01 06094",null,23017.599999999999,null,18017.599999999999,null,18017.599999999999]
["Предоставление субсидий бюджетным, автономным учреждениям и иным некоммерческим организациям","04","08","12 5 01 06094",600,23017.599999999999,null,18017.599999999999,null,18017.599999999999]
["Субсидии бюджетным учреждениям","04","08","12 5 01 06094",610,{"$f":"'ведом. 2022-2024'!AD226","v":23017.599999999999},null,{"$f":"'ведом. 2022-2024'!AE226","v":18017.599999999999},null,{"$f":"'ведом. 2022-2024'!AF226","v":18017.599999999999}]
["Муниципальная программа «Развитие и функционирование дорожно-транспортного комплекса»                ","04","08","14 0 00 00000",null,{"$f":"F320","v":115},null,115,null,115]
["Подпрограмма «Пассажирский транспорт общего пользования»","04","08","14 1 00 00000",null,115,null,115,null,115]
["Основное мероприятие \"Организация транспортного обслуживания населения\"","04","08","14 1 02 00000",null,115,null,115,null,115]
["Создание условий для предоставления транспортных услуг населению и организация транспортного обслуживания населения в границах городского округа (в части автомобильного транспорта)","04","08"," 14 1 02 00280",null,{"$f":"F323+F326","v":115},null,{"$f":"H323+H326","v":115},null,{"$f":"J323+J326","v":115}]
["Создание условий для предоставления транспортных услуг населению и организация транспортного обслуживания населения в границах городского округа (в части автомобильного транспорта) (маршруты №1 и №2) ","04","08"," 14 1 02 00281",null,0.1,null,0.1,null,0.1]
["Закупка товаров, работ и услуг для обеспечения государственных (муниципальных) нужд","04","08"," 14 1 02 00281",200,{"$f":"'ведом. 2022-2024'!AD233","v":0.1},null,{"$f":"'ведом. 2022-2024'!AE233","v":0.1},null,{"$f":"J325","v":0.1}]
["Иные закупки товаров, работ и услуг для обеспечения государственных (муниципальных) нужд","04","08"," 14 1 02 00281",240,{"$f":"'ведом. 2022-2024'!AD233","v":0.1},null,{"$f":"'ведом. 2022-2024'!AE233","v":0.1},null,{"$f":"'ведом. 2022-2024'!AF233","v":0.1}]
["Создание условий для предоставления транспортных услуг населению и организация транспортного обслуживания населения в границах городского округа (в части автомобильного транспорта) (транспортное обеспечение мероприятий) ","04","08"," 14 1 02 00282",null,{"$f":"F327","v":114.9},null,{"$f":"H327","v":114.9},null,{"$f":"J327","v":114.9}]
["Закупка товаров, работ и услуг для обеспечения государственных (муниципальных) нужд","04","08"," 14 1 02 00282",200,{"$f":"F328","v":114.9},null,{"$f":"H328","v":114.9},null,{"$f":"J328","v":114.9}]
["Иные закупки товаров, работ и услуг для обеспечения государственных (муниципальных) нужд","04","08"," 14 1 02 00282",240,{"$f":"'ведом. 2022-2024'!AD236","v":114.9},null,{"$f":"'ведом. 2022-2024'!AE236","v":114.9},null,{"$f":"'ведом. 2022-2024'!AF236","v":114.9}]
["Дорожное  хозяйство  (дорожные  фонды)  ","04","09",null,null,{"$f":"F330+F347","v":100573.4},{"$f":"G330+G347","v":47263.7},45184.5,9500,34616.5,5700]
["Муниципальная программа «Развитие и функционирование дорожно-транспортного комплекса»                ","04","09","14 0 00 00000",null,{"$f":"F331+F342","v":73453.5},24700,45184.5,9500,34616.5,5700]
["Подпрограмма «Дороги Подмосковья»","04","09","14 2 00 00000",null,{"$f":"F332","v":35318.800000000003},{"$f":"G332","v":24700},17049.8,9500,12481.8,5700]
["Основное мероприятие «Ремонт, капитальный ремонт сети автомобильных дорог, мостов и путепроводов местного значения»","04","09","14 2 04 00000",null,{"$f":"F336+F339+F333","v":35318.800000000003},24700,17049.8,9500,12481.8,5700]
["Дорожная деятельность в отношении автомобильных дорог местного значения в границах городского округа","04","09","14 2 04 00200",null,{"$f":"F334","v":630.79999999999995},null,{"$f":"H334","v":630.79999999999995},null,{"$f":"J334","v":630.79999999999995}]
["Закупка товаров, работ и услуг для обеспечения государственных (муниципальных) нужд","04","09","14 2 04 00200",200,{"$f":"F335","v":630.79999999999995},null,{"$f":"H335","v":630.79999999999995},null,{"$f":"J335","v":630.79999999999995}]
["Иные закупки товаров, работ и услуг для обеспечения государственных (муниципальных) нужд","04","09","14 2 04 00200",240,{"$f":"'ведом. 2022-2024'!AD732","v":630.79999999999995},null,{"$f":"'ведом. 2022-2024'!AE732","v":630.79999999999995},null,{"$f":"'ведом. 2022-2024'!AF732","v":630.79999999999995}]
["Мероприятия по обеспечению безопасности дорожного движения","04","09","14 2 04 00210",null,{"$f":"F337","v":5000},null,{"$f":"H337","v":5000},null,{"$f":"J337","v":5000}]
["Закупка товаров, работ и услуг для обеспечения государственных (муниципальных) нужд","04","09","14 2 04 00210",200,{"$f":"F338","v":5000},null,{"$f":"H338","v":5000},null,{"$f":"J338","v":5000}]
["Иные закупки товаров, работ и услуг для обеспечения государственных (муниципальных) нужд","04","09","14 2 04 00210",240,{"$f":"'ведом. 2022-2024'!AD735","v":5000},null,{"$f":"'ведом. 2022-2024'!AE735","v":5000},null,{"$f":"'ведом. 2022-2024'!AF735","v":5000}]
["Софинансирование работ по капитальному ремонту и ремонту автомобильных дорог общего пользования местного значения","04","09","14 2 04 S0240",null,{"$f":"F340","v":29688},{"$f":"G340","v":24700},11419,{"$f":"I340","v":9500},6851,{"$f":"K340","v":5700}]
["Закупка товаров, работ и услуг для обеспечения государственных (муниципальных) нужд","04","09","14 2 04 S0240",200,29688,{"$f":"G341","v":24700},11419,{"$f":"I341","v":9500},6851,{"$f":"K341","v":5700}]
["Иные закупки товаров, работ и услуг для обеспечения государственных (муниципальных) нужд","04","09","14 2 04 S0240",240,{"$f":"'ведом. 2022-2024'!AD738","v":29688},24700,{"$f":"'ведом. 2022-2024'!AE738","v":11419},9500,{"$f":"'ведом. 2022-2024'!AF738","v":6851},5700]
["Обеспечивающая подпрограмма","04","09","14 5 00 00000",null,{"$f":"F343","v":38134.699999999997},null,{"$f":"H343","v":28134.7},null,{"$f":"J343","v":22134.7}]
["Основное мероприятие «Создание условий для реализации полномочий органов местного самоуправления» ","04","09","14 5 01 00000",null,{"$f":"F344","v":38134.699999999997},null,{"$f":"H344","v":28134.7},null,{"$f":"J344","v":22134.7}]
["Расходы на обеспечение деятельности (оказание услуг) муниципальных учреждений в сфере дорожного хозяйства","04","09","14 5 01 06230",null,{"$f":"F345","v":38134.699999999997},null,{"$f":"H345","v":28134.7},null,{"$f":"J345","v":22134.7}]
["Предоставление субсидий бюджетным, автономным учреждениям и иным некоммерческим организациям","04","09","14 5 01 06230",600,{"$f":"F346","v":38134.699999999997},null,{"$f":"H346","v":28134.7},null,{"$f":"J346","v":22134.7}]
["Субсидии бюджетным учреждениям","04","09","14 5 01 06230",610,{"$f":"'ведом. 2022-2024'!AD243","v":38134.699999999997},null,{"$f":"'ведом. 2022-2024'!AE243","v":28134.7},null,{"$f":"'ведом. 2022-2024'!AF243","v":22134.7}]
["Муниципальная программа «Формирование современной комфортной городской среды»   ","04","09","17 0 00 00000",null,{"$f":"F348","v":27119.9},{"$f":"G348","v":22563.7},{"$f":"H348","v":0},null,0]
["Подпрограмма «Создание условий для обеспечения комфортного проживания жителей, в том числе в многоквартирных домах на территории Московской области»","04","09","17 2 00 00000",null,{"$f":"F349+F356","v":27119.9},{"$f":"G349+G356","v":22563.7},{"$f":"H349+H356","v":0},null,{"$f":"J349+J356","v":0}]
["Основное мероприятие «Обеспечение комфортной среды проживания на территории муниципального образования Московской области»","04","09","17 2 01 00000",null,{"$f":"F350+F354","v":7619.9},{"$f":"G350+G354","v":6339.7},0,null,0]
["Создание и ремонт пешеходных коммуникаций","04","09","17 2 01 S1870",null,{"$f":"F351","v":4302.3999999999996},{"$f":"G351","v":3579.6},{"$f":"H351","v":0},null,0]
["Закупка товаров, работ и услуг для обеспечения государственных (муниципальных) нужд","04","09","17 2 01 S1870",200,{"$f":"F352","v":4302.3999999999996},{"$f":"G352","v":3579.6},{"$f":"H352","v":0},null,0]
["Иные закупки товаров, работ и услуг для обеспечения государственных (муниципальных) нужд","04","09","17 2 01 S1870",240,{"$f":"'ведом. 2022-2024'!AD744","v":4302.3999999999996},3579.6,{"$f":"'ведом. 2022-2024'!AE744","v":0},null,{"$f":"'ведом. 2022-2024'!AF744","v":0}]
["Ямочный ремонт асфальтового покрытия дворовых территорий","04","09","17 2 01 S2890",null,{"$f":"F354","v":3317.5},{"$f":"G354","v":2760.1},{"$f":"H354","v":0},null,0]
["Закупка товаров, работ и услуг для обеспечения государственных (муниципальных) нужд","04","09","17 2 01 S2890","200",{"$f":"F355","v":3317.5},{"$f":"G355","v":2760.1},{"$f":"H355","v":0},null,0]
["Иные закупки товаров, работ и услуг для обеспечения государственных (муниципальных) нужд","04","09","17 2 01 S2890","240",{"$f":"'ведом. 2022-2024'!AD747","v":3317.5},2760.1,{"$f":"'ведом. 2022-2024'!AE747","v":0},null,{"$f":"'ведом. 2022-2024'!AF747","v":0}]
["Федеральный проект «Формирование комфортной городской среды»","04","09","17 2 F2 00000",null,{"$f":"F357","v":19500},16224,{"$f":"H357","v":0},null,{"$f":"J357","v":0}]
["Ремонт дворовых территорий","04","09","17 2 F2 S2740",null,19500,16224,{"$f":"H358","v":0},null,0]
["Закупка товаров, работ и услуг для обеспечения государственных (муниципальных) нужд","04","09","17 2 F2 S2740",200,19500,16224,{"$f":"H359","v":0},null,0]
["Иные закупки товаров, работ и услуг для обеспечения государственных (муниципальных) нужд","04","09","17 2 F2 S2740",240,{"$f":"'ведом. 2022-2024'!AD751","v":19500},16224,{"$f":"'ведом. 2022-2024'!AE751","v":0},null,{"$f":"'ведом. 2022-2024'!AF751","v":0}]
["Связь и информатика","04",10,null,null,{"$f":"F361","v":934.5},null,434.5,null,434.5]
["Муниципальная программа «Цифровое муниципальное образование»                                   ","04",10,"15 0 00 00000",null,{"$f":"F362","v":934.5},null,434.5,null,434.5]
["Подпрограмма «Развитие информационной и технологической инфраструктуры экосистемы цифровой экономики муниципального образования Московской области»","04",10,"15 2 00 00000",null,{"$f":"F363+F371+F367","v":934.5},null,{"$f":"H363+H371+H367","v":434.5},null,434.5]
["Основное мероприятие  «Информационная инфраструктура»","04",10,"15 2 01 00000",null,{"$f":"F364","v":527.5},null,{"$f":"H364","v":324.5},null,{"$f":"J364","v":324.5}]
["Развитие информационной инфраструктуры","04",10,"15 2 01 01150",null,{"$f":"F365","v":527.5},null,{"$f":"H365","v":324.5},null,{"$f":"J365","v":324.5}]
["Закупка товаров, работ и услуг для обеспечения государственных (муниципальных) нужд","04",10,"15 2 01 01150",200,{"$f":"F366","v":527.5},null,{"$f":"H366","v":324.5},null,{"$f":"J366","v":324.5}]
["Иные закупки товаров, работ и услуг для обеспечения государственных (муниципальных) нужд","04",10,"15 2 01 01150",240,{"$f":"'ведом. 2022-2024'!AD250","v":527.5},null,{"$f":"'ведом. 2022-2024'!AE250","v":324.5},null,{"$f":"'ведом. 2022-2024'!AF250","v":324.5}]
["Основное мероприятие «Информационная безопасность»","04",10,"15 2 02 00000",null,{"$f":"F368","v":110},null,{"$f":"H368","v":110},null,{"$f":"J368","v":110}]
["Информационная безопасность","04",10,"15 2 02 01160",null,{"$f":"F369","v":110},null,{"$f":"H369","v":110},null,{"$f":"J369","v":110}]
["Закупка товаров, работ и услуг для обеспечения государственных (муниципальных) нужд","04",10,"15 2 02 01160",200,{"$f":"F370","v":110},null,{"$f":"H370","v":110},null,{"$f":"J370","v":110}]
["Иные закупки товаров, работ и услуг для обеспечения государственных (муниципальных) нужд","04",10,"15 2 02 01160",240,{"$f":"'ведом. 2022-2024'!AD254","v":110},null,{"$f":"'ведом. 2022-2024'!AE254","v":110},null,{"$f":"'ведом. 2022-2024'!AF254","v":110}]
["Основное мероприятие «Цифровое государственное управление»","04",10,"15 2 03 00000",null,{"$f":"F372","v":297},null,{"$f":"H372","v":0},null,{"$f":"J372","v":0}]
["Цифровое государственное управление","04",10,"15 2 03 01170",null,{"$f":"F373","v":297},null,{"$f":"H373","v":0},null,{"$f":"J373","v":0}]
["Закупка товаров, работ и услуг для обеспечения государственных (муниципальных) нужд","04",10,"15 2 03 01170",200,{"$f":"F374","v":297},null,{"$f":"H374","v":0},null,{"$f":"J374","v":0}]
["Иные закупки товаров, работ и услуг для обеспечения государственных (муниципальных) нужд","04",10,"15 2 03 01170",240,{"$f":"'ведом. 2022-2024'!AD258","v":297},null,{"$f":"'ведом. 2022-2024'!AE258","v":0},null,{"$f":"'ведом. 2022-2024'!AF258","v":0}]
["Другие вопросы в области национальной экономики","04",12,null,null,{"$f":"F376","v":848.9},{"$f":"G376","v":273},848.9,273,848.9,273]
["Муниципальная программа «Безопасность и обеспечение безопасности жизнедеятельности населения»                    ","04",12,"08 0 00 00000",null,{"$f":"F377","v":848.9},273,848.9,273,848.9,273]
["Подпрограмма «Профилактика преступлений и иных правонарушений»","04",12,"08 1 00 00000",null,848.9,273,848.9,273,848.9,273]
["Основное мероприятие \"Развитие похоронного дела\"","04",12,"08 1 07 00000",null,{"$f":"F379+F382","v":848.9},273,848.9,273,848.9,273]
["Организация ритуальных услуг","04",12,"08 1 07 00480",null,{"$f":"F380","v":575.9},null,{"$f":"H380","v":575.9},null,{"$f":"J380","v":575.9}]
["Закупка товаров, работ и услуг для обеспечения государственных (муниципальных) нужд","04",12,"08 1 07 00480",200,{"$f":"F381","v":575.9},null,{"$f":"H381","v":575.9},null,{"$f":"J381","v":575.9}]
["Иные закупки товаров, работ и услуг для обеспечения государственных (муниципальных) нужд","04",12,"08 1 07 00480",240,{"$f":"'ведом. 2022-2024'!AD265","v":575.9},null,{"$f":"'ведом. 2022-2024'!AE265","v":575.9},null,{"$f":"'ведом. 2022-2024'!AF265","v":575.9}]
["Осуществление переданных полномочий Московской области по транспортировке в морг, включая погрузоразгрузочные работы, с мест обнаружения или происшествия умерших для производства судебно-медицинской экспертизы","04",12,"08 1 07 62820",null,{"$f":"F383","v":273},273,273,{"$f":"I383","v":273},273,273]
["Закупка товаров, работ и услуг для обеспечения государственных (муниципальных) нужд","04",12,"08 1 07 62820",200,273,273,273,{"$f":"I384","v":273},273,273]
["Иные закупки товаров, работ и услуг для обеспечения государственных (муниципальных) нужд","04",12,"08 1 07 62820",240,{"$f":"'ведом. 2022-2024'!AD268","v":273},{"$f":"F384","v":273},{"$f":"'ведом. 2022-2024'!AE268","v":273},{"$f":"H384","v":273},{"$f":"'ведом. 2022-2024'!AF268","v":273},{"$f":"J384","v":273}]
["Жилищно-коммунальное хозяйство","05",null,null,null,{"$f":"F386+F426+F477+F409","v":988787.6},724329.10000000009,361267.60000000003,208006.9,118063.9,5661.4]
[" Жилищное хозяйство","05","01",null,null,{"$f":"F387+F393+F403","v":74211.799999999988},52394.299999999996,17282,4802.3,17186,4722.3999999999996]
["Муниципальная программа «Управление имуществом и муниципальными финансами»   ","05","01","12 0 00 00000",null,{"$f":"F388","v":11410},null,{"$f":"H388","v":11410},null,{"$f":"J388","v":11410}]
["Подпрограмма «Эффективное управление имущественным комплексом»","05","01","12 1 00 00000",null,{"$f":"F389","v":11410},null,{"$f":"H389","v":11410},null,{"$f":"J389","v":11410}]
["Основное мероприятие «Управление имуществом, находящимся в муниципальной собственности, и выполнение кадастровых работ»","05","01","12 1 02 00000",null,{"$f":"F390","v":11410},null,{"$f":"H390","v":11410},null,{"$f":"J390","v":11410}]
["Взносы на капитальный ремонт общего имущества многоквартирных домов","05","01","12 1 02 00180",null,{"$f":"F391","v":11410},null,{"$f":"H391","v":11410},null,{"$f":"J391","v":11410}]
["Закупка товаров, работ и услуг для обеспечения государственных (муниципальных) нужд","05","01","12 1 02 00180",200,{"$f":"F392","v":11410},null,{"$f":"H392","v":11410},null,{"$f":"J392","v":11410}]
["Иные закупки товаров, работ и услуг для обеспечения государственных (муниципальных) нужд","05","01","12 1 02 00180",240,{"$f":"'ведом. 2022-2024'!AD276","v":11410},null,{"$f":"'ведом. 2022-2024'!AE276","v":11410},null,{"$f":"'ведом. 2022-2024'!AF276","v":11410}]
["Муниципальная программа «Формирование современной комфортной городской среды»   ","05","01","17 0 00 00000",null,{"$f":"F394","v":6176},{"$f":"G394","v":5055.2},5872,4802.3,5776,4722.3999999999996]
["Подпрограмма «Создание условий для обеспечения комфортного проживания жителей, в том числе в многоквартирных домах на территории Московской области»","05","01","17 2 00 00000",null,{"$f":"F395+F399","v":6176},{"$f":"G395+G399","v":5055.2},5872,4802.3,5776,4722.3999999999996]
["Основное мероприятие «Создание благоприятных условий для проживания граждан в многоквартирных домах, расположенных на территории Московской области»","05","01","17 2 02 00000",null,{"$f":"F396","v":100},null,{"$f":"H396","v":100},null,100]
["Проведение капитального ремонта многоквартирных домов","05","01","17 2 02 01260",null,{"$f":"F397","v":100},null,100,null,100]
["Закупка товаров, работ и услуг для обеспечения государственных (муниципальных) нужд","05","01","17 2 02 01260","200",{"$f":"F398","v":100},null,100,null,100]
["Иные закупки товаров, работ и услуг для обеспечения государственных (муниципальных) нужд","05","01","17 2 02 01260","240",{"$f":"'ведом. 2022-2024'!AD759","v":100},null,{"$f":"'ведом. 2022-2024'!AE759","v":100},null,{"$f":"'ведом. 2022-2024'!AF759","v":100}]
["Основное мероприятие «Приведение в надлежащее состояние подъездов в многоквартирных домах»","05","01","17 2 03 00000",null,{"$f":"F400","v":6076},{"$f":"G400","v":5055.2},5772,4802.3,5676,4722.3999999999996]
["Ремонт подъездов в многоквартирных домах","05","01","17 2 03 S0950",null,{"$f":"F401","v":6076},5055.2,5772,4802.3,5676,4722.3999999999996]
["Иные бюджетные ассигнования","05","01","17 2 03 S0950","800",6076,5055.2,5772,4802.3,5676,4722.3999999999996]
["Субсидии юридическим лицам (кроме некоммерческих организаций), индивидуальным предпринимателям, физическим лицам - производителям товаров, работ, услуг","05","01","17 2 03 S0950","810",{"$f":"'ведом. 2022-2024'!AD282","v":6076},5055.2,{"$f":"'ведом. 2022-2024'!AE282","v":5772},4802.3,{"$f":"'ведом. 2022-2024'!AF282","v":5676},4722.3999999999996,null,null,0]
["Муниципальная программа \"Переселение граждан из аварийного жилищного фонда\"","05","01","19 0 00 00000",null,{"$f":"F404","v":56625.799999999996},{"$f":"G404","v":47339.1},{"$f":"H404","v":0},null,0]
["Подпрограмма \"Обеспечение мероприятий по переселению граждан из аварийного жилищного фонда в Московской области\"","05","01","19 2 00 00000",null,{"$f":"F405","v":56625.799999999996},47339.1,0,null,0]
["Основное мероприятие \"Переселение граждан из аварийного жилищного фонда\"","05","01","19 2 02 00000",null,{"$f":"F406","v":56625.799999999996},47339.1,0,null,0]
["Обеспечение мероприятий по переселению граждан из аварийного жилищного фонда","05","01","19 2 02 S9605",null,{"$f":"F407","v":56625.799999999996},47339.1,0,null,0]
[" Капитальные вложения в объекты государственной(муниципальной) собственности","05","01","19 2 02 S9605","400",{"$f":"F408","v":56625.799999999996},47339.1,0,null,0]
["Бюджетные инвестиции ","05","01","19 2 02 S9605","410",{"$f":"'ведом. 2022-2024'!AD765","v":56625.799999999996},47339.1,{"$f":"'ведом. 2022-2024'!AE765","v":0},null,{"$f":"'ведом. 2022-2024'!AF765","v":0}]
["Коммунальное  хозяйство","05","02",null,null,{"$f":"F410","v":48652},{"$f":"G410","v":44636.9},55122,45819.9,50]
["Муниципальная программа «Развитие инженерной инфраструктуры, энергоэффективности и отрасли обращения с отходами»   ","05","02","10 0 00 00000",null,{"$f":"F411+F421","v":48652},{"$f":"G411+G421","v":44636.9},{"$f":"H411+H421","v":55122},{"$f":"I411+I421","v":45819.9},{"$f":"J411+J421","v":50}]
["Подпрограмма \"Объекты теплоснабжения, инженерные коммуникации\"","05","02","10 3 00 00000",null,{"$f":"F412","v":23652},{"$f":"G412","v":19636.900000000001},55122,45819.9,50]
["Основное мероприятие «Строительство, реконструкция, капитальный ремонт объектов теплоснабжения на территории муниципальных образований Московской области»","05","02","10 3 01 00000",null,{"$f":"F417+F413","v":23652},{"$f":"G417+G413","v":19636.900000000001},{"$f":"H417+H413","v":55122},{"$f":"I417+I413","v":45819.9},{"$f":"J417+J413","v":50}]
["Строительство и реконструкция объектов теплоснабжения за счет средств местного бюджета","05","02","10 3 01 74730",null,{"$f":"F414","v":50},null,{"$f":"H414","v":50},null,50]
["Строительство и реконструкция объектов теплоснабжения за счет средств местного бюджета (Реконструкция котельной № 1 г.Лыткарино (в т.ч. ПИР)","05","02","10 3 01 74731",null,{"$f":"F415","v":50},null,{"$f":"H415","v":50},null,50]
["Закупка товаров, работ и услуг для обеспечения государственных (муниципальных) нужд","05","02","10 3 01 74731","200",{"$f":"F416","v":50},null,{"$f":"H416","v":50},null,50]
["Иные закупки товаров, работ и услуг для обеспечения государственных (муниципальных) нужд","05","02","10 3 01 74731","240",{"$f":"'ведом. 2022-2024'!AD773","v":50},null,{"$f":"'ведом. 2022-2024'!AE773","v":50},null,{"$f":"'ведом. 2022-2024'!AF773","v":50}]
["Строительство и реконструкция объектов теплоснабжения","05","02","10 3 01 S4730",null,{"$f":"F418","v":23602},{"$f":"G418","v":19636.900000000001},55072,45819.9,0]
["Строительство и реконструкция объектов теплоснабжения (Реконструкция котельной № 1 г.Лыткарино (в т.ч. ПИР)","05","02","10 3 01 S4731",null,{"$f":"F419","v":23602},{"$f":"G419","v":19636.900000000001},{"$f":"H419","v":55072},{"$f":"I419","v":45819.9},{"$f":"J419","v":0}]
[" Капитальные вложения в объекты государственной(муниципальной) собственности","05","02","10 3 01 S4731","400",{"$f":"'ведом. 2022-2024'!AD777","v":23602},{"$f":"G420","v":19636.900000000001},55072,45819.9,0]
["Бюджетные инвестиции ","05","02","10 3 01 S4731","410",{"$f":"'ведом. 2022-2024'!AD777","v":23602},19636.900000000001,{"$f":"'ведом. 2022-2024'!AE777","v":55072},45819.9,{"$f":"'ведом. 2022-2024'!AF777","v":0}]
["Подпрограмма \"Реализация полномочий в сфере жилищно-коммунального хозяйства\"","05","02","10 8 00 00000",null,{"$f":"F422","v":25000},25000,0,null,0]
["Основное мероприятие \"Создание экономических условий для повышения эффективности работы организаций жилищно-коммунального хозяйства Московской области\"","05","02","10 8 01 00000",null,25000,25000,0,null,0]
["Реализация отдельных мероприятий муниципальных программ","05","02","10 8 01 61430",null,25000,25000,0,null,0]
["Иные бюджетные ассигнования","05","02","10 8 01 61430",800,25000,25000,0,null,0]
["Субсидии юридическим лицам (кроме некоммерческих организаций), индивидуальным предпринимателям, физическим лицам - производителям товаров, работ, услуг","05","02","10 8 01 61430",810,{"$f":"'ведом. 2022-2024'!AD289","v":25000},25000,{"$f":"'ведом. 2022-2024'!AE289","v":0},null,{"$f":"'ведом. 2022-2024'!AF289","v":0}]
["Благоустройство","05","03",null,null,{"$f":"F444+F438+F427","v":845020.9},626358.9,267960.7,156445.70000000001,79925]
["Муниципальная программа «Безопасность и обеспечение безопасности жизнедеятельности населения»                    ","05","03","08 0 00 00000",null,{"$f":"F428","v":14545.1},null,{"$f":"H428","v":9545.1},null,{"$f":"J428","v":9545.1}]
["Подпрограмма «Профилактика преступлений и иных правонарушений»","05","03","08 1 00 00000",null,{"$f":"F429+F433","v":14545.1},null,{"$f":"H429+H433","v":9545.1},null,{"$f":"J429+J433","v":9545.1}]
["Основное мероприятие \"Развитие похоронного дела\"","05","03","08 1 07 00000",null,{"$f":"F430","v":7702.3},null,{"$f":"H430","v":2702.3},null,{"$f":"J430","v":2702.3}]
["Содержание мест захоронения","05","03","08 1  07 00590",null,{"$f":"F431","v":7702.3},null,{"$f":"H431","v":2702.3},null,{"$f":"J431","v":2702.3}]
["Закупка товаров, работ и услуг для обеспечения государственных (муниципальных) нужд","05","03","08 1  07 00590","200",{"$f":"F432","v":7702.3},null,{"$f":"H432","v":2702.3},null,{"$f":"J432","v":2702.3}]
["Иные закупки товаров, работ и услуг для обеспечения государственных (муниципальных) нужд","05","03","08 1  07 00590","240",{"$f":"'ведом. 2022-2024'!AD296","v":7702.3},null,{"$f":"'ведом. 2022-2024'!AE296","v":2702.3},null,{"$f":"'ведом. 2022-2024'!AF296","v":2702.3}]
["Расходы на обеспечение деятельности (оказание услуг) муниципальных учреждений в сфере похоронного дела","05","03","08 1 07 06250",null,{"$f":"F434+F436","v":6842.8},null,{"$f":"H434+H436","v":6842.8},null,6842.8]
["Расходы на выплаты персоналу в целях обеспечения выполнения функций государственными (муниципальными) органами, казенными учреждениями, органами управления государственными внебюджетными фондами ","05","03","08 1 07 06250","100",{"$f":"F435","v":6017.1},null,{"$f":"H435","v":6017.1},null,{"$f":"J435","v":6017.1}]
["Расходы на выплаты персоналу казенных учреждений","05","03","08 1 07 06250","110",{"$f":"'ведом. 2022-2024'!AD299","v":6017.1},null,{"$f":"'ведом. 2022-2024'!AE299","v":6017.1},null,{"$f":"'ведом. 2022-2024'!AF299","v":6017.1}]
["Закупка товаров, работ и услуг для обеспечения государственных (муниципальных) нужд","05","03","08 1 07 06250","200",{"$f":"F437","v":825.7},null,{"$f":"H437","v":825.7},null,{"$f":"J437","v":825.7}]
["Иные закупки товаров, работ и услуг для обеспечения государственных (муниципальных) нужд","05","03","08 1 07 06250","240",{"$f":"'ведом. 2022-2024'!AD301","v":825.7},null,{"$f":"'ведом. 2022-2024'!AE301","v":825.7},null,{"$f":"'ведом. 2022-2024'!AF301","v":825.7}]
["Муниципальная программа  «Развитие институтов гражданского общества, повышение эффективности местного самоуправления и реализации молодежной политики»","05","03","13 0 00 00000",null,{"$f":"F439","v":500},null,{"$f":"H439","v":500},null,500]
["Подпрограмма «Развитие системы информирования населения о деятельности органов местного самоуправления Московской области, создание доступной современной медиасреды»","05","03","13 1 00 00000",null,{"$f":"F440","v":500},null,{"$f":"H440","v":500},null,{"$f":"J440","v":500}]
["Основное мероприятие «Организация создания и эксплуатации сети объектов наружной рекламы»","05","03","13 1 07 00000",null,{"$f":"F441","v":500},null,{"$f":"H441","v":500},null,{"$f":"J441","v":500}]
["Утверждение схемы размещения рекламных конструкций, выдача разрешений на установку и эксплуатацию рекламных конструкций, выдача предписаний о демонтаже самовольно установленных рекламных конструкций","05","03","13 1 07 00660",null,{"$f":"F442","v":500},null,{"$f":"H442","v":500},null,{"$f":"J442","v":500}]
["Закупка товаров, работ и услуг для обеспечения государственных (муниципальных) нужд","05","03","13 1 07 00660",200,{"$f":"F443","v":500},null,{"$f":"H443","v":500},null,{"$f":"J443","v":500}]
["Иные закупки товаров, работ и услуг для обеспечения государственных (муниципальных) нужд","05","03","13 1 07 00660",240,{"$f":"'ведом. 2022-2024'!AD307","v":500},null,{"$f":"'ведом. 2022-2024'!AE307","v":500},null,{"$f":"'ведом. 2022-2024'!AF307","v":500}]
["Муниципальная программа «Формирование современной комфортной городской среды»   ","05","03","17 0 00 00000",null,{"$f":"F445+F463","v":829975.8},626358.9,257915.6,156445.70000000001,69879.899999999994]
["Подпрограмма «Комфортная городская среда»","05","03","17 1 00 00000",null,{"$f":"F456+F446","v":760095.9},626358.9,188035.7,156445.70000000001,0]
["Основное мероприятие \"Благоустройство общественных территорий муниципальных образований Московской области\"","05","03","17 1 01 00000",null,{"$f":"F450+F453+F447","v":720095.9},{"$f":"G450+G453+G447","v":593078.9},0,null,0]
["Обустройство и установка детских игровых площадок на территории муниципальных образований","05","03","17 1 01 S1580",null,{"$f":"F448","v":8855},{"$f":"G448","v":2656.5},{"$f":"H448","v":0},null,0]
["Закупка товаров, работ и услуг для обеспечения государственных (муниципальных) нужд","05","03","17 1 01 S1580","200",{"$f":"F449","v":8855},{"$f":"G449","v":2656.5},0,null,0]
["Иные закупки товаров, работ и услуг для обеспечения государственных (муниципальных) нужд","05","03","17 1 01 S1580","240",{"$f":"'ведом. 2022-2024'!AD784","v":8855},2656.5,{"$f":"'ведом. 2022-2024'!AE784","v":0},null,{"$f":"'ведом. 2022-2024'!AF784","v":0}]
["Устройство систем наружного освещения в рамках реализации проекта «Светлый город»","05","03","17 1 01 S2630",null,{"$f":"F451","v":2500},{"$f":"G451","v":750},0,null,0]
["Закупка товаров, работ и услуг для обеспечения государственных (муниципальных) нужд","05","03","17 1 01 S2630","200",{"$f":"F452","v":2500},{"$f":"G452","v":750},0,null,0]
["Иные закупки товаров, работ и услуг для обеспечения государственных (муниципальных) нужд","05","03","17 1 01 S2630","240",{"$f":"'ведом. 2022-2024'!AD787","v":2500},750,{"$f":"'ведом. 2022-2024'!AE787","v":0},null,{"$f":"'ведом. 2022-2024'!AF787","v":0}]
["Благоустройство лесопарковых зон","05","03","17 1 01 S3730",null,{"$f":"F454","v":708740.9},{"$f":"G454","v":589672.4},{"$f":"H454","v":0},null,0]
["Закупка товаров, работ и услуг для обеспечения государственных (муниципальных) нужд","05","03","17 1 01 S3730","200",{"$f":"F455","v":708740.9},{"$f":"G455","v":589672.4},0,null,0]
["Иные закупки товаров, работ и услуг для обеспечения государственных (муниципальных) нужд","05","03","17 1 01 S3730","240",{"$f":"'ведом. 2022-2024'!AD790","v":708740.9},589672.4,{"$f":"'ведом. 2022-2024'!AE790","v":0},null,{"$f":"'ведом. 2022-2024'!AF790","v":0}]
["Федеральный проект «Формирование комфортной городской среды»","05","03","17 1 F2 00000",null,{"$f":"F457+F460","v":40000},{"$f":"G457+G460","v":33280},188035.7,156445.70000000001,0]
["Реализация программ формирования современной городской среды в части благоустройства общественных территорий","05","03","17 1 F2 55551",null,{"$f":"F458","v":0},{"$f":"G458","v":0},188035.7,156445.70000000001,{"$f":"J458","v":0}]
["Закупка товаров, работ и услуг для обеспечения государственных (муниципальных) нужд","05","03","17 1 F2 55551","200",0,{"$f":"G459","v":0},188035.7,156445.70000000001,{"$f":"J459","v":0}]
["Иные закупки товаров, работ и услуг для обеспечения государственных (муниципальных) нужд","05","03","17 1 F2 55551","240",{"$f":"'ведом. 2022-2024'!AD794","v":0},0,{"$f":"'ведом. 2022-2024'!AE794","v":188035.7},156445.70000000001,{"$f":"'ведом. 2022-2024'!AF794","v":0}]
["Реализация программ формирования современной городской среды в части достижения основного результата по благоустройству общественных территорий (благоустройство скверов)","05","03","17 1 F2 55555",null,{"$f":"F461","v":40000},{"$f":"G461","v":33280},{"$f":"H461","v":0},null,0]
["Закупка товаров, работ и услуг для обеспечения государственных (муниципальных) нужд","05","03","17 1 F2 55555","200",{"$f":"F462","v":40000},{"$f":"G462","v":33280},{"$f":"H462","v":0},null,0]
["Иные закупки товаров, работ и услуг для обеспечения государственных (муниципальных) нужд","05","03","17 1 F2 55555","240",{"$f":"'ведом. 2022-2024'!AD797","v":40000},33280,0,null,0]
["Подпрограмма «Создание условий для обеспечения комфортного проживания жителей, в том числе в многоквартирных домах на территории Московской области»","05","03","17 2 00 00000",null,{"$f":"F464","v":69879.900000000009},null,{"$f":"H464","v":69879.899999999994},null,69879.899999999994]
["Основное мероприятие «Обеспечение комфортной среды проживания на территории муниципального образования Московской области»","05","03","17 2 01 00000",null,{"$f":"F468+F474+F471+F465","v":69879.900000000009},null,{"$f":"H468+H474+H471+H465","v":69879.899999999994},null,69879.899999999994]
["Содержание территорий в нормативном состоянии","05","03","17 2 01 00620",null,{"$f":"F466","v":11470.1},null,{"$f":"H466","v":0},null,0]
["Закупка товаров, работ и услуг для обеспечения государственных (муниципальных) нужд","05","03","17 2 01 00620",200,{"$f":"F467","v":11470.1},null,0,null,0]
["Иные закупки товаров, работ и услуг для обеспечения государственных (муниципальных) нужд","05","03","17 2 01 00620",240,{"$f":"'ведом. 2022-2024'!AD802","v":11470.1},null,{"$f":"'ведом. 2022-2024'!AE802","v":0},null,{"$f":"'ведом. 2022-2024'!AF802","v":0}]
["Комплексное благоустройство дворовых территорий","05","03","17 2 01 01330",null,{"$f":"F469","v":14403.4},null,{"$f":"H469","v":25873.5},null,25873.5]
["Закупка товаров, работ и услуг для обеспечения государственных (муниципальных) нужд","05","03","17 2 01 01330",200,{"$f":"F470","v":14403.4},null,{"$f":"H470","v":25873.5},null,{"$f":"J470","v":25873.5}]
["Иные закупки товаров, работ и услуг для обеспечения государственных (муниципальных) нужд","05","03","17 2 01 01330",240,{"$f":"'ведом. 2022-2024'!AD805","v":14403.4},null,{"$f":"'ведом. 2022-2024'!AE805","v":25873.5},null,{"$f":"'ведом. 2022-2024'!AF805","v":25873.5}]
["Организация наружного освещения","05","03","17 2 01 01480",null,{"$f":"F472","v":18648.400000000001},null,{"$f":"H472","v":18648.400000000001},null,18648.400000000001]
["Закупка товаров, работ и услуг для обеспечения государственных (муниципальных) нужд","05","03","17 2 01 01480",200,{"$f":"F473","v":18648.400000000001},null,{"$f":"H473","v":18648.400000000001},null,18648.400000000001]
["Иные закупки товаров, работ и услуг для обеспечения государственных (муниципальных) нужд","05","03","17 2 01 01480",240,{"$f":"'ведом. 2022-2024'!AD808","v":18648.400000000001},null,{"$f":"'ведом. 2022-2024'!AE808","v":18648.400000000001},null,{"$f":"'ведом. 2022-2024'!AF808","v":18648.400000000001}]
["Расходы на обеспечение деятельности (оказание услуг) муниципальных учреждений в сфере благоустройства (МКУ/МБУ/МАУ)","05","03","17 2 01 06242",null,{"$f":"F475","v":25358},null,{"$f":"H475","v":25358},null,{"$f":"J475","v":25358}]
["Предоставление субсидий бюджетным, автономным учреждениям и иным некоммерческим организациям","05","03","17 2 01 06242",600,{"$f":"F476","v":25358},null,{"$f":"H476","v":25358},null,{"$f":"J476","v":25358}]
["Субсидии бюджетным учреждениям","05","03","17 2 01 06242",610,{"$f":"'ведом. 2022-2024'!AD313","v":25358},null,{"$f":"'ведом. 2022-2024'!AE313","v":25358},null,{"$f":"'ведом. 2022-2024'!AF313","v":25358}]
["Другие вопросы в области жилищно-коммунального хозяйства","05","05",null,null,{"$f":"F486+F478","v":20902.900000000001},{"$f":"G486+G478","v":939},20902.900000000001,939,20902.900000000001,939]
["Муниципальная программа «Развитие инженерной инфраструктуры, энергоэффективности и отрасли обращения с отходами»   ","05","05","10 0 00 00000",null,{"$f":"F479","v":268},{"$f":"G479","v":268},268,268,268,268]
["Подпрограмма \"Реализация полномочий в сфере жилищно-коммунального хозяйства\"","05","05","10 8 00 00000",null,{"$f":"F480","v":268},{"$f":"G480","v":268},268,268,268,268]
["Основное мероприятие \"Финансовое обеспечение расходов, направленных на осуществление полномочий в сфере жилищно-коммунального хозяйства\"","05","05","10 8 02 00000",null,{"$f":"F481","v":268},{"$f":"G481","v":268},268,268,268,268]
["Осуществление переданных органам местного самоуправления полномочий по региональному государственному жилищному контролю (надзору) за соблюдением гражданами требований правил пользования газом","05","05","10 8 02 61930",null,{"$f":"F482+F484","v":268},{"$f":"G482+G484","v":268},268,268,268,268]
["Расходы на выплаты персоналу в целях обеспечения выполнения функций государственными (муниципальными) органами, казенными учреждениями, органами управления государственными внебюджетными фондами ","05","05","10 8 02 61930",100,{"$f":"F483","v":245},{"$f":"G483","v":245},245,245,245,245]
["Расходы на выплаты персоналу государственных (муниципальных) органов","05","05","10 8 02 61930",120,{"$f":"'ведом. 2022-2024'!AD815","v":245},{"$f":"F483","v":245},{"$f":"'ведом. 2022-2024'!AE815","v":245},{"$f":"H483","v":245},{"$f":"'ведом. 2022-2024'!AF815","v":245},{"$f":"J483","v":245}]
["Закупка товаров, работ и услуг для обеспечения государственных (муниципальных) нужд","05","05","10 8 02 61930",null,{"$f":"F485","v":23},{"$f":"G485","v":23},23,23,23,23]
["Иные закупки товаров, работ и услуг для обеспечения государственных (муниципальных) нужд","05","05","10 8 02 61930",null,{"$f":"'ведом. 2022-2024'!AD817","v":23},23,{"$f":"'ведом. 2022-2024'!AE817","v":23},23,{"$f":"'ведом. 2022-2024'!AF817","v":23},23]
["Муниципальная программа «Формирование современной комфортной городской среды»   ","05","05","17 0 00 00000",null,{"$f":"F487+F494","v":20634.900000000001},671,20634.900000000001,671,20634.900000000001,671]
["Подпрограмма «Создание условий для обеспечения комфортного проживания жителей, в том числе в многоквартирных домах на территории Московской области»","05","05","17 2 00 00000",null,{"$f":"F488","v":671},{"$f":"G488","v":671},671,671,671,671]
["Основное мероприятие «Обеспечение комфортной среды проживания на территории муниципального образования»","05","05","17 2 01 00000",null,{"$f":"F489","v":671},671,671,671,671,671]
["Создание административных комиссий, уполномоченных рассматривать дела об административных правонарушениях в сфере благоустройства","05","05","17 2 01 62670",null,{"$f":"F490+F492","v":671},{"$f":"G490+G492","v":671},671,671,671,671]
["Расходы на выплаты персоналу в целях обеспечения выполнения функций государственными (муниципальными) органами, казенными учреждениями, органами управления государственными внебюджетными фондами ","05","05","17 2 01 62670",100,{"$f":"F491","v":607},{"$f":"G491","v":607},607,607,607,607]
["Расходы на выплаты персоналу государственных (муниципальных) органов","05","05","17 2 01 62670",120,{"$f":"'ведом. 2022-2024'!AD823","v":607},{"$f":"F491","v":607},{"$f":"'ведом. 2022-2024'!AE823","v":607},{"$f":"'ведом. 2022-2024'!AF823","v":607},{"$f":"'ведом. 2022-2024'!AF823","v":607},{"$f":"J491","v":607}]
["Закупка товаров, работ и услуг для обеспечения государственных (муниципальных) нужд","05","05","17 2 01 62670",200,{"$f":"F493","v":64},{"$f":"G493","v":64},64,64,64,64]
["Иные закупки товаров, работ и услуг для обеспечения государственных (муниципальных) нужд","05","05","17 2 01 62670",240,{"$f":"'ведом. 2022-2024'!AD825","v":64},{"$f":"F493","v":64},{"$f":"'ведом. 2022-2024'!AE825","v":64},{"$f":"H493","v":64},{"$f":"'ведом. 2022-2024'!AF825","v":64},{"$f":"J493","v":64}]
["Обеспечивающая подпрограмма   ","05","05","17 3 00 00000",null,{"$f":"F495","v":19963.900000000001},null,19963.900000000001,null,19963.900000000001]
["Основное мероприятие «Создание условий для реализации полномочий органов местного самоуправления» ","05","05","17 3 01 00000",null,{"$f":"F496","v":19963.900000000001},null,19963.900000000001,null,19963.900000000001]
["Обеспечение деятельности органов местного самоуправления","05","05","17 3 01 00130",null,{"$f":"F497+F500+F503","v":19963.900000000001},null,{"$f":"H497+H500+H503","v":19963.900000000001},null,{"$f":"J497+J500+J503","v":19963.900000000001}]
["Обеспечение деятельности органов местного самоуправления (расходы на обеспечение деятельности органов местного самоуправления)","05","05","17 3 01 00131",null,{"$f":"F498","v":2086.9},null,{"$f":"H498","v":2086.9},null,2086.9]
["Закупка товаров, работ и услуг для обеспечения государственных (муниципальных) нужд","05","05","17 3 01 00131",200,{"$f":"F499","v":2086.9},null,{"$f":"H499","v":2086.9},null,{"$f":"J499","v":2086.9}]
["Иные закупки товаров, работ и услуг для обеспечения государственных (муниципальных) нужд","05","05","17 3 01 00131",240,{"$f":"'ведом. 2022-2024'!AD831","v":2086.9},null,{"$f":"'ведом. 2022-2024'!AE831","v":2086.9},null,{"$f":"'ведом. 2022-2024'!AF831","v":2086.9}]
["Обеспечение деятельности органов местного самоуправления (расходы  на  содержание  лиц,  замещающих должности, не являющиеся должностями муниципальной  службы)","05","05","17 3 01 00132",null,{"$f":"F501","v":10659.7},null,{"$f":"H501","v":10659.7},null,{"$f":"J501","v":10659.7}]
["Расходы на выплаты персоналу в целях обеспечения выполнения функций государственными (муниципальными) органами, казенными учреждениями, органами управления государственными внебюджетными фондами ","05","05","17 3 01 00132",100,{"$f":"F502","v":10659.7},null,{"$f":"H502","v":10659.7},null,{"$f":"J502","v":10659.7}]
["Расходы на выплаты персоналу государственных (муниципальных) органов","05","05","17 3 01 00132",120,{"$f":"'ведом. 2022-2024'!AD834","v":10659.7},null,{"$f":"'ведом. 2022-2024'!AE834","v":10659.7},null,{"$f":"'ведом. 2022-2024'!AF834","v":10659.7}]
["Обеспечение деятельности органов местного самоуправления (расходы  на  содержание  лиц,  замещающих должности  муниципальной  службы)","05","05","17 3 01 00133",null,{"$f":"F504","v":7217.3},null,{"$f":"H504","v":7217.3},null,{"$f":"J504","v":7217.3}]
["Расходы на выплаты персоналу в целях обеспечения выполнения функций государственными (муниципальными) органами, казенными учреждениями, органами управления государственными внебюджетными фондами ","05","05","17 3 01 00133",100,{"$f":"F505","v":7217.3},null,{"$f":"H505","v":7217.3},null,{"$f":"J505","v":7217.3}]
["Расходы на выплаты персоналу государственных (муниципальных) органов","05","05","17 3 01 00133",120,{"$f":"'ведом. 2022-2024'!AD837","v":7217.3},null,{"$f":"'ведом. 2022-2024'!AE837","v":7217.3},null,{"$f":"'ведом. 2022-2024'!AF837","v":7217.3}]
["Охрана окружающей среды","06",null,null,null,{"$f":"F507","v":25},null,{"$f":"H507","v":25},null,25]
["Другие вопросы в области охраны окружающей среды","06","05",null,null,{"$f":"F508","v":25},null,{"$f":"H508","v":25},null,25]
["Муниципальная программа \"Экология и окружающая среда\"","06","05","07 0 00 00000",null,25,null,{"$f":"H509","v":25},null,25]
["Подпрограмма \"Охрана окружающей среды\"","06","05","07 1 00 00000",null,25,null,{"$f":"H510","v":25},null,25]
["Основное мероприятие \"Проведение обследований состояния окружающей среды\"","06","05","07 1 01 00000",null,25,null,{"$f":"H511","v":25},null,25]
["Организация мероприятий по охране окружающей среды в границах городского округа","06","05","07 1 01 00370",null,25,null,{"$f":"H512","v":25},null,25]
["Предоставление субсидий бюджетным, автономным учреждениям и иным некоммерческим организациям","06","05","07 1 01 00370",600,25,null,{"$f":"H513","v":25},null,25]
["Субсидии бюджетным учреждениям","06","05","07 1 01 00370",610,{"$f":"'ведом. 2022-2024'!AD321","v":25},null,{"$f":"'ведом. 2022-2024'!AE321","v":25},null,{"$f":"'ведом. 2022-2024'!AF321","v":25}]
["Образование","07",null,null,null,{"$f":"F515+F529+F593+F627+F644","v":1584637.5000000002},1166305.7,1419810.5000000002,1027858.8,1412869.8,1026993.5]
["Дошкольное образование","07","01",null,null,{"$f":"F516","v":470203},{"$f":"G516","v":316324},470203,316324,468203,316324]
["Муниципальная программа «Образование»                    ","07","01","03 0 00 00000",null,{"$f":"F517","v":470203},{"$f":"G517","v":316324},470203,316324,468203,316324]
["Подпрограмма «Общее образование»                    ","07","01","03 1 00 00000",null,{"$f":"F518","v":470203},{"$f":"G518","v":316324},470203,316324,468203,316324]
["Основное мероприятие \"Финансовое обеспечение деятельности образовательных организаций\"","07","01","03 1 01 00000",null,{"$f":"F519+F526","v":470203},{"$f":"G519+G526","v":316324},470203,316324,468203,316324]
["Расходы на обеспечение деятельности (оказание услуг) муниципальных учреждений - дошкольные образовательные организации","07","01","03 1 01 06040",null,{"$f":"F520+F523","v":153879},null,{"$f":"H520+H523","v":153879},null,{"$f":"J520+J523","v":151879}]
["Расходы на обеспечение деятельности (оказание услуг) муниципальных учреждений - дошкольные образовательные организации (выполнение муниципального задания)","07","01","03 1 01 06041",null,{"$f":"F521","v":153519},null,{"$f":"H521","v":153519},null,{"$f":"J521","v":151519}]
["Предоставление субсидий бюджетным, автономным учреждениям и иным некоммерческим организациям","07","01","03 1 01 06041",600,{"$f":"F522","v":153519},null,{"$f":"H522","v":153519},null,{"$f":"J522","v":151519}]
["Субсидии бюджетным учреждениям","07","01","03 1 01 06041",610,{"$f":"'ведом. 2022-2024'!AD572","v":153519},null,{"$f":"'ведом. 2022-2024'!AE572","v":153519},null,{"$f":"'ведом. 2022-2024'!AF572","v":151519}]
["Расходы на обеспечение деятельности (оказание услуг) муниципальных учреждений - дошкольные образовательные организации (мероприятия в сфере образования)","07","01","03 1 01 06042",null,{"$f":"F524","v":360},null,{"$f":"H524","v":360},null,{"$f":"J524","v":360}]
["Предоставление субсидий бюджетным, автономным учреждениям и иным некоммерческим организациям","07","01","03 1 01 06042",600,{"$f":"F525","v":360},null,{"$f":"H525","v":360},null,{"$f":"J525","v":360}]
["Субсидии бюджетным учреждениям","07","01","03 1 01 06042",610,{"$f":"'ведом. 2022-2024'!AD575","v":360},null,{"$f":"'ведом. 2022-2024'!AE575","v":360},null,{"$f":"'ведом. 2022-2024'!AF575","v":360}]
["Финансовое обеспечение государственных гарантий реализации прав на получение общедоступного и бесплатного дошкольного образования в муниципальных дошкольных образовательных организациях в Московской области, общедоступного и бесплатного дошкольного, начального общего, основного общего, среднего общего образования в муниципальных общеобразовательных организациях в Московской области, обеспечение дополнительного образования детей в муниципальных общеобразовательных организациях в Московской области, включая расходы на оплату труда, приобретение учебников и учебных пособий, средств обучения, игр, игрушек (за исключением расходов на содержание зданий и оплату коммунальных услуг)","07","01","03 1 01 62010",null,{"$f":"F527","v":316324},316324,316324,316324,316324,316324]
["Предоставление субсидий бюджетным, автономным учреждениям и иным некоммерческим организациям","07","01","03 1 01 62010",600,316324,316324,316324,316324,316324,316324]
["Субсидии бюджетным учреждениям","07","01","03 1 01 62010",610,{"$f":"'ведом. 2022-2024'!AD578","v":316324},{"$f":"F528","v":316324},{"$f":"'ведом. 2022-2024'!AE578","v":316324},{"$f":"H528","v":316324},{"$f":"'ведом. 2022-2024'!AF578","v":316324},{"$f":"J528","v":316324}]
["Общее образование","07","02",null,null,{"$f":"F530+F586+F580","v":959759.20000000019},838118.5,796636.80000000016,701677.5,794387.10000000009,701871.5]
["Муниципальная программа «Образование»                    ","07","02","03 0 00 00000",null,{"$f":"F531","v":942398.20000000019},{"$f":"G531","v":821909.2},{"$f":"H531","v":600496.80000000016},515344.5,587356.10000000009,505192.1]
["Подпрограмма «Общее образование»                    ","07","02","03 1 00 00000",null,{"$f":"F532+F546+F560+F573+F556","v":942398.20000000019},{"$f":"G532+G546+G560+G573+G556","v":821909.2},600496.80000000016,515344.5,587356.10000000009,505192.1]
["Основное мероприятие «Финансовое обеспечение деятельности образовательных организаций»","07","02","03 1 01 00000",null,{"$f":"F533+F540+F543","v":532764.30000000005},{"$f":"G533+G540+G543","v":455423},{"$f":"H533+H540+H543","v":533972.30000000005},456631,530972.30000000005,456631]
["Расходы на обеспечение деятельности (оказание услуг) муниципальных учреждений - общеобразовательные организации, оказывающие услуги дошкольного, начального общего, основного общего, среднего общего образования","07","02","03 1 01 06050",null,{"$f":"F534+F537","v":77341.3},null,{"$f":"H534+H537","v":77341.3},null,74341.3]
["Расходы на обеспечение деятельности (оказание услуг) муниципальных учреждений - общеобразовательные организации(выполнение муниципального задания)","07","02","03 1 01 06051",null,{"$f":"F535","v":75507.199999999997},null,{"$f":"H535","v":75507.199999999997},null,{"$f":"J535","v":73507.199999999997}]
["Предоставление субсидий бюджетным, автономным учреждениям и иным некоммерческим организациям","07","02","03 1 01 06051",600,{"$f":"F536","v":75507.199999999997},null,{"$f":"H536","v":75507.199999999997},null,{"$f":"J536","v":73507.199999999997}]
["Субсидии бюджетным учреждениям","07","02","03 1 01 06051",610,{"$f":"'ведом. 2022-2024'!AD591","v":75507.199999999997},null,{"$f":"'ведом. 2022-2024'!AE591","v":75507.199999999997},null,{"$f":"'ведом. 2022-2024'!AF591","v":73507.199999999997}]
["Расходы на обеспечение деятельности (оказание услуг) муниципальных учреждений - общеобразовательные организации (мероприятия в сфере образования)","07","02","03 1 01 06052",null,{"$f":"F538","v":1834.1},null,{"$f":"H538","v":1834.1},null,834.1]
["Предоставление субсидий бюджетным, автономным учреждениям и иным некоммерческим организациям","07","02","03 1 01 06052",600,{"$f":"F539","v":1834.1},null,{"$f":"H539","v":1834.1},null,{"$f":"J539","v":834.1}]
["Субсидии бюджетным учреждениям","07","02","03 1 01 06052",610,{"$f":"'ведом. 2022-2024'!AD594","v":1834.1},null,{"$f":"'ведом. 2022-2024'!AE594","v":1834.1},null,{"$f":"'ведом. 2022-2024'!AF594","v":834.1}]
["Ежемесячное денежное вознаграждение за классное руководство педагогическим работникам государственных и муниципальных общеобразовательных организаций (Финансовое обеспечение государственных гарантий реализации прав на получение общедоступного и бесплатного дошкольного образования в муниципальных дошкольных образовательных организациях в Московской области, общедоступного и бесплатного дошкольного, начального общего, основного общего, среднего общего образования в муниципальных общеобразовательных организациях в Московской области, обеспечение дополнительного образования детей в муниципальных общеобразовательных организациях в Московской области, включая расходы на оплату труда, приобретение учебников и учебных пособий, средств обучения, игр, игрушек (за исключением расходов на содержание зданий и оплату коммунальных услуг)","07","02","03 1 01 53031",null,{"$f":"F541","v":18147},18147,19355,19355,19355,19355]
["Предоставление субсидий бюджетным, автономным учреждениям и иным некоммерческим организациям","07","02","03 1 01 53031",600,18147,18147,19355,19355,19355,19355]
["Субсидии бюджетным учреждениям","07","02","03 1 01 53031",610,{"$f":"'ведом. 2022-2024'!AD597","v":18147},{"$f":"F542","v":18147},{"$f":"'ведом. 2022-2024'!AE597","v":19355},{"$f":"H542","v":19355},{"$f":"'ведом. 2022-2024'!AF597","v":19355},{"$f":"J542","v":19355}]
["Финансовое обеспечение государственных гарантий реализации прав на получение общедоступного и бесплатного дошкольного образования в муниципальных дошкольных образовательных организациях в Московской области, общедоступного и бесплатного дошкольного, начального общего, основного общего, среднего общего образования в муниципальных общеобразовательных организациях в Московской области, обеспечение дополнительного образования детей в муниципальных общеобразовательных организациях в Московской области, включая расходы на оплату труда, приобретение учебников и учебных пособий, средств обучения, игр, игрушек (за исключением расходов на содержание зданий и оплату коммунальных услуг)","07","02","03 1 01 62010",null,{"$f":"F544","v":437276},437276,437276,437276,437276,437276]
["Предоставление субсидий бюджетным, автономным учреждениям и иным некоммерческим организациям","07","02","03 1 01 62010",600,437276,437276,437276,437276,437276,437276]
["Субсидии бюджетным учреждениям","07","02","03 1 01 62010",610,{"$f":"'ведом. 2022-2024'!AD600","v":437276},{"$f":"F545","v":437276},{"$f":"'ведом. 2022-2024'!AE600","v":437276},{"$f":"H545","v":437276},{"$f":"'ведом. 2022-2024'!AF600","v":437276},{"$f":"J545","v":437276}]
["Основное мероприятие «Реализация федеральных государственных образовательных стандартов общего образования, в том числе мероприятий по нормативному правовому и методическому сопровождению, обновлению содержания и технологий образования»","07","02","03 1 02 00000",null,{"$f":"F553+F547+F550","v":51930.8},{"$f":"G553+G547+G550","v":45477},{"$f":"H553+H547+H550","v":51930.8},{"$f":"I553+I547+I550","v":45477},55357.5,48561.1]
["Компенсация проезда к месту учебы и обратно отдельным категориям обучающихся по очной форме обучения муниципальных общеобразовательных организаций","07","02","03 1 02 62230",null,{"$f":"F548","v":43},43,43,43,43,43]
["Предоставление субсидий бюджетным, автономным учреждениям и иным некоммерческим организациям","07","02","03 1 02 62230",600,43,43,43,43,43,43]
["Субсидии бюджетным учреждениям","07","02","03 1 02 62230",610,{"$f":"'ведом. 2022-2024'!AD604","v":43},{"$f":"F549","v":43},{"$f":"'ведом. 2022-2024'!AE604","v":43},{"$f":"H549","v":43},{"$f":"'ведом. 2022-2024'!AF604","v":43},{"$f":"J549","v":43}]
["Организация бесплатного горячего питания обучающихся, получающих начальное общее образование в государственных и муниципальных образовательных организациях","07","02","03 1 02 L3040",null,{"$f":"F551","v":33277.800000000003},29950,33277.800000000003,29950,36704.5,33034.1]
["Закупка товаров, работ и услуг для обеспечения государственных (муниципальных) нужд","07","02","03 1 02 L3040",200,33277.800000000003,29950,33277.800000000003,29950,36704.5,33034.1]
["Иные закупки товаров, работ и услуг для обеспечения государственных (муниципальных) нужд","07","02","03 1 02 L3040",240,{"$f":"'ведом. 2022-2024'!AD607","v":33277.800000000003},29950,{"$f":"'ведом. 2022-2024'!AE607","v":33277.800000000003},29950,{"$f":"'ведом. 2022-2024'!AF607","v":36704.5},33034.1]
["Организация питания обучающихся, получающих основное и среднее общее образование, и отдельных категорий обучающихся, получающих начальное общее образование, в муниципальных общеобразовательных организациях в Московской области","07","02","03 1 02 S2870",null,{"$f":"F554","v":18610},15484,18610,15484,18610,15484]
["Закупка товаров, работ и услуг для обеспечения государственных (муниципальных) нужд","07","02","03 1 02 S2870",200,18610,15484,18610,15484,18610,15484]
["Иные закупки товаров, работ и услуг для обеспечения государственных (муниципальных) нужд","07","02","03 1 02 S2870",240,{"$f":"'ведом. 2022-2024'!AD610","v":18610},15484,{"$f":"'ведом. 2022-2024'!AE610","v":18610},15484,{"$f":"'ведом. 2022-2024'!AF610","v":18610},15484]
["Основное мероприятие «Обеспечение и проведение государственной итоговой аттестации обучающихся, освоивших образовательные программы основного общего и среднего общего образования, в том числе в форме единого государственного экзамена»","07","02","03 1 04 00000",null,{"$f":"F557","v":1026.3},null,{"$f":"H557","v":1026.3},null,{"$f":"J557","v":1026.3}]
["Расходы на обеспечение деятельности (оказание услуг) муниципальных учреждений - общеобразовательные организации, оказывающие услуги дошкольного, начального общего, основного общего, среднего общего образования","07","02","03 1 04 06050",null,{"$f":"F558","v":1026.3},null,{"$f":"H558","v":1026.3},null,{"$f":"J558","v":1026.3}]
["Предоставление субсидий бюджетным, автономным учреждениям и иным некоммерческим организациям","07","02","03 1 04 06050",600,{"$f":"F559","v":1026.3},null,{"$f":"H559","v":1026.3},null,{"$f":"J559","v":1026.3}]
["Субсидии бюджетным учреждениям","07","02","03 1 04 06050",610,{"$f":"'ведом. 2022-2024'!AD614","v":1026.3},null,{"$f":"'ведом. 2022-2024'!AE614","v":1026.3},null,{"$f":"'ведом. 2022-2024'!AF614","v":1026.3}]
["Основное мероприятие «Модернизация школьных систем образования в рамках государственной программы Российской Федерации «Развитие образования»","07","02","03 1 08 00000",null,{"$f":"F561+F564+F567+F570","v":356676.8},{"$f":"G561+G564+G567+G570","v":321009.2},{"$f":"H561+H564+H567+H570","v":0},null,0]
["Реализация мероприятий по модернизации школьных систем образования (проведение работ по капитальному ремонту зданий региональных (муниципальных) общеобразовательных организаций)","07","02","03 1 08 L7501",null,{"$f":"F562","v":287742.5},{"$f":"G562","v":258968.3},0,null,0]
["Закупка товаров, работ и услуг для обеспечения государственных (муниципальных) нужд","07","02","03 1 08 L7501",200,{"$f":"F563","v":287742.5},{"$f":"G563","v":258968.3},0,null,0]
["Иные закупки товаров, работ и услуг для обеспечения государственных (муниципальных) нужд","07","02","03 1 08 L7501",240,{"$f":"'ведом. 2022-2024'!AD845","v":287742.5},258968.3,{"$f":"'ведом. 2022-2024'!AE845","v":0},null,{"$f":"'ведом. 2022-2024'!AF845","v":0}]
["Реализация мероприятий по модернизации школьных систем образования (оснащение отремонтированных зданий общеобразовательных организаций средствами обучения и воспитания)","07","02","03 1 08 L7502",null,{"$f":"F565","v":26000},{"$f":"G565","v":23400},0,null,0]
["Закупка товаров, работ и услуг для обеспечения государственных (муниципальных) нужд","07","02","03 1 08 L7502",200,{"$f":"F566","v":26000},{"$f":"G566","v":23400},0,null,0]
["Иные закупки товаров, работ и услуг для обеспечения государственных (муниципальных) нужд","07","02","03 1 08 L7502",240,{"$f":"'ведом. 2022-2024'!AD848","v":26000},23400,{"$f":"'ведом. 2022-2024'!AE848","v":0},null,{"$f":"'ведом. 2022-2024'!AF848","v":0}]
["Благоустройство территорий муниципальных общеобразовательных организаций, в зданиях которых выполнен капитальный ремонт","07","02","03 1 08 S2950",null,{"$f":"F568","v":17889.3},{"$f":"G568","v":16100.4},0,null,0]
["Закупка товаров, работ и услуг для обеспечения государственных (муниципальных) нужд","07","02","03 1 08 S2950",200,{"$f":"F569","v":17889.3},{"$f":"G569","v":16100.4},0,null,0]
["Иные закупки товаров, работ и услуг для обеспечения государственных (муниципальных) нужд","07","02","03 1 08 S2950",240,{"$f":"'ведом. 2022-2024'!AD851","v":17889.3},16100.4,{"$f":"'ведом. 2022-2024'!AE851","v":0},null,{"$f":"'ведом. 2022-2024'!AF851","v":0}]
["Разработка проектно-сметной документации на проведение капитального ремонта зданий муниципальных общеобразовательных организаций","07","02","03 1 08 S3800",null,{"$f":"F571","v":25045},{"$f":"G571","v":22540.5},{"$f":"H571","v":0},null,0]
["Закупка товаров, работ и услуг для обеспечения государственных (муниципальных) нужд","07","02","03 1 08 S3800",200,25045,{"$f":"G572","v":22540.5},{"$f":"H572","v":0},null,0]
["Иные закупки товаров, работ и услуг для обеспечения государственных (муниципальных) нужд","07","02","03 1 08 S3800",240,{"$f":"'ведом. 2022-2024'!AD854","v":25045},22540.5,0,null,0]
["Федеральный проект «Современная школа»","07","02","03 1 E1 00000",null,{"$f":"F574+F577","v":0},null,{"$f":"H574+H577","v":13567.400000000001},13236.5,0]
["Создание и обеспечение функционирования центров образования естественно-научной и технологической направленностей в общеобразовательных организациях, расположенных в сельской местности и малых городах","07","02","03 2 E1 51690",null,{"$f":"F575","v":0},null,{"$f":"H575","v":4530.3},4419.8,0]
["Предоставление субсидий бюджетным, автономным учреждениям и иным некоммерческим организациям","07","02","03 1 E1 51690",600,{"$f":"F576","v":0},null,{"$f":"H576","v":4530.3},4419.8,0]
["Субсидии бюджетным учреждениям","07","02","03 1 E1 51690",610,{"$f":"'ведом. 2022-2024'!AD618","v":0},null,{"$f":"'ведом. 2022-2024'!AE618","v":4530.3},4419.8,{"$f":"'ведом. 2022-2024'!AF618","v":0}]
["Обновление материально-технической базы в организациях, осуществляющих образовательную деятельность исключительно по адаптированным основным общеобразовательным программам","07","02","03 1 E1 51870",null,{"$f":"F578","v":0},null,{"$f":"H578","v":9037.1},{"$f":"I578","v":8816.7000000000007},0]
["Предоставление субсидий бюджетным, автономным учреждениям и иным некоммерческим организациям","07","02","03 1 E1 51870",600,{"$f":"F579","v":0},null,{"$f":"H579","v":9037.1},{"$f":"I579","v":8816.7000000000007},0]
["Субсидии бюджетным учреждениям","07","02","03 1 E1 51870",610,{"$f":"'ведом. 2022-2024'!AD621","v":0},null,{"$f":"'ведом. 2022-2024'!AE621","v":9037.1},8816.7000000000007,{"$f":"'ведом. 2022-2024'!AF621","v":0}]
["Муниципальная программа «Спорт»                    ","07","02","05 0 00 00000",null,{"$f":"F581","v":2403.8000000000002},{"$f":"G581","v":2000},0,null,0]
["Подпрограмма «Развитие физической культуры и спорта»","07","02","05 1 00 00000",null,{"$f":"F582","v":2403.8000000000002},{"$f":"G582","v":2000},0,null,0]
["Основное мероприятие \"Модернизация и материально-техническое обеспечение объектов физической культуры и спорта, находящихся в собственности муниципальных образований Московской области\"","07","02","05 1 03 00000",null,{"$f":"F583","v":2403.8000000000002},{"$f":"G583","v":2000},0,null,0]
["Укрепление материально-технической базы общеобразовательных организаций, команды которых заняли 1-5 места на соревнованиях «Веселые старты»","07","02","05 1 03 S2150",null,{"$f":"F584","v":2403.8000000000002},{"$f":"G584","v":2000},0,null,0]
["Предоставление субсидий бюджетным, автономным учреждениям и иным некоммерческим организациям","07","02","05 1 03 S2150",600,{"$f":"F585","v":2403.8000000000002},{"$f":"G585","v":2000},0,null,0]
["Субсидии бюджетным учреждениям","07","02","05 1 03 S2150",610,{"$f":"'ведом. 2022-2024'!AD632","v":2403.8000000000002},2000,{"$f":"'ведом. 2022-2024'!AE632","v":0},null,{"$f":"'ведом. 2022-2024'!AF632","v":0}]
["Муниципальная программа «Строительство объектов социальной инфраструктуры»","07","02","18 0 00 00000",null,{"$f":"F587","v":14957.199999999999},14209.3,{"$f":"H587","v":196140},{"$f":"I587","v":186333},207031,196679.4]
["Подпрограмма \"Строительство (реконструкция) объектов образования\"","07","02","18 3 00 00000",null,{"$f":"F588","v":14957.199999999999},14209.3,{"$f":"H588","v":196140},{"$f":"I588","v":186333},207031,196679.4]
["Основное мероприятие \"Организация строительства (реконструкции) объектов общего образования\"","07","02","18 3 02 00000",null,{"$f":"F589","v":14957.199999999999},{"$f":"G589","v":14209.3},196140,186333,207031,196679.4]
["Капитальные вложения в общеобразовательные организации в целях обеспечения односменного режима обучения","07","02","18 3 02 S4480",null,{"$f":"F590","v":14957.199999999999},14209.3,196140,186333,207031,196679.4]
["Капитальные вложения в общеобразовательные организации в целях обеспечения односменного режима обучения (МС(К)ОУ специальная (коррекционная) общеобр.школа N 8 для детей с ОВЗ на 216  мест, г.о. Лыткарино, ул.Пионерская д.12б)","07","02","18 3 02 S4481",null,14957.199999999999,14209.3,196140,186333,207031,196679.4]
["Капитальные вложения в объекты государственной(муниципальной) собственности","07","02","18 3 02 S4481",400,14957.199999999999,14209.3,196140,186333,207031,196679.4]
["Бюджетные инвестиции ","07","02","18 3 02 S4481",410,{"$f":"'ведом. 2022-2024'!AD861","v":14957.199999999999},14209.3,{"$f":"'ведом. 2022-2024'!AE861","v":196140},{"$f":"186333","v":186333},{"$f":"'ведом. 2022-2024'!AF861","v":207031},196679.4]
["Дополнительное образование детей","07","03",null,null,{"$f":"F604+F594","v":121508.8},{"$f":"G604+G594","v":5295},124147.8,7142.3,120508.8,5295]
["Муниципальная программа «Культура и туризм»                  ","07","03","02 0 00 00000",null,{"$f":"F595","v":47610},null,{"$f":"H595","v":50249},{"$f":"I595","v":1847.3},{"$f":"J595","v":46610}]
["Подпрограмма \"Развитие образования в сфере культуры\"","07","03","02 6 00 00000",null,{"$f":"F596+F600","v":47610},null,{"$f":"H596+H600","v":50249},1847.3,46610]
["Основное мероприятие \"Обеспечение функций муниципальных учреждений дополнительного образования сферы культуры\"","07","03","02 6 01 00000",null,{"$f":"F597","v":47610},null,{"$f":"H597","v":47610},null,{"$f":"J597","v":46610}]
["Расходы на обеспечение деятельности (оказание услуг) муниципальных организаций дополнительного образования сферы культуры","07","03","02 6 01 06260",null,{"$f":"F598","v":47610},null,{"$f":"H598","v":47610},null,{"$f":"J598","v":46610}]
["Предоставление субсидий бюджетным, автономным учреждениям и иным некоммерческим организациям","07","03","02 6 01 06260",600,{"$f":"F599","v":47610},null,{"$f":"H599","v":47610},null,{"$f":"J599","v":46610}]
["Субсидии бюджетным учреждениям","07","03","02 6 01 06260",610,{"$f":"'ведом. 2022-2024'!AD329","v":47610},null,{"$f":"'ведом. 2022-2024'!AE329","v":47610},null,{"$f":"'ведом. 2022-2024'!AF329","v":46610}]
["Основное мероприятие \"Обеспечение пожарной безопасности и создание доступной среды\"","07","03","02 6 04 00000",null,{"$f":"F601","v":0},null,{"$f":"H601","v":2639},1847.3,0]
["Создание доступной среды в муниципальных учреждениях дополнительного образования сферы культуры","07","03","02 6 04 S3970",null,{"$f":"F602","v":0},null,{"$f":"H602","v":2639},1847.3,0]
["Предоставление субсидий бюджетным, автономным учреждениям и иным некоммерческим организациям","07","03","02 6 04 S3970",600,{"$f":"F603","v":0},null,{"$f":"H603","v":2639},1847.3,0]
["Субсидии бюджетным учреждениям","07","03","02 6 04 S3970",610,{"$f":"'ведом. 2022-2024'!AD333","v":0},null,{"$f":"'ведом. 2022-2024'!AE333","v":2639},1847.3,{"$f":"'ведом. 2022-2024'!AF333","v":0}]
["Муниципальная программа «Образование»                    ","07","03","03 0 00 00000",null,{"$f":"F610+F605","v":73898.8},{"$f":"G610+G605","v":5295},73898.8,5295,73898.8,5295]
["Подпрограмма «Общее образование»                    ","07","03","03 1 00 00000",null,{"$f":"F606","v":5295},{"$f":"G606","v":5295},5295,5295,5295,5295]
["Основное мероприятие «Финансовое обеспечение деятельности образовательных организаций»","07","03","03 1 01 00000",null,{"$f":"F607","v":5295},{"$f":"G607","v":5295},5295,5295,5295,5295]
["Финансовое обеспечение государственных гарантий реализации прав на получение общедоступного и бесплатного дошкольного образования в муниципальных дошкольных образовательных организациях в Московской области, общедоступного и бесплатного дошкольного, начального общего, основного общего, среднего общего образования в муниципальных общеобразовательных организациях в Московской области, обеспечение дополнительного образования детей в муниципальных общеобразовательных организациях в Московской области, включая расходы на оплату труда, приобретение учебников и учебных пособий, средств обучения, игр, игрушек (за исключением расходов на содержание зданий и оплату коммунальных услуг)","07","03","03 1 01 62010",null,{"$f":"F608","v":5295},{"$f":"G608","v":5295},5295,5295,5295,5295]
["Предоставление субсидий бюджетным, автономным учреждениям и иным некоммерческим организациям","07","03","03 1 01 62010",600,{"$f":"F609","v":5295},{"$f":"G609","v":5295},5295,5295,5295,5295]
["Субсидии бюджетным учреждениям","07","03","03 1 01 62010",610,{"$f":"'ведом. 2022-2024'!AD639","v":5295},{"$f":"F609","v":5295},{"$f":"'ведом. 2022-2024'!AE639","v":5295},{"$f":"H609","v":5295},{"$f":"'ведом. 2022-2024'!AF639","v":5295},{"$f":"J609","v":5295}]
["Подпрограмма \"Дополнительное образование, воспитание и психолого-социальное сопровождение детей\"","07","03","03 2 00 00000",null,{"$f":"F611+F619","v":68603.8},null,{"$f":"H611+H619","v":68603.8},null,68603.8]
["Основное мероприятие \"Финансовое обеспечение деятельности организаций дополнительного образования\"","07","03","03 2 02 00000",null,{"$f":"F612","v":55538},null,{"$f":"H612","v":55538},null,55538]
["Расходы на обеспечение деятельности (оказание услуг) муниципальных учреждений - организации дополнительного образования","07","03","03 2 02 06060",null,{"$f":"F616+F613","v":55538},null,{"$f":"H616+H613","v":55538},null,{"$f":"J616+J613","v":55538}]
["Расходы на обеспечение деятельности (оказание услуг) муниципальных учреждений - организации дополнительного образования (выполнение муниципального задания )","07","03","03 2 02 06061",null,{"$f":"F615","v":55298},null,{"$f":"H615","v":55298},null,{"$f":"J615","v":55298}]
["Предоставление субсидий бюджетным, автономным учреждениям и иным некоммерческим организациям","07","03","03 2 02 06061",600,{"$f":"F615","v":55298},null,{"$f":"H615","v":55298},null,{"$f":"J615","v":55298}]
["Субсидии бюджетным учреждениям","07","03","03 2 02 06061",610,{"$f":"'ведом. 2022-2024'!AD645","v":55298},null,{"$f":"'ведом. 2022-2024'!AE645","v":55298},null,{"$f":"'ведом. 2022-2024'!AF645","v":55298}]
["Расходы на обеспечение деятельности (оказание услуг) муниципальных учреждений - организации дополнительного образования (мероприятия в сфере образования)","07","03","03 2 02 06062",null,{"$f":"F617","v":240},null,{"$f":"H617","v":240},null,{"$f":"J617","v":240}]
["Предоставление субсидий бюджетным, автономным учреждениям и иным некоммерческим организациям","07","03","03 2 02 06062",600,{"$f":"F618","v":240},null,{"$f":"H618","v":240},null,{"$f":"J618","v":240}]
["Субсидии бюджетным учреждениям","07","03","03 2 02 06062",610,{"$f":"'ведом. 2022-2024'!AD648","v":240},null,{"$f":"'ведом. 2022-2024'!AE648","v":240},null,{"$f":"'ведом. 2022-2024'!AF648","v":240}]
["Основное мероприятие \"Обеспечение функционирования модели персонифицированного финансирования дополнительного образования детей\"","07","03","03 2 04 00000",null,{"$f":"F620","v":13065.800000000001},null,{"$f":"H620","v":13065.800000000001},null,{"$f":"J620","v":13065.800000000001}]
["Внедрение и обеспечение функционирования модели персонифицированного финансирования дополнительного образования детей","07","03","03 2 04 00940",null,{"$f":"F621+F625","v":13065.800000000001},null,{"$f":"H621+H625","v":13065.800000000001},null,{"$f":"J621+J625","v":13065.800000000001}]
["Предоставление субсидий бюджетным, автономным учреждениям и иным некоммерческим организациям","07","03","03 2 04 00940",600,{"$f":"F622+F623+F624","v":12689.500000000002},null,{"$f":"H622+H623+H624","v":12689.500000000002},null,{"$f":"J622+J623+J624","v":12689.500000000002}]
["Субсидии бюджетным учреждениям","07","03","03 2 04 00940",610,{"$f":"'ведом. 2022-2024'!AD652","v":12219.1},null,{"$f":"'ведом. 2022-2024'!AE652","v":12219.1},null,{"$f":"'ведом. 2022-2024'!AF652","v":12219.1}]
["Субсидии  автономным  учреждениям","07","03","03 2 04 00940",620,{"$f":"'ведом. 2022-2024'!AD653","v":235.2},null,{"$f":"'ведом. 2022-2024'!AE653","v":235.2},null,{"$f":"'ведом. 2022-2024'!AF653","v":235.2}]
["Субсидии некоммерческим организациям (за исключением государственных (муниципальных) учреждений, государственных корпораций (компаний), публично-правовых компаний)","07","03","03 2 04 00940",630,{"$f":"'ведом. 2022-2024'!AD654","v":235.2},null,{"$f":"'ведом. 2022-2024'!AE654","v":235.2},null,{"$f":"'ведом. 2022-2024'!AF654","v":235.2}]
["Иные бюджетные ассигнования","07","03","03 2 04 00940",800,{"$f":"F626","v":376.3},null,{"$f":"H626","v":376.3},null,{"$f":"J626","v":376.3}]
["Субсидии юридическим лицам (кроме некоммерческих организаций), индивидуальным предпринимателям, физическим лицам - производителям товаров, работ, услуг","07","03","03 2 04 00940",810,{"$f":"'ведом. 2022-2024'!AD656","v":376.3},null,{"$f":"'ведом. 2022-2024'!AE656","v":376.3},null,{"$f":"'ведом. 2022-2024'!AF656","v":376.3}]
["Молодежная политика ","07","07",null,null,{"$f":"F628+F634","v":1566},null,{"$f":"H628+H634","v":1163.7},null,{"$f":"J628+J634","v":1163.7}]
["Муниципальная программа «Безопасность и обеспечение безопасности жизнедеятельности населения»                    ","07","07","08 0 00 00000",null,{"$f":"F629","v":295.2},null,{"$f":"H629","v":295.2},null,{"$f":"J629","v":295.2}]
["Подпрограмма «Профилактика преступлений и иных правонарушений»","07","07","08 1 00 00000",null,{"$f":"F630","v":295.2},null,{"$f":"H630","v":295.2},null,295.2]
["Основное мероприятие «Реализация мероприятий по обеспечению общественного порядка и общественной безопасности, профилактике проявлений экстремизма»","07","07","08 1 03 00000",null,{"$f":"F631","v":295.2},null,{"$f":"H631","v":295.2},null,{"$f":"J631","v":295.2}]
["Участие в профилактике терроризма и экстремизма, а также в минимизации и (или) ликвидации последствий проявлений терроризма и экстремизма в границах городского округа","07","07","08 1 03 00300",null,{"$f":"F632","v":295.2},null,{"$f":"H632","v":295.2},null,{"$f":"J632","v":295.2}]
["Закупка товаров, работ и услуг для обеспечения государственных (муниципальных) нужд","07","07","08 1 03 00300",200,{"$f":"F633","v":295.2},null,{"$f":"H633","v":295.2},null,{"$f":"J633","v":295.2}]
["Иные закупки товаров, работ и услуг для обеспечения государственных (муниципальных) нужд","07","07","08 1 03 00300",240,{"$f":"'ведом. 2022-2024'!AD340","v":295.2},null,{"$f":"'ведом. 2022-2024'!AE340","v":295.2},null,{"$f":"'ведом. 2022-2024'!AF340","v":295.2}]
["Муниципальная программа  «Развитие институтов гражданского общества, повышение эффективности местного самоуправления и реализации молодежной политики»","07","07","13 0 00 00000",null,{"$f":"F635","v":1270.8},null,{"$f":"H635","v":868.5},null,{"$f":"J635","v":868.5}]
["Подпрограмма «Молодежь Подмосковья»","07","07","13 4 00 00000",null,{"$f":"F636+F640","v":1270.8},null,{"$f":"H636+H640","v":868.5},null,868.5]
["Основное мероприятие «Вовлечение молодежи в общественную жизнь»","07","07","13 4 01 00000",null,{"$f":"F637","v":384},null,{"$f":"H637","v":250},null,{"$f":"J637","v":250}]
["Организация и осуществление мероприятий по работе с детьми и молодежью в городском округе","07","07","13 4 01 00770",null,{"$f":"F638","v":384},null,{"$f":"H638","v":250},null,250]
["Закупка товаров, работ и услуг для обеспечения государственных (муниципальных) нужд","07","07","13 4 01 00770",200,{"$f":"F639","v":384},null,{"$f":"H639","v":250},null,{"$f":"J639","v":250}]
["Иные закупки товаров, работ и услуг для обеспечения государственных (муниципальных) нужд","07","07","13 4 01 00770",240,{"$f":"'ведом. 2022-2024'!AD346","v":384},null,{"$f":"'ведом. 2022-2024'!AE346","v":250},null,{"$f":"'ведом. 2022-2024'!AF346","v":250}]
["Основное мероприятие \"Организация и проведение мероприятий по профориентации и реализации трудового и творческого потенциала молодежи, вовлечению молодежи в инновационную деятельность, научно-техническое творчество и предпринимательство, а также по поддержке молодежных творческих инициатив и медиасообществ\"","07","07","13 4 02 00000",null,{"$f":"F641","v":886.8},null,{"$f":"H641","v":618.5},null,618.5]
["Организация и осуществление мероприятий по профориентации и обеспечению занятости молодежи в городском округе","07","07","13 4 02 01510",null,{"$f":"F642","v":886.8},null,{"$f":"H642","v":618.5},null,618.5]
["Закупка товаров, работ и услуг для обеспечения государственных (муниципальных) нужд","07","07","13 4 02 01510",200,{"$f":"F643","v":886.8},null,{"$f":"H643","v":618.5},null,618.5]
["Иные закупки товаров, работ и услуг для обеспечения государственных (муниципальных) нужд","07","07","13 4 02 01510",240,{"$f":"'ведом. 2022-2024'!AD350","v":886.8},null,{"$f":"'ведом. 2022-2024'!AE350","v":618.5},null,{"$f":"'ведом. 2022-2024'!AF350","v":618.5}]
[" Другие вопросы в области образования","07","09",null,null,{"$f":"F645+F666+F680","v":31600.5},{"$f":"G645+G666+G680","v":6568.2000000000007},27659.200000000001,2715,28607.200000000001,3503]
["Муниципальная программа «Образование»                    ","07","09","03 0 00 00000",null,{"$f":"F651+F646","v":23525.7},{"$f":"G651+G646","v":656.3},22861.200000000001,null,22861.200000000001]
["Подпрограмма «Дополнительное образование, воспитание и психолого-социальное сопровождение детей","07","09","03 2 00 00000",null,{"$f":"F647","v":664.5},{"$f":"G647","v":656.3},0,null,0]
["Федеральный проект «Патриотическое воспитание граждан Российской Федерации»","07","09"," 03 2 EВ 00000",null,{"$f":"F648","v":664.5},{"$f":"G648","v":656.3},0,null,0]
["Обеспечение оснащения муниципальных общеобразовательных организаций, в том числе структурных подразделений указанных организаций, государственными символами Российской Федерации","07","09","03 2 EВ 57860",null,{"$f":"F649","v":664.5},{"$f":"G649","v":656.3},0,null,0]
["Закупка товаров, работ и услуг для обеспечения государственных (муниципальных) нужд","07","09","03 2 EВ 57860",200,{"$f":"F650","v":664.5},{"$f":"G650","v":656.3},0,null,0]
["Иные закупки товаров, работ и услуг для обеспечения государственных (муниципальных) нужд","07","09","03 2 EВ 57860",240,{"$f":"'ведом. 2022-2024'!AD663","v":664.5},{"$f":"656.3","v":656.3},{"$f":"'ведом. 2022-2024'!AE663","v":0},null,{"$f":"'ведом. 2022-2024'!AF663","v":0}]
["Подпрограмма \"Обеспечивающая подпрограмма\"","07","09","03 4 00 00000",null,{"$f":"F652","v":22861.200000000001},null,{"$f":"H652","v":22861.200000000001},null,{"$f":"J652","v":22861.200000000001}]
["Основное мероприятие «Создание условий для реализации полномочий органов местного самоуправления»","07","09","03 4 01 00000",null,{"$f":"F653+F663","v":22861.200000000001},null,{"$f":"H653+H663","v":22861.200000000001},null,{"$f":"J653+J663","v":22861.200000000001}]
["Обеспечение деятельности органов местного самоуправления","07","09","03 4 01 00130",null,{"$f":"F654+F657+F660","v":22673.3},null,{"$f":"H654+H657+H660","v":22673.3},null,{"$f":"J654+J657+J660","v":22673.3}]
["Обеспечение деятельности органов местного самоуправления (расходы на обеспечение деятельности органов местного самоуправления)","07","09","03 4 01 00131",null,{"$f":"F655","v":1363.8},null,{"$f":"H655","v":1363.8},null,1363.8]
["Закупка товаров, работ и услуг для обеспечения государственных (муниципальных) нужд","07","09","03 4 01 00131",200,{"$f":"F656","v":1363.8},null,{"$f":"H656","v":1363.8},null,{"$f":"J656","v":1363.8}]
["Иные закупки товаров, работ и услуг для обеспечения государственных (муниципальных) нужд","07","09","03 4 01 00131",240,{"$f":"'ведом. 2022-2024'!AD669","v":1363.8},null,{"$f":"'ведом. 2022-2024'!AE669","v":1363.8},null,{"$f":"'ведом. 2022-2024'!AF669","v":1363.8}]
["Обеспечение деятельности органов местного самоуправления (расходы на содержание лиц, замещающих должности не являющиеся должностями муниципальной службы)","07","09","03 4 01 00132",null,{"$f":"F658","v":8644.5},null,{"$f":"H658","v":8644.5},null,{"$f":"J658","v":8644.5}]
["Расходы на выплаты персоналу в целях обеспечения выполнения функций государственными (муниципальными) органами, казенными учреждениями, органами управления государственными внебюджетными фондами ","07","09","03 4 01 00132",100,{"$f":"F659","v":8644.5},null,{"$f":"H659","v":8644.5},null,{"$f":"J659","v":8644.5}]
["Расходы на выплаты персоналу государственных (муниципальных) органов","07","09","03 4 01 00132",120,{"$f":"'ведом. 2022-2024'!AD672","v":8644.5},null,{"$f":"'ведом. 2022-2024'!AE672","v":8644.5},null,{"$f":"'ведом. 2022-2024'!AF672","v":8644.5}]
["Обеспечение деятельности органов местного самоуправления (расходы на содержание лиц, замещающих должности муниципальной службы)","07","09","03 4 01 00133",null,{"$f":"F661","v":12665},null,{"$f":"H661","v":12665},null,{"$f":"J661","v":12665}]
["Расходы на выплаты персоналу в целях обеспечения выполнения функций государственными (муниципальными) органами, казенными учреждениями, органами управления государственными внебюджетными фондами ","07","09","03 4 01 00133",100,{"$f":"F662","v":12665},null,{"$f":"H662","v":12665},null,{"$f":"J662","v":12665}]
["Расходы на выплаты персоналу государственных (муниципальных) органов","07","09","03 4 01 00133",120,{"$f":"'ведом. 2022-2024'!AD675","v":12665},null,{"$f":"'ведом. 2022-2024'!AE675","v":12665},null,{"$f":"'ведом. 2022-2024'!AF675","v":12665}]
["Мероприятия в сфере образования","07","09","03 4 01 00950",null,{"$f":"F664","v":187.9},null,{"$f":"H664","v":187.9},null,{"$f":"J664","v":187.9}]
["Закупка товаров, работ и услуг для обеспечения государственных (муниципальных) нужд","07","09","03 4 01 00950",200,{"$f":"F665","v":187.9},null,{"$f":"H665","v":187.9},null,{"$f":"J665","v":187.9}]
["Иные закупки товаров, работ и услуг для обеспечения государственных (муниципальных) нужд","07","09","03 4 01 00950",240,{"$f":"'ведом. 2022-2024'!AD678","v":187.9},null,{"$f":"'ведом. 2022-2024'!AE678","v":187.9},null,{"$f":"'ведом. 2022-2024'!AF678","v":187.9}]
["Муниципальная программа «Социальная защита населения»                    ","07","09","04 0 00 00000",null,{"$f":"F667","v":4798},2715,4798,2715,4798,2715]
["Подпрограмма «Развитие системы отдыха и оздоровления детей»","07","09","04 2 00 00000",null,4798,2715,4798,2715,4798,2715]
["Основное мероприятие «Мероприятия по организации отдыха детей в каникулярное время»","07","09","04 2 03 00000",null,{"$f":"F669","v":4798},2715,4798,2715,4798,2715]
["Мероприятия по организации отдыха детей в каникулярное время","07","09","04 2 03 S2190",null,{"$f":"F670+F677","v":4798},2715,4798,2715,4798,2715]
["Мероприятия по организации отдыха детей в каникулярное время (организация  отдыха  детей  и  подростков  в  санаторно-курортных  учреждениях  и  загородных  оздоровительных  лагерях)","07","09","04 2 03 S2191",null,{"$f":"F673+F671+F675","v":3308},{"$f":"G673+G671+G675","v":2175},3308,2175,3308,2175]
["Закупка товаров, работ и услуг для обеспечения государственных (муниципальных) нужд","07","09","04 2 03 S2191",200,{"$f":"F672","v":1860},1740,1860,1740,1860,1740]
["Иные закупки товаров, работ и услуг для обеспечения государственных (муниципальных) нужд","07","09","04 2 03 S2191",240,{"$f":"'ведом. 2022-2024'!AD358","v":1860},1740,{"$f":"'ведом. 2022-2024'!AE358","v":1860},1740,{"$f":"'ведом. 2022-2024'!AF358","v":1860},1740]
["Социальное обеспечение и иные выплаты населению","07","09","04 2 03 S2191",300,{"$f":"F674","v":300},null,300,null,300]
["Социальные выплаты гражданам, кроме публичных нормативных социальных выплат","07","09","04 2 03 S2191",320,{"$f":"'ведом. 2022-2024'!AD360","v":300},null,{"$f":"'ведом. 2022-2024'!AE360","v":300},null,{"$f":"'ведом. 2022-2024'!AF360","v":300}]
["Предоставление субсидий бюджетным, автономным учреждениям и иным некоммерческим организациям","07","09","04 2 03 S2191",600,{"$f":"F676","v":1148},{"$f":"G676","v":435},1148,435,1148,435]
["Субсидии бюджетным учреждениям","07","09","04 2 03 S2191",610,{"$f":"'ведом. 2022-2024'!AD685","v":1148},435,{"$f":"'ведом. 2022-2024'!AE685","v":1148},435,{"$f":"'ведом. 2022-2024'!AF685","v":1148},435]
["Мероприятия по организации отдыха детей в каникулярное время(организация  отдыха  детей  и  подростков  в   лагерях  с  дневным  пребыванием) ","07","09","04 2 03 S2192",null,{"$f":"F678","v":1490},540,1490,540,1490,540]
["Предоставление субсидий бюджетным, автономным учреждениям и иным некоммерческим организациям","07","09","04 2 03 S2192",600,1490,540,1490,540,1490,540]
["Субсидии бюджетным учреждениям","07","09","04 2 03 S2192",610,{"$f":"'ведом. 2022-2024'!AD688","v":1490},540,{"$f":"'ведом. 2022-2024'!AE688","v":1490},540,{"$f":"'ведом. 2022-2024'!AF688","v":1490},540]
["Муниципальная программа «Цифровое муниципальное образование»                                   ","07","09","15 0 00 00000",null,{"$f":"F681","v":3276.8},3196.9,0,null,948,788]
["Подпрограмма «Развитие информационной и технологической инфраструктуры экосистемы цифровой экономики муниципального образования Московской области»","07","09","15 2 00 00000",null,{"$f":"F682","v":3276.8},3196.9,0,null,948,788]
["Федеральный проект \"Цифровая образовательная среда\"","07","09","15 2 E4 00000",null,{"$f":"F683+F686","v":3276.8},{"$f":"G683+G686","v":3196.9},0,null,948,788]
["Обеспечение образовательных организаций материально-технической базой для внедрения цифровой образовательной среды","07","09","15 2 E4 52100",null,{"$f":"F684","v":3276.8},{"$f":"G684","v":3196.9},{"$f":"H684","v":0},null,0]
["Закупка товаров, работ и услуг для обеспечения государственных (муниципальных) нужд","07","09","15 2 E4 52100",200,{"$f":"F685","v":3276.8},{"$f":"G685","v":3196.9},{"$f":"H685","v":0},null,0]
["Иные закупки товаров, работ и услуг для обеспечения государственных (муниципальных) нужд","07","09","15 2 E4 52100",240,{"$f":"'ведом. 2022-2024'!AD694","v":3276.8},3196.9,{"$f":"'ведом. 2022-2024'!AE694","v":0},null,{"$f":"'ведом. 2022-2024'!AF694","v":0}]
["Обновление и техническое обслуживание (ремонт) средств (программного обеспечения и оборудования), приобретённых в рамках субсидий на внедрение целевой модели цифровой образовательной среды в общеобразовательных организациях, на государственную поддержку образовательных организаций в целях оснащения (обновления) их компьютерным, мультимедийным, презентационным оборудованием и программным обеспечением в рамках эксперимента по модернизации начального общего, основного общего и среднего общего образования","07","09","15 2 E4 S1690",null,{"$f":"F687","v":0},null,{"$f":"H687","v":0},null,948,788]
["Закупка товаров, работ и услуг для обеспечения государственных (муниципальных) нужд","07","09","15 2 E4 S1690",200,{"$f":"F688","v":0},null,{"$f":"H688","v":0},null,948,788]
["Иные закупки товаров, работ и услуг для обеспечения государственных (муниципальных) нужд","07","09","15 2 E4 S1690",240,{"$f":"'ведом. 2022-2024'!AD697","v":0},null,{"$f":"'ведом. 2022-2024'!AE697","v":0},null,{"$f":"'ведом. 2022-2024'!AF697","v":948},788]
["Культура,  кинематография","08",null,null,null,{"$f":"F690","v":113185.2},{"$f":"G690","v":305.5},106521,1240.5,108318,2450]
["Культура ","08","01",null,null,{"$f":"F691","v":113185.2},305.5,106521,1240.5,108318,2450]
["Муниципальная программа «Культура и туризм»                  ","08","01","02 0 00 00000",null,{"$f":"F692+F697+F708+F726","v":113185.2},305.5,106521,1240.5,108318,2450]
["Подпрограмма «Развитие музейного дела»","08","01","02 2 00 00000",null,{"$f":"F693","v":19286},null,{"$f":"H693","v":17775.5},null,{"$f":"J693","v":17775.5}]
["Основное мероприятие «Обеспечение выполнения функций муниципальных музеев»","08","01","02 2 01 00000",null,{"$f":"F694","v":19286},null,{"$f":"H694","v":17775.5},null,{"$f":"J694","v":17775.5}]
["Расходы на обеспечение деятельности (оказание услуг) муниципальных учреждений - музеи, галереи","08","01","02 2 01 06130",null,{"$f":"F695","v":19286},null,{"$f":"H695","v":17775.5},null,{"$f":"J695","v":17775.5}]
["Предоставление субсидий бюджетным, автономным учреждениям и иным некоммерческим организациям","08","01","02 2 01 06130",600,{"$f":"F696","v":19286},null,{"$f":"H696","v":17775.5},null,{"$f":"J696","v":17775.5}]
["Субсидии бюджетным учреждениям","08","01","02 2 01 06130",610,{"$f":"'ведом. 2022-2024'!AD368","v":19286},null,{"$f":"'ведом. 2022-2024'!AE368","v":17775.5},null,{"$f":"'ведом. 2022-2024'!AF368","v":17775.5}]
["Подпрограмма «Развитие библиотечного дела\"","08","01","02 3 00 00000",null,{"$f":"F698","v":29685.200000000001},{"$f":"G698","v":305.5},28685.200000000001,305.5,28318]
["Основное мероприятие «Организация библиотечного обслуживания населения муниципальными библиотеками Московской области»","08","01","02 3 01 00000",null,{"$f":"F699+F702+F705","v":29685.200000000001},{"$f":"G699+G702+G705","v":305.5},28685.200000000001,305.5,28318]
["Организация библиотечного обслуживания населения, комплектование и обеспечение сохранности библиотечных фондов библиотек городского округа","08","01","02 3 01 00450",null,{"$f":"F700","v":1000},null,{"$f":"H700","v":0},null,{"$f":"J700","v":0}]
["Предоставление субсидий бюджетным, автономным учреждениям и иным некоммерческим организациям","08","01","02 3 01 00450",600,{"$f":"F701","v":1000},null,{"$f":"H701","v":0},null,{"$f":"J701","v":0}]
["Субсидии бюджетным учреждениям","08","01","02 3 01 00450",610,{"$f":"'ведом. 2022-2024'!AD373","v":1000},null,{"$f":"'ведом. 2022-2024'!AE373","v":0},null,{"$f":"'ведом. 2022-2024'!AF373","v":0}]
["Расходы на обеспечение деятельности (оказание услуг) муниципальных учреждений - библиотеки","08","01","02 3 01 06100",null,{"$f":"F703","v":28318},null,{"$f":"H703","v":28318},null,{"$f":"J703","v":28318}]
["Предоставление субсидий бюджетным, автономным учреждениям и иным некоммерческим организациям","08","01","02 3 01 06100",600,{"$f":"F704","v":28318},null,{"$f":"H704","v":28318},null,{"$f":"J704","v":28318}]
["Субсидии бюджетным учреждениям","08","01","02 3 01 06100",610,{"$f":"'ведом. 2022-2024'!AD376","v":28318},null,{"$f":"'ведом. 2022-2024'!AE376","v":28318},null,{"$f":"'ведом. 2022-2024'!AF376","v":28318}]
["Государственная поддержка отрасли культуры (модернизация библиотек в части комплектования книжных фондов муниципальных общедоступных библиотек)","08","01","02 3 01 L5198",null,{"$f":"F706","v":367.2},{"$f":"G706","v":305.5},367.2,305.5,0]
["Предоставление субсидий бюджетным, автономным учреждениям и иным некоммерческим организациям","08","01","02 3 01 L5198",600,{"$f":"F707","v":367.2},{"$f":"G707","v":305.5},367.2,305.5,0]
["Субсидии бюджетным учреждениям","08","01","02 3 01 L5198",610,{"$f":"'ведом. 2022-2024'!AD379","v":367.2},305.5,{"$f":"'ведом. 2022-2024'!AE379","v":367.2},305.5,{"$f":"'ведом. 2022-2024'!AF379","v":0}]
["Подпрограмма «Развитие профессионального искусства, гастрольно-концертной и культурно-досуговой деятельности, кинематографии»","08","01","02 4 00 00000",null,{"$f":"F709+F719","v":64214},null,{"$f":"H709+H719","v":58724.5},null,58724.5]
["Основное мероприятие \"Обеспечение функций культурно-досуговых учреждений\"","08","01","02 4 04 00000",null,{"$f":"F710","v":3500},null,{"$f":"H710","v":3500},null,{"$f":"J710","v":3500}]
["Мероприятия в сфере культуры","08","01","02 4 04 00500",null,{"$f":"F711+F716","v":3500},null,{"$f":"H711+H716","v":3500},null,{"$f":"J711+J716","v":3500}]
["Мероприятия в сфере культуры (проведение культурно-массовых и праздничных мероприятий в сфере культуры в городе Лыткарино)","08","01","02 4 04 00501",null,{"$f":"F714+F712","v":3065},null,{"$f":"H714+H712","v":3065},null,{"$f":"J714+J712","v":3065}]
["Закупка товаров, работ и услуг для обеспечения государственных (муниципальных) нужд","08","01","02 4 04 00501",200,{"$f":"F713","v":850},null,{"$f":"H713","v":850},null,{"$f":"J713","v":850}]
["Иные закупки товаров, работ и услуг для обеспечения государственных (муниципальных) нужд","08","01","02 4 04 00501",240,{"$f":"'ведом. 2022-2024'!AD385","v":850},null,{"$f":"'ведом. 2022-2024'!AE385","v":850},null,{"$f":"'ведом. 2022-2024'!AF385","v":850}]
["Предоставление субсидий бюджетным, автономным учреждениям и иным некоммерческим организациям","08","01","02 4 04 00501",600,{"$f":"F715","v":2215},null,{"$f":"H715","v":2215},null,{"$f":"J715","v":2215}]
["Субсидии бюджетным учреждениям","08","01","02 4 04 00501",610,{"$f":"'ведом. 2022-2024'!AD387","v":2215},null,{"$f":"'ведом. 2022-2024'!AE387","v":2215},null,{"$f":"'ведом. 2022-2024'!AF387","v":2215}]
["Мероприятия в сфере культуры (проведение мероприятий по духовно-нравственному воспитанию)","08","01","02 4 04 00502",null,{"$f":"F717","v":435},null,{"$f":"H717","v":435},null,{"$f":"J717","v":435}]
["Предоставление субсидий бюджетным, автономным учреждениям и иным некоммерческим организациям","08","01","02 4 04 00502",600,{"$f":"F718","v":435},null,{"$f":"H718","v":435},null,{"$f":"J718","v":435}]
["Субсидии бюджетным учреждениям","08","01","02 4 04 00502",610,{"$f":"'ведом. 2022-2024'!AD390","v":435},null,{"$f":"'ведом. 2022-2024'!AE390","v":435},null,{"$f":"'ведом. 2022-2024'!AF390","v":435}]
["Расходы на обеспечение деятельности(оказание услуг) муниципальных учреждений-культурно-досуговые учреждения","08","01","02 4 04 06110",null,{"$f":"F720+F723","v":60714},null,{"$f":"H720+H723","v":55224.5},null,{"$f":"J720+J723","v":55224.5}]
[{"$f":"'ведом. 2022-2024'!X392","v":"Расходы на обеспечение деятельности (оказание услуг) муниципальных учреждений - культурно-досуговые учреждения (Расходы на выполнение муниципального задания муниципальных учреждений- МУ ДК \"Мир\")"},{"$f":"'ведом. 2022-2024'!Z392","v":"08"},{"$f":"'ведом. 2022-2024'!AA392","v":"01"},"02 4 04 06111",null,{"$f":"F721","v":32186},null,29245.200000000001,null,29245.200000000001]
[{"$f":"'ведом. 2022-2024'!X393","v":"Предоставление субсидий бюджетным, автономным учреждениям и иным некоммерческим организациям"},{"$f":"'ведом. 2022-2024'!Z393","v":"08"},{"$f":"'ведом. 2022-2024'!AA393","v":"01"},"02 4 04 06111",{"$f":"'ведом. 2022-2024'!AC393","v":600},32186,null,29245.200000000001,null,29245.200000000001]
[{"$f":"'ведом. 2022-2024'!X394","v":"Субсидии бюджетным учреждениям"},{"$f":"'ведом. 2022-2024'!Z394","v":"08"},{"$f":"'ведом. 2022-2024'!AA394","v":"01"},"02 4 04 06111",{"$f":"'ведом. 2022-2024'!AC394","v":610},{"$f":"'ведом. 2022-2024'!AD394","v":32186},null,{"$f":"'ведом. 2022-2024'!AE394","v":29245.200000000001},null,{"$f":"'ведом. 2022-2024'!AF394","v":29245.200000000001}]
[{"$f":"'ведом. 2022-2024'!X395","v":"Расходы на обеспечение деятельности (оказание услуг) муниципальных учреждений - культурно-досуговые учреждения (Расходы на выполнение муниципального задания муниципальных учреждений- МУ ДК \"Центр молодежи\")"},{"$f":"'ведом. 2022-2024'!Z395","v":"08"},{"$f":"'ведом. 2022-2024'!AA395","v":"01"},"02 4 04 06112",null,{"$f":"F724","v":28528},null,{"$f":"H724","v":25979.3},null,{"$f":"J724","v":25979.3}]
[{"$f":"'ведом. 2022-2024'!X396","v":"Предоставление субсидий бюджетным, автономным учреждениям и иным некоммерческим организациям"},{"$f":"'ведом. 2022-2024'!Z396","v":"08"},{"$f":"'ведом. 2022-2024'!AA396","v":"01"},"02 4 04 06112",{"$f":"'ведом. 2022-2024'!AC396","v":600},{"$f":"F725","v":28528},null,{"$f":"H725","v":25979.3},null,{"$f":"J725","v":25979.3}]
[{"$f":"'ведом. 2022-2024'!X397","v":"Субсидии бюджетным учреждениям"},{"$f":"'ведом. 2022-2024'!Z397","v":"08"},{"$f":"'ведом. 2022-2024'!AA397","v":"01"},"02 4 04 06112",{"$f":"'ведом. 2022-2024'!AC397","v":610},{"$f":"'ведом. 2022-2024'!AD397","v":28528},null,{"$f":"'ведом. 2022-2024'!AE397","v":25979.3},null,{"$f":"'ведом. 2022-2024'!AF397","v":25979.3}]
["Подпрограмма «Укрепление материально-технической базы муниципальных учреждений культуры»","08","01","02 5 00 00000",null,{"$f":"F727","v":0},null,{"$f":"H727","v":1335.8},935,3500,2450]
["Основное мероприятие «Создание доступной среды»","08","01","02 5 01 00000",null,{"$f":"F728","v":0},null,1335.8,935,3500,2450]
["Создание доступной среды в муниципальных учреждениях культуры","08","01","02 5 01 S3960",null,{"$f":"F729","v":0},null,1335.8,935,3500,2450]
["Предоставление субсидий бюджетным, автономным учреждениям и иным некоммерческим организациям","08","01","02 5 01 S3960",600,{"$f":"F730","v":0},null,1335.8,935,3500,2450]
["Субсидии бюджетным учреждениям","08","01","02 5 01 S3960",610,{"$f":"'ведом. 2022-2024'!AD402","v":0},null,{"$f":"'ведом. 2022-2024'!AE402","v":1335.8},935,{"$f":"'ведом. 2022-2024'!AF402","v":3500},2450]
["Социальная политика","10",null,null,null,{"$f":"F732+F746+F768+F739","v":49594.6},38010.699999999997,60972.2,48853.1,82893.399999999994,70893.600000000006]
["Пенсионное обеспечение",10,"01",null,null,{"$f":"F733","v":7905.0999999999985},null,{"$f":"H733","v":7905.1},null,{"$f":"J733","v":7905.0999999999985}]
["Муниципальная программа «Социальная защита населения»                    ",10,"01","04 0 00 00000",null,{"$f":"F735","v":7905.0999999999985},null,{"$f":"H735","v":7905.1},null,{"$f":"J735","v":7905.0999999999985}]
["Подпрограмма «Социальная поддержка граждан»",10,"01","04 1 00 00000",null,{"$f":"F735","v":7905.0999999999985},null,{"$f":"H735","v":7905.1},null,{"$f":"J735","v":7905.0999999999985}]
["Основное мероприятие \"Предоставление государственных гарантий муниципальным служащим, поощрение за муниципальную службу\"",10,"01","04 1 15 00000",null,{"$f":"F738","v":7905.0999999999985},null,{"$f":"H738","v":7905.1},null,{"$f":"J738","v":7905.0999999999985}]
["Предоставление доплаты за выслугу лет к трудовой пенсии муниципальным служащим за счет средств местного бюджета",10,"01","04 1 15 00840",null,{"$f":"F737","v":7905.0999999999985},null,{"$f":"H737","v":7905.1},null,{"$f":"J737","v":7905.0999999999985}]
["Социальное обеспечение и иные выплаты населению",10,"01","04 1 15 00840",300,{"$f":"F738","v":7905.0999999999985},null,{"$f":"H738","v":7905.1},null,{"$f":"J738","v":7905.0999999999985}]
["Социальные выплаты гражданам, кроме публичных нормативных социальных выплат",10,"01","04 1 15 00840",320,{"$f":"'ведом. 2022-2024'!AD410+'ведом. 2022-2024'!AD477+'ведом. 2022-2024'!AD507+'ведом. 2022-2024'!AD547+'ведом. 2022-2024'!AD705+'ведом. 2022-2024'!AD869+'ведом. 2022-2024'!AD916","v":7905.0999999999985},null,{"$f":"'ведом. 2022-2024'!AE916+'ведом. 2022-2024'!AE869+'ведом. 2022-2024'!AE705+'ведом. 2022-2024'!AE547+'ведом. 2022-2024'!AE507+'ведом. 2022-2024'!AE477+'ведом. 2022-2024'!AE410","v":7905.1},null,{"$f":"'ведом. 2022-2024'!AF410+'ведом. 2022-2024'!AF477+'ведом. 2022-2024'!AF507+'ведом. 2022-2024'!AF547+'ведом. 2022-2024'!AF705+'ведом. 2022-2024'!AF869+'ведом. 2022-2024'!AF916","v":7905.0999999999985}]
["Социальное обеспечение населения",10,"03",null,null,{"$f":"F740","v":0},null,{"$f":"H740","v":0},null,2430,2430]
["Муниципальная программа «Жилище»                    ",10,"03","09 0 00 00000",null,0,null,0,null,2430,2430]
["Подпрограмма \"Обеспечение жильем отдельных категорий граждан за счет средств федерального бюджета\"",10,"03","09 6 00 00000",null,0,null,0,null,2430,2430]
["Основное мероприятие \"Оказание государственной поддержки по обеспечению жильем отдельных категорий граждан, установленных федеральными законами от 12 января 1995 года № 5-ФЗ \"О ветеранах\" и от 24 ноября 1995 года № 181-ФЗ \"О социальной защите инвалидов в Российской Федерации\"",10,"03","09 6 02 00000",null,0,null,{"$f":"H743","v":0},null,2430,2430]
["Осуществление полномочий по обеспечению жильем отдельных категорий граждан, установленных Федеральным законом от 24 ноября 1995 года № 181-ФЗ \"О социальной защите инвалидов в Российской Федерации\"",10,"03","09 6 02 51760",null,0,null,0,null,2430,2430]
["Социальное обеспечение и иные выплаты населению",10,"03","09 6 02 51760",300,0,null,0,null,2430,2430]
["Социальные выплаты гражданам, кроме публичных  нормативных  социальных  выплат",10,"03","09 6 02 51760",320,{"$f":"'ведом. 2022-2024'!AD876","v":0},null,{"$f":"'ведом. 2022-2024'!AE876","v":0},null,{"$f":"'ведом. 2022-2024'!AF876","v":2430},{"$f":"J745","v":2430}]
["Охрана семьи и детства",10,"04",null,null,{"$f":"F747+F757","v":41619.5},38010.699999999997,52997.1,48853.1,72488.3,68463.600000000006]
["Муниципальная программа «Образование»                    ",10,"04","03 0 00 00000",null,{"$f":"F748","v":17974},17974,17974,17974,17974,17974]
["Подпрограмма \"Общее образование\"",10,"04","03 1 00 00000",null,{"$f":"F749","v":17974},17974,17974,{"$f":"I749","v":17974},17974,17974]
["Основное мероприятие «Финансовое обеспечение деятельности образовательных организаций»",10,"04","03 1 01 00000",null,17974,17974,17974,17974,17974,17974]
["Выплата компенсации родительской платы за присмотр и уход за детьми, осваивающими образовательные программы дошкольного образования в организациях Московской области, осуществляющих образовательную деятельность",10,"04","03 1 01 62140",null,{"$f":"F753+F751+F755","v":17974},{"$f":"G753+G751+G755","v":17974},17974,17974,17974,17974]
["Закупка товаров, работ и услуг для обеспечения государственных (муниципальных) нужд",10,"04","03 1 01 62140",200,{"$f":"F752","v":170},170,170,170,170,170]
["Иные закупки товаров, работ и услуг для обеспечения государственных (муниципальных) нужд",10,"04","03 1 01 62140",240,{"$f":"'ведом. 2022-2024'!AD712","v":170},{"$f":"F752","v":170},{"$f":"'ведом. 2022-2024'!AE712","v":170},{"$f":"H752","v":170},{"$f":"'ведом. 2022-2024'!AF712","v":170},{"$f":"J752","v":170}]
["Социальное обеспечение и иные выплаты населению",10,"04","03 1 01 62140",300,{"$f":"F754","v":16978},16978,16978,16978,16978,16978]
["Публичные нормативные социальные выплаты гражданам",10,"04","03 1 01 62140",310,{"$f":"'ведом. 2022-2024'!AD714","v":16978},{"$f":"F754","v":16978},{"$f":"'ведом. 2022-2024'!AE714","v":16978},{"$f":"H754","v":16978},{"$f":"'ведом. 2022-2024'!AF714","v":16978},{"$f":"J754","v":16978}]
["Предоставление субсидий бюджетным, автономным учреждениям и иным некоммерческим организациям",10,"04","03 1 01 62140",600,{"$f":"F756","v":826},{"$f":"G756","v":826},826,826,826,826]
["Субсидии бюджетным учреждениям",10,"04","03 1 01 62140",610,{"$f":"'ведом. 2022-2024'!AD716","v":826},{"$f":"F756","v":826},{"$f":"'ведом. 2022-2024'!AE716","v":826},{"$f":"H756","v":826},{"$f":"'ведом. 2022-2024'!AF716","v":826},{"$f":"J756","v":826}]
["Муниципальная программа «Жилище»                    ",10,"04","09 0 00 00000",null,{"$f":"F763+F758","v":23645.5},20036.7,35023.1,30879.1,54514.3,50489.599999999999]
["Подпрограмма «Обеспечение жильем молодых семей»",10,"04","09 2 00 00000",null,{"$f":"F759","v":8611.5},5002.7,9967.1,5823.1,9413.2999999999993,5388.6]
["Основное мероприятие \"Оказание государственной поддержки молодым семьям в виде социальных выплат на приобретение жилого помещения или создание объекта индивидуального жилищного строительства\"",10,"04","09 2 01 00000",null,{"$f":"F760","v":8611.5},5002.7,9967.1,5823.1,9413.2999999999993,5388.6]
["Реализация мероприятий по обеспечению жильем молодых семей",10,"04","09 2 01 L4970",null,{"$f":"F761","v":8611.5},5002.7,9967.1,5823.1,9413.2999999999993,5388.6]
["Социальное обеспечение и иные выплаты населению",10,"04","09 2 01 L4970",300,8611.5,5002.7,9967.1,5823.1,9413.2999999999993,5388.6]
["Социальные выплаты гражданам, кроме публичных  нормативных  социальных  выплат",10,"04","09 2 01 L4970",320,{"$f":"'ведом. 2022-2024'!AD883","v":8611.5},5002.7,{"$f":"'ведом. 2022-2024'!AE883","v":9967.1},{"$f":"5823.1","v":5823.1},{"$f":"'ведом. 2022-2024'!AF883","v":9413.2999999999993},5388.6]
["Подпрограмма \"Обеспечение жильем детей-сирот и детей, оставшихся без попечения родителей, лиц из числа детей-сирот и детей, оставшихся без попечения родителей\"",10,"04","09 3 00 00000",null,{"$f":"F765","v":15034},15034,25056,25056,45101,45101]
["Основное мероприятие \"Оказание государственной поддержки в решении жилищной проблемы детей-сирот и детей, оставшихся без попечения родителей, лиц из числа детей-сирот и детей, оставшихся без попечения родителей\"",10,"04","09 3 01 00000",null,{"$f":"F765","v":15034},15034,25056,25056,45101,45101]
["Предоставление жилых помещений детям-сиротам и детям, оставшимся без попечения родителей, лицам из числа детей-сирот и детей, оставшихся без попечения родителей, по договорам найма специализированных жилых помещений",10,"04","09 3 01 60820",null,{"$f":"F766","v":15034},15034,25056,25056,45101,45101]
["Капитальные вложения в объекты  государственной (муниципальной) собственности",10,"04","09 3 01 60820",400,15034,15034,25056,25056,45101,45101]
["Бюджетные инвестиции ",10,"04","09 3 01 60820",410,{"$f":"'ведом. 2022-2024'!AD554","v":15034},{"$f":"F767","v":15034},{"$f":"'ведом. 2022-2024'!AE554","v":25056},{"$f":"H767","v":25056},{"$f":"'ведом. 2022-2024'!AF554","v":45101},{"$f":"J767","v":45101}]
["Другие  вопросы  в  области  социальной  политики  ",10,"06",null,null,{"$f":"F769","v":70},null,{"$f":"H769","v":70},null,{"$f":"J769","v":70}]
["Муниципальная программа «Социальная защита населения»                    ",10,"06","04 0 00 00000",null,70,null,{"$f":"H770","v":70},null,{"$f":"J770","v":70}]
["Подпрограмма «Развитие и поддержка социально ориентированных некоммерческих организаций\" ",10,"06","04 6 00 00000",null,70,null,{"$f":"H771","v":70},null,{"$f":"J771","v":70}]
["Основное мероприятие «Развитие негосударственного сектора социального обслуживания»",10,"06","04 6 01 00000",null,70,null,{"$f":"H772","v":70},null,70]
["Оказание поддержки общественным объединениям инвалидов, а также территориальным подразделениям, созданным общероссийскими общественными объединениями инвалидов",10,"06","04 6 01 00880",null,70,null,{"$f":"H773","v":70},null,{"$f":"J773","v":70}]
["Предоставление субсидий бюджетным, автономным учреждениям и иным некоммерческим организациям",10,"06","04 6 01 00880",600,70,null,{"$f":"H774","v":70},null,{"$f":"J774","v":70}]
["Субсидии некоммерческим организациям (за исключением государственных (муниципальных) учреждений,государственных корпораций (компаний), публично-правовых компаний)",10,"06","04 6 01 00880",630,{"$f":"'ведом. 2022-2024'!AD417","v":70},null,{"$f":"'ведом. 2022-2024'!AE417","v":70},null,{"$f":"'ведом. 2022-2024'!AF417","v":70}]
["Физическая  культура  и  спорт",11,null,null,null,{"$f":"F776+F783","v":85831},null,190541,87118.7,112009.7,21780.7]
["Физическая культура",11,"01",null,null,{"$f":"F777","v":82501},null,82501,null,82501]
["Муниципальная программа «Спорт»                    ",11,"01","05 0 00 00000",null,82501,null,82501,null,82501]
["Подпрограмма «Развитие физической культуры и спорта»",11,"01","05 1 00 00000",null,{"$f":"F779","v":82501},null,{"$f":"H779","v":82501},null,{"$f":"J779","v":82501}]
["Основное мероприятие «Обеспечение условий для развития на территории городского округа физической культуры, школьного спорта и массового спорта»",11,"01","05 1 01 00000",null,{"$f":"F780","v":82501},null,{"$f":"H780","v":82501},null,{"$f":"J780","v":82501}]
["Расходы на обеспечение деятельности (оказание услуг) муниципальных учреждений в сфере физической культуры и спорта",11,"01","05 1 01 06140",null,{"$f":"F781","v":82501},null,{"$f":"H781","v":82501},null,{"$f":"J781","v":82501}]
["Предоставление субсидий бюджетным, автономным учреждениям и иным некоммерческим организациям",11,"01","05 1 01 06140",600,{"$f":"F782","v":82501},null,{"$f":"H782","v":82501},null,{"$f":"J782","v":82501}]
["Субсидии  автономным  учреждениям",11,"01","05 1 01 06140",620,{"$f":"'ведом. 2022-2024'!AD425","v":82501},null,{"$f":"'ведом. 2022-2024'!AE425","v":82501},null,{"$f":"'ведом. 2022-2024'!AF425","v":82501}]
["Массовый  спорт",11,"02",null,null,{"$f":"F784","v":3330},null,{"$f":"H784","v":108040},87118.7,29508.7,21780.7]
["Муниципальная программа «Спорт»                    ",11,"02","05 0 00 00000",null,{"$f":"F785+F793","v":3330},null,{"$f":"H785+H793","v":108040},{"$f":"I785+I793","v":87118.7},{"$f":"J785+J793","v":29508.7},{"$f":"K785+K793","v":21780.7}]
["Подпрограмма «Развитие физической культуры и спорта»",11,"02","05 1 00 00000",null,{"$f":"F786","v":3330},null,{"$f":"H786","v":3330},null,3330]
["Основное мероприятие «Обеспечение условий для развития на территории городского округа физической культуры, школьного спорта и массового спорта»",11,"02","05 1 01 00000",null,{"$f":"F787","v":3330},null,{"$f":"H787","v":3330},null,{"$f":"J787","v":3330}]
["Организация проведения официальных физкультурно-оздоровительных и спортивных мероприятий",11,"02","05 1 01 00570",null,{"$f":"F788+F790","v":3330},null,{"$f":"H788+H790","v":3330},null,3330]
["Закупка товаров, работ и услуг для обеспечения государственных (муниципальных) нужд",11,"02","05 1 01 00570",200,{"$f":"F789","v":2535},null,{"$f":"H789","v":2535},null,{"$f":"J789","v":2535}]
["Иные закупки товаров, работ и услуг для обеспечения государственных (муниципальных) нужд",11,"02","05 1 01 00570",240,{"$f":"'ведом. 2022-2024'!AD432","v":2535},null,{"$f":"'ведом. 2022-2024'!AE432","v":2535},null,{"$f":"'ведом. 2022-2024'!AF432","v":2535}]
["Предоставление субсидий бюджетным, автономным учреждениям и иным некоммерческим организациям",11,"02","05 1 01 00570",600,{"$f":"F791+F792","v":795},null,{"$f":"H791+H792","v":795},null,795]
["Субсидии бюджетным учреждениям",11,"02","05 1 01 00570",610,{"$f":"'ведом. 2022-2024'!AD434","v":350},null,{"$f":"'ведом. 2022-2024'!AE434","v":350},null,{"$f":"'ведом. 2022-2024'!AF434","v":350}]
["Субсидии  автономным  учреждениям",11,"02","05 1 01 00570",620,{"$f":"'ведом. 2022-2024'!AD435","v":445},null,{"$f":"'ведом. 2022-2024'!AE435","v":445},null,{"$f":"'ведом. 2022-2024'!AF435","v":445}]
["Основное мероприятие \"Модернизация и материально-техническое обеспечение объектов физической культуры и спорта, находящихся в собственности муниципальных образований Московской области\"",11,"02","05 1 03 00000",null,{"$f":"F794","v":0},null,{"$f":"H794","v":104710},87118.7,26178.7,21780.7]
["Проведение капитального ремонта муниципальных объектов физической культуры и спорта",11,"02","05 1 03 S0770",null,{"$f":"F795","v":0},null,{"$f":"H795","v":104710},87118.7,26178.7,21780.7]
["Закупка товаров, работ и услуг для обеспечения государственных (муниципальных) нужд",11,"02","05 1 03 S0770",200,{"$f":"F796","v":0},null,{"$f":"H796","v":104710},87118.7,26178.7,21780.7]
["Иные закупки товаров, работ и услуг для обеспечения государственных (муниципальных) нужд",11,"02","05 1 03 S0770",240,{"$f":"'ведом. 2022-2024'!AD891","v":0},null,{"$f":"'ведом. 2022-2024'!AE891","v":104710},87118.7,{"$f":"'ведом. 2022-2024'!AF891","v":26178.7},21780.7]
["Обслуживание  государственного (муниципального)  долга",13,null,null,null,{"$f":"F799","v":1200},null,{"$f":"H799","v":11505.1},null,{"$f":"J799","v":21749.8}]
["Обслуживание государственного (муниципального) внутреннего долга",13,"01",null,null,{"$f":"F799","v":1200},null,{"$f":"H799","v":11505.1},null,{"$f":"J799","v":21749.8}]
["Муниципальная программа «Управление имуществом и муниципальными финансами»   ",13,"01","12 0 00 00000",null,{"$f":"F803","v":1200},null,{"$f":"H803","v":11505.1},null,{"$f":"J803","v":21749.8}]
["Подпрограмма «Управление муниципальным долгом»",13,"01","12 3 00 00000",null,{"$f":"F803","v":1200},null,{"$f":"H803","v":11505.1},null,{"$f":"J803","v":21749.8}]
["Основное мероприятие «Реализация мероприятий в рамках управления муниципальным долгом»",13,"01","12 3 01 00000",null,{"$f":"F802","v":1200},null,{"$f":"H802","v":11505.1},null,{"$f":"J802","v":21749.8}]
["Обслуживание муниципального долга ",13,"01","12 3 01 00800",null,{"$f":"F803","v":1200},null,{"$f":"H803","v":11505.1},null,{"$f":"J803","v":21749.8}]
["Обслуживание государственного (муниципального) долга",13,"01","12 3 01 00800",700,{"$f":"F804","v":1200},null,{"$f":"H804","v":11505.1},null,{"$f":"J804","v":21749.8}]
["Обслуживание муниципального  долга",13,"01","12 3 01 00800",730,{"$f":"'ведом. 2022-2024'!AD443","v":1200},null,{"$f":"'ведом. 2022-2024'!AE443","v":11505.1},null,{"$f":"'ведом. 2022-2024'!AF443","v":21749.8}]
["ВСЕГО",null,null,null,null,{"$f":"F797+F775+F731+F689+F514+F385+F303+F243+F226+F12+F506","v":3334771.1},1988071.1,2572675.0000000005,1394647.3,2247180.9000000004,1145720.8999999999]
[]
[]
[null,null,null,null,null,{"$f":"F754","v":16978},{"$f":"G754","v":16978},16978,16978,16978,16978]

{"sheet":"Целевые 2022-2024","index":4,"n_rows":314,"n_cols":4,"rows_kept":314,"cut":false,"hidden":false,"merged":[[1,0,1,1],[2,0,2,1]]}
[]
["Приложение \nк распоряжению начальника \nФинансового управления г.Лыткарино \nот 10.11.2022  № 56\n\"Об утверждении Перечня и кодов целевых статей расходов \nбюджета городского округа Лыткарино  на 2023 год \nи плановый период  2024 и 2025 годов\" "]
["Перечень и  коды целевых статей расходов бюджета городского округа Лыткарино \nна 2023 год и плановый период 2024 и 2025 годов"]
[]
["Наименования","ЦСР"]
[1,2,null,"                                                                                                                                                                                                                                                                                                                                                                                                                                                                                     "]
["Муниципальная программа «Культура и туризм»                  ","02 0 00 00000"]
["Подпрограмма «Развитие музейного дела»","02 2 00 00000"]
["Основное мероприятие «Обеспечение выполнения функций муниципальных музеев»","02 2 01 00000"]
["Расходы на обеспечение деятельности (оказание услуг) муниципальных учреждений - музеи, галереи","02 2 01 06130"]
["Подпрограмма «Развитие библиотечного дела»","02 3 00 00000"]
["Основное мероприятие «Организация библиотечного обслуживания населения муниципальными библиотеками Московской области»","02 3 01 00000"]
["Организация библиотечного обслуживания населения, комплектование и обеспечение сохранности библиотечных фондов библиотек городского округа","02 3 01 00450"]
["Расходы на обеспечение деятельности (оказание услуг) муниципальных учреждений - библиотеки","02 3 01 06100"]
["Государственная поддержка отрасли культуры (модернизация библиотек в части комплектования книжных фондов муниципальных общедоступных библиотек)","02 3 01 L5198"]
["Подпрограмма «Развитие профессионального искусства, гастрольно-концертной и культурно-досуговой деятельности, кинематографии»","02 4 00 00000"]
["Основное мероприятие \"Обеспечение функций культурно-досуговых учреждений\"","02 4 0400000"]
["Мероприятия в сфере культуры","02 4 04 00500"]
["Мероприятия в сфере культуры (проведение культурно-массовых и праздничных мероприятий в сфере культуры в городе Лыткарино)","02 4 04 00501"]
["Мероприятия в сфере культуры (проведение мероприятий по духовно-нравственному воспитанию)","02 4 04 00502"]
["Расходы на обеспечение деятельности(оказание услуг) муниципальных учреждений-культурно-досуговые учреждения","02 4 04 06110"]
[{"$f":"'Функц. 2022-2024'!A720","v":"Расходы на обеспечение деятельности (оказание услуг) муниципальных учреждений - культурно-досуговые учреждения (Расходы на выполнение муниципального задания муниципальных учреждений- МУ ДК \"Мир\")"},"02 4 04 06111"]
[{"$f":"'Функц. 2022-2024'!A723","v":"Расходы на обеспечение деятельности (оказание услуг) муниципальных учреждений - культурно-досуговые учреждения (Расходы на выполнение муниципального задания муниципальных учреждений- МУ ДК \"Центр молодежи\")"},"02 4 04 06112"]
["Подпрограмма «Укрепление материально-технической базы муниципальных учреждений культуры»","02 5 00 00000"]
["Основное мероприятие «Создание доступной среды»","02 5 01 00000"]
["Создание доступной среды в муниципальных учреждениях культуры","02 5 01 S3960"]
["Подпрограмма \"Развитие образования в сфере культуры\"","02 6 00 00000"]
["Основное мероприятие \"Обеспечение функций муниципальных учреждений дополнительного образования сферы культуры\"","02 6 01 00000"]
["Расходы на обеспечение деятельности (оказание услуг) муниципальных организаций дополнительного образования сферы культуры","02 6 01 06260"]
["Основное мероприятие \"Обеспечение пожарной безопасности и создание доступной среды\"","02 6 04 00000"]
["Создание доступной среды в муниципальных учреждениях дополнительного образования сферы культуры","02 6 04 S3970"]
["Подпрограмма «Развитие архивного дела»","02 9 00 00000"]
["Основное мероприятие «Хранение, комплектование, учет и использование архивных документов в муниципальных архивах»","02 9 01 00000"]
["Расходы на обеспечение деятельности (оказание услуг) муниципальных архивов","02 9 01 06160"]
["Основное мероприятие «Временное хранение, комплектование, учет и использование архивных документов, относящихся к собственности Московской области и временно хранящихся в муниципальных архивах»","02 9 02 00000"]
["Обеспечение переданных полномочий по временному хранению, комплектованию, учету и использованию архивных документов, относящихся к собственности Московской области и временно хранящихся в муниципальных архивах","02 9 02 60690"]
["Муниципальная программа «Образование»                    ","03 0 00 00000"]
["Подпрограмма \"Общее образование\"","03 1 00 00000"]
["Основное мероприятие \"Финансовое обеспечение деятельности образовательных организаций\"","03 1 01 00000"]
["Расходы на обеспечение деятельности (оказание услуг) муниципальных учреждений - дошкольные образовательные организации","03 1 01 06040"]
["Расходы на обеспечение деятельности (оказание услуг) муниципальных учреждений - дошкольные образовательные организации (выполнение муниципального задания)","03 1 01 06041"]
["Расходы на обеспечение деятельности (оказание услуг) муниципальных учреждений - дошкольные образовательные организации (мероприятия в сфере образования)","03 1 01 06042"]
["Выплата компенсации  родительской платы за присмотр  и  уход  за  детьми,  осваивающими  образовательные  программы  дошкольного  образования  в  организациях  Московской  области,  осуществляющих  образовательную  деятельность","03 1 01 62140"]
["Расходы на обеспечение деятельности (оказание услуг) муниципальных учреждений - общеобразовательные организации, оказывающие услуги дошкольного, начального общего, основного общего, среднего общего образования","03 1 01 06050"]
["Расходы на обеспечение деятельности (оказание услуг) муниципальных учреждений - общеобразовательные организации, оказывающие услуги дошкольного, начального общего, основного общего, среднего общего образования (выполнение муниципального задания)","03 1 01 06051"]
["Расходы на обеспечение деятельности (оказание услуг) муниципальных учреждений - общеобразовательные организации, оказывающие услуги дошкольного, начального общего, основного общего, среднего общего образования (мероприятия в сфере образования)","03 1 01 06052"]
["Ежемесячное денежное вознаграждение за классное руководство педагогическим работникам государственных и муниципальных общеобразовательных организаций (Финансовое обеспечение государственных гарантий реализации прав на получение общедоступного и бесплатного дошкольного образования в муниципальных дошкольных образовательных организациях, общедоступного и бесплатного дошкольного, начального общего, основного общего, среднего общего образования в муниципальных общеобразовательных организациях, обеспечение дополнительного образования детей в муниципальных общеобразовательных организациях, включая расходы на оплату труда, приобретение учебников и учебных пособий, средств обучения, игр, игрушек (за исключением расходов на содержание зданий и оплату коммунальных услуг)","03 1 01 53031"]
["Финансовое обеспечение государственных гарантий реализации прав на получение общедоступного и бесплатного дошкольного образования в муниципальных дошкольных образовательных организациях, общедоступного и бесплатного дошкольного, начального общего, основного общего, среднего общего образования в муниципальных общеобразовательных организациях, обеспечение дополнительного образования детей в муниципальных общеобразовательных организациях, включая расходы на оплату труда, приобретение учебников и учебных пособий, средств обучения, игр, игрушек (за исключением расходов на содержание зданий и оплату коммунальных услуг)","03 1 01 62010"]
["Основное мероприятие \"Реализация федеральных государственных образовательных стандартов общего образования, в том числе мероприятий по нормативному правовому и методическому сопровождению, обновлению содержания и технологий образования\"","03 1 02 00000"]
["Компенсация проезда к месту учебы и обратно отдельным категориям обучающихся по очной форме обучения муниципальных общеобразовательных организаций","03 1 02 62230"]
["Организация бесплатного горячего питания обучающихся, получающих начальное общее образование в муниципальных образовательных организациях","03 1 02 L3040"]
["Организация питания обучающихся, получающих основное и среднее общее образование, и отдельных категорий обучающихся, получающих начальное общее образование, в муниципальных общеобразовательных организациях","03 1 02 S2870"]
["Основное мероприятие «Обеспечение и проведение государственной итоговой аттестации обучающихся, освоивших образовательные программы основного общего и среднего общего образования, в том числе в форме единого государственного экзамена»","03 1 04 00000"]
["Расходы на обеспечение деятельности (оказание услуг) муниципальных учреждений - общеобразовательные организации, оказывающие услуги дошкольного, начального общего, основного общего, среднего общего образования","03 1 04 06050"]
["Основное мероприятие «Модернизация школьных систем образования в рамках государственной программы Российской Федерации «Развитие образования»","03 1 08 00000"]
["Реализация мероприятий по модернизации школьных систем образования (проведение работ по капитальному ремонту зданий региональных (муниципальных) общеобразовательных организаций)","03 1 08 L7501"]
["Реализация мероприятий по модернизации школьных систем образования (оснащение отремонтированных зданий общеобразовательных организаций средствами обучения и воспитания)","03 1 08 L7502"]
["Благоустройство территорий муниципальных общеобразовательных организаций, в зданиях которых выполнен капитальный ремонт","03 1 08 S2950"]
["Разработка проектно-сметной документации на проведение капитального ремонта зданий муниципальных общеобразовательных организаций","03 1 08 S3800"]
["Федеральный проект «Современная школа»","03 1 E1 00000"]
["Создание и обеспечение функционирования центров образования естественно-научной и технологической направленностей в общеобразовательных организациях, расположенных в сельской местности и малых городах","03 1 E1 51690"]
["Обновление материально-технической базы в организациях, осуществляющих образовательную деятельность исключительно по адаптированным основным общеобразовательным программам","03 1 E1 51870"]
["Подпрограмма \"Дополнительное образование, воспитание и психолого-социальное сопровождение детей\"","03 2 00 00000"]
["Основное мероприятие \"Финансовое обеспечение деятельности организаций дополнительного образования\"","03 2 02 00000"]
["Расходы на обеспечение деятельности (оказание услуг) муниципальных учреждений - организации дополнительного образования","03 2 02 06060"]
["Расходы на обеспечение деятельности (оказание услуг) муниципальных учреждений - организации дополнительного образования (выполнение муниципального задания )","03 2 02 06061"]
["Расходы на обеспечение деятельности (оказание услуг) муниципальных учреждений - организации дополнительного образования (мероприятия в сфере образования)","03 2 02 06062"]
["Основное мероприятие \"Обеспечение функционирования модели персонифицированного финансирования дополнительного образования детей\"","03 2 04 00000"]
["Внедрение и обеспечение функционирования модели персонифицированного финансирования дополнительного образования детей","03 2 04 00940"]
["Федеральный проект «Патриотическое воспитание граждан Российской Федерации»"," 03 2 EВ 00000"]
["Обеспечение оснащения муниципальных общеобразовательных организаций, в том числе структурных подразделений указанных организаций, государственными символами Российской Федерации","03 2 EВ 57860"]
["Подпрограмма \"Обеспечивающая подпрограмма\"","03 4 00 00000"]
["Основное мероприятие «Создание условий для реализации полномочий органов местного самоуправления»","03 4 01 00000"]
["Обеспечение деятельности органов местного самоуправления","03 4 01 00130"]
["Обеспечение деятельности органов местного самоуправления (расходы на обеспечение деятельности органов местного самоуправления)","03 4 01 00131"]
["Обеспечение деятельности органов местного самоуправления (расходы на содержание лиц, замещающих должности не являющиеся должностями муниципальной службы)","03 4 01 00132"]
["Обеспечение деятельности органов местного самоуправления (расходы на содержание лиц, замещающих должности муниципальной службы)","03 4 01 00133"]
["Мероприятия в сфере образования","03 4 01 00950"]
["Муниципальная программа «Социальная защита населения»                    ","04 0 00 00000"]
["Подпрограмма «Социальная поддержка граждан»","04 1 00 00000"]
["Основное мероприятие \"Предоставление государственных гарантий муниципальным служащим, поощрение за муниципальную службу\"","04 1 15 00000"]
["Предоставление доплаты за выслугу лет к трудовой пенсии муниципальным служащим за счет средств местного бюджета","04 1 15 00840"]
["Подпрограмма «Развитие системы отдыха и оздоровления детей»","04 2 00 00000"]
["Основное мероприятие \"Мероприятия по организации отдыха детей в каникулярное время\"","04 2 03 00000"]
["Мероприятия по организации отдыха детей в каникулярное время","04 2 03 S2190"]
["Мероприятия по организации отдыха детей в каникулярное время (организация  отдыха  детей  и  подростков  в  санаторно-курортных  учреждениях  и  загородных  оздоровительных  лагерях)","04 2 03 S2191"]
["Мероприятия по организации отдыха детей в каникулярное время (организация  отдыха  детей  и  подростков  в   лагерях  с  дневным  пребыванием) ","04 2 03 S2192"]
["Обеспечивающая подпрограмма","04 5 00 00000"]
["Основное мероприятие «Иные мероприятия, реализуемые в целях создания условий для реализации полномочий органов государственной власти Московской области и государственных органов Московской области»","04 5 03 00000"]
["Обеспечение переданного государственного полномочия Московской области по созданию комиссий по делам несовершеннолетних и защите их прав муниципальных образований Московской области","04 5 03 60680"]
["Подпрограмма «Развитие и поддержка социально ориентированных некоммерческих организаций\" ","04 6 00 00000"]
["Основное мероприятие «Развитие негосударственного сектора социального обслуживания»","04 6 01 00000"]
["Оказание поддержки общественным объединениям инвалидов, а также территориальным подразделениям, созданным общероссийскими общественными объединениями инвалидов","04 6 01 00880"]
["Подпрограмма \"Обеспечение доступности для инвалидов и маломобильных групп населения объектов инфраструктуры и услуг\"","04 7 00 00000"]
["Основное мероприятие \"Обеспечение доступности для инвалидов и маломобильных групп населения объектов инфраструктуры (за исключением сфер культуры, образования, спорта)\"","04 7 01 00000"]
["Обеспечение доступности для инвалидов и маломобильных групп населения объектов инфраструктуры (за исключением сфер культуры, образования, спорта)","04 7 01 01770"]
["Муниципальная программа «Спорт»                    ","05 0 00 00000"]
["Подпрограмма «Развитие физической культуры и спорта»","05 1 00 00000"]
["Основное мероприятие «Обеспечение условий для развития на территории городского округа физической культуры, школьного спорта и массового спорта»","05 1 01 00000"]
["Организация и проведение официальных физкультурно-оздоровительных и спортивных мероприятий","05 1 01 00570"]
["Расходы на обеспечение деятельности (оказание услуг) муниципальных учреждений в сфере физической культуры и спорта","05 1 01 06140"]
["Основное мероприятие \"Модернизация и материально-техническое обеспечение объектов физической культуры и спорта, находящихся в собственности муниципальных образований Московской области\"","05 1 03 00000"]
["Проведение капитального ремонта муниципальных объектов физической культуры и спорта","05 1 03 S0770"]
["Укрепление материально-технической базы общеобразовательных организаций, команды которых заняли 1-5 места на соревнованиях «Веселые старты»","05 1 03 S2150"]
["Муниципальная программа «Развитие сельского хозяйства»                    ","06 0 00 00000"]
["Подпрограмма \"Обеспечение эпизоотического и ветеринарно-санитарного благополучия и развитие государственной ветеринарной службы\"","06 4 00 00000"]
["Основное мероприятие \"Сохранение ветеринарно-санитарного благополучия\"","06 4 01 00000"]
["Осуществление переданных полномочий Московской области по организации мероприятий при осуществлении деятельности по обращению с собаками без владельцев","06 4 01 60870"]
["Муниципальная программа \"Экология и окружающая среда\"","07 0 00 00000"]
["Подпрограмма \"Охрана окружающей среды\"","07 1 00 00000"]
["Основное мероприятие \"Проведение обследований состояния окружающей среды\"","07 1 01 00000"]
["Организация мероприятий по охране окружающей среды в границах городского округа","07 1 01 00370"]
["Муниципальная программа «Безопасность и обеспечение безопасности жизнедеятельности населения»                    ","08 0 00 00000"]
["Подпрограмма «Профилактика преступлений и иных правонарушений»","08 1 00 00000"]
["Основное мероприятие «Обеспечение деятельности общественных объединений правоохранительной направленности»","08 1 02 00000"]
["Оказание поддержки гражданам и их объединениям, участвующим в охране общественного порядка, создание условий для деятельности народных дружин","08 1 02 00780"]
["Основное мероприятие «Реализация мероприятий по обеспечению общественного порядка и общественной безопасности, профилактике проявлений экстремизма»","08 1 03 00000"]
["Участие в профилактике терроризма и экстремизма, а также в минимизации и (или) ликвидации последствий проявлений терроризма и экстремизма в границах городского округа","08 1 03 00300"]
["Основное мероприятие «Развертывание элементов системы технологического обеспечения региональной общественной безопасности и оперативного управления «Безопасный регион»","08 1 04 00000"]
["Осуществление мероприятий в сфере профилактики правонарушений","08 1 04 00900"]
["Основное мероприятие \"Развитие похоронного дела\"","08 1 07 00000"]
["Организация ритуальных услуг","08 1 07 00480"]
["Содержание мест захоронения","08 1 07 00590"]
["Расходы на обеспечение деятельности (оказание услуг) муниципальных учреждений в сфере похоронного дела","08 1 07 06250"]
["Осуществление переданных полномочий Московской области по транспортировке в морг, включая погрузоразгрузочные работы, с мест обнаружения или происшествия умерших для производства судебно-медицинской экспертизы","08 1 07 62820"]
["Подпрограмма \"Обеспечение мероприятий по защите населения и территории от чрезвычайных ситуаций\"","08 2 00 00000"]
["Основное мероприятие \"Развитие и эксплуатация Системы-112 на территории Московской области\"","08 2 01 00000"]
["Содержание и развитие Системы-112, ЕДДС","08 2 01 01850"]
["Основное мероприятие \"Создание резервов материальных ресурсов для ликвидации чрезвычайных ситуаций\"","08 2 02 00000"]
["Участие в предупреждении и ликвидации последствий чрезвычайных ситуаций в границах городского округа","08 2 02 00340"]
["Основное мероприятие \"Реализация мероприятий по подготовке населения и специалистов и должностных лиц в области гражданской обороны, защиты населения и территории от чрезвычайных ситуаций природного и техногенного характера\"","08 2 03 00000"]
["Участие в предупреждении и ликвидации последствий чрезвычайных ситуаций в границах городского округа","08 2 03 00340"]
["Подпрограмма \"Обеспечение мероприятий гражданской обороны на территории муниципального образования Московской области\"","08 3 00 00000"]
["Основное мероприятие «Создание, развитие и поддержание в постоянной готовности систем оповещения населения об опасностях, возникающих при военных конфликтах или вследствие этих конфликтов, а также при чрезвычайных ситуациях природного и техногенного характера (происшествий) на территории муниципального образования  Московской области»","08 3 01 00000"]
["Поддержка в состоянии постоянной готовности к использованию систем оповещения населения об опасности, объектов гражданской обороны","08 3 01 00690"]
["Основное мероприятие «Развитие и совершенствование материально-технической базы учреждений в сфере гражданской обороны и защиты населения и территорий от чрезвычайных ситуаций»","08 3 03 00000"]
["Организация и осуществление мероприятий по территориальной обороне и гражданской обороне","08 3 03 00670"]
["Подпрограмма «Обеспечение пожарной безопасности на территории муниципального образования Московской области»","08 4 00 00000"]
["Основное мероприятие \"Повышение степени пожарной безопасности на территории муниципального образования Московской области\"","08 4 01 00000"]
["Обеспечение первичных мер пожарной безопасности в границах городского округа","08 4 01 00360"]
["Подпрограмма \"Обеспечение безопасности населения на водных объектах, расположенных на территории муниципального образования Московской области\"","08 5 00 00000"]
["Основное мероприятие \"Выполнение мероприятий по безопасности населения на водных объектах, расположенных на территории Московской области\"","08 5 01 00000"]
["Осуществление мероприятий по обеспечению безопасности людей на водных объектах, охране их жизни и здоровья","08 5 01 00730"]
["Обеспечивающая подпрограмма","08 6 00 00000"]
["Основное мероприятие «Создание условий для реализации полномочий органов местного самоуправления»","08 6 01 00000"]
["Содержание и развитие муниципальных экстренных оперативных служб ","08 6 01 01020"]
["Создание, оснащение, модернизация, развитие и эксплуатация имущества экстренных оперативных служб (ЕДДС и системы 112)","08 6 01 01820"]
["Муниципальная программа «Жилище»                    ","09 0 00 00000"]
["Подпрограмма «Обеспечение жильем молодых семей»","09 2 00 00000"]
["Основное мероприятие \"Оказание государственной поддержки молодым семьям в виде социальных выплат на приобретение жилого помещения или создание объекта индивидуального жилищного строительства\"","09 2 01 00000"]
["Реализация мероприятий по обеспечению жильем молодых семей","09 2 01 L4970"]
["Подпрограмма \"Обеспечение жильем детей-сирот и детей, оставшихся без попечения родителей, лиц из числа детей-сирот и детей, оставшихся без попечения родителей\"","09 3 00 00000"]
["Основное мероприятие \"Оказание государственной поддержки в решении жилищной проблемы детей-сирот и детей, оставшихся без попечения родителей, лиц из числа детей-сирот и детей, оставшихся без попечения родителей\"","09 3 01 00000"]
["Предоставление жилых помещений детям-сиротам и детям, оставшимся без попечения родителей, лицам из числа детей-сирот и детей, оставшихся без попечения родителей, по договорам найма специализированных жилых помещений","09 3 01 60820"]
["Подпрограмма \"Обеспечение жильем отдельных категорий граждан за счет средств федерального бюджета\"","09 6 00 00000"]
["Основное мероприятие \"Оказание государственной поддержки по обеспечению жильем отдельных категорий граждан, установленных федеральными законами от 12 января 1995 года № 5-ФЗ \"О ветеранах\" и от 24 ноября 1995 года № 181-ФЗ \"О социальной защите инвалидов в Российской Федерации\"","09 6 02 00000"]
["Осуществление полномочий по обеспечению жильем отдельных категорий граждан, установленных Федеральным законом от 24 ноября 1995 года № 181-ФЗ \"О социальной защите инвалидов в Российской Федерации\"","09 6 02 51760"]
["Муниципальная программа «Развитие инженерной инфраструктуры, энергоэффективности и отрасли обращения с отходами»   ","10 0 00 00000"]
["Подпрограмма \"Объекты теплоснабжения, инженерные коммуникации\"","10 3 00 00000"]
["Основное мероприятие «Строительство, реконструкция, капитальный ремонт объектов теплоснабжения на территории муниципальных образований Московской области»","10 3 01 00000"]
["Строительство и реконструкция объектов теплоснабжения за счет средств местного бюджета","10 3 01 74730"]
["Строительство и реконструкция объектов теплоснабжения за счет средств местного бюджета (Реконструкция котельной № 1 г.Лыткарино (в т.ч. ПИР)","10 3 01 74731"]
["Строительство и реконструкция объектов теплоснабжения","10 3 01 S4730"]
["Строительство и реконструкция объектов теплоснабжения (Реконструкция котельной № 1 г.Лыткарино (в т.ч. ПИР)","10 3 01 S4731"]
["Подпрограмма \"Реализация полномочий в сфере жилищно-коммунального хозяйства\"","10 8 00 00000"]
["Основное мероприятие \"Создание экономических условий для повышения эффективности работы организаций жилищно-коммунального хозяйства Московской области\"","10 8 01 00000"]
["Реализация отдельных мероприятий муниципальных программ","10 8 01 61430"]
["Основное мероприятие \"Финансовое обеспечение расходов, направленных на осуществление полномочий в сфере жилищно-коммунального хозяйства\"","10 8 02 00000"]
["Осуществление переданных органам местного самоуправления полномочий по региональному государственному жилищному контролю (надзору) за соблюдением гражданами требований правил пользования газом","10 8 02 61930"]
["Муниципальная программа «Управление имуществом и муниципальными финансами»   ","12 0 00 00000"]
["Подпрограмма «Эффективное управление имущественным комплексом»","12 1 00 00000"]
["Основное мероприятие «Управление имуществом, находящимся в муниципальной собственности, и выполнение кадастровых работ»","12 1 02 00000"]
["Владение, пользование и распоряжение имуществом, находящимся в муниципальной собственности городского округа","12 1 02 00170"]
["Взносы на капитальный ремонт общего имущества многоквартирных домов","12 1 02 00180"]
["Основное мероприятие «Создание условий для реализации государственных полномочий в области земельных отношений»","12 1 03 00000"]
["Осуществление государственных полномочий Московской области в области земельных отношений","12 1 03 60830"]
["Основное мероприятие \"Создание условий для реализации полномочий органов местного самоуправления\"","12 1 04 00000"]
["Обеспечение деятельности органов местного самоуправления","12 1 04 00130"]
["Обеспечение деятельности органов местного самоуправления (расходы на обеспечение деятельности органов местного самоуправления)","12 1 04 00131"]
["Обеспечение деятельности органов местного самоуправления (расходы  на  содержание  лиц,  замещающих должности, не являющиеся должностями муниципальной  службы)","12 1 04 00132"]
["Обеспечение деятельности органов местного самоуправления (расходы  на  содержание  лиц,  замещающих должности  муниципальной  службы)","12 1 04 00133"]
["Подпрограмма «Управление муниципальным долгом»","12 3 00 00000"]
["Основное мероприятие «Реализация мероприятий в рамках управления муниципальным долгом»","12 3 01 00000"]
["Обслуживание муниципального долга ","12 3 01 00800"]
["Обеспечивающая подпрограмма   ","12 5 00 00000"]
["Основное мероприятие «Создание условий для реализации полномочий органов местного самоуправления» ","12 5 01 00000"]
["Функционирование высшего должностного лица","12 5 01 00110"]
["Обеспечение деятельности администрации","12 5 01 00120"]
["Обеспечение деятельности администрации (расходы на обеспечение деятельности органов местного самоуправления)","12 5 01 00121"]
["Обеспечение деятельности администрации (расходы  на  содержание  лиц,  замещающих должности, не являющиеся должностями муниципальной  службы)","12 5 01 00122"]
["Обеспечение деятельности администрации (расходы  на  содержание  лиц,  замещающих должности  муниципальной  службы)","12 5 01 00123"]
["Обеспечение деятельности финансового органа","12 5 01 00160"]
["Обеспечение деятельности финансового органа (расходы на обеспечение деятельности органов местного самоуправления)","12 5 01 00161"]
["Обеспечение деятельности финансового органа (расходы  на  содержание  лиц,  замещающих должности, не являющиеся должностями муниципальной  службы)","12 5 01 00162"]
["Обеспечение деятельности финансового органа (расходы  на  содержание  лиц,  замещающих должности  муниципальной  службы)","12 5 01 00163"]
["Организация и осуществление мероприятий по мобилизационной подготовке ","12 5 01 00720"]
["Взносы в общественные организации","12 5 01 00870"]
["Расходы на обеспечение деятельности (оказание услуг) муниципальных учреждений - централизованная бухгалтерия муниципального образования","12 5 01 06070"]
["Расходы на обеспечение деятельности (оказание услуг) муниципальных учреждений - обеспечение деятельности органов местного самоуправления","12 5 01 06090"]
["Расходы на обеспечение деятельности (оказание услуг) муниципальных учреждений - обеспечение деятельности органов местного самоуправления( \"Управление обеспечения деятельности Администрации города Лыткарино\")","12 5 01 06092"]
["Расходы на обеспечение деятельности (оказание услуг) муниципальных учреждений - обеспечение деятельности органов местного самоуправления (\"Комитет  по  делам  культуры, молодежи,спорта  и  туризма  г.Лыткарино\")","12 5 01 06093"]
["Расходы на обеспечение деятельности (оказание услуг) муниципальных учреждений - обеспечение деятельности органов местного самоуправления( МБУ\"ЛАТП- автотранспортное обслуживание\")","12 5 01 06094"]
["Обеспечение деятельности муниципальных казенных учреждений в сфере закупок товаров, работ, услуг","12 5 01 01680"]
["Основное мероприятие \"Мероприятия, реализуемые в целях создания условий для реализации полномочий органов местного самоуправления\"","12 5 03 00000"]
["Организация профессионального образования и дополнительного профессионального образования выборных должностных лиц местного самоуправления, членов выборных органов местного самоуправления, депутатов представительных органов муниципальных образований, муниципальных служащих и работников муниципальных учреждений, организация подготовки кадров для муниципальной службы","12 5 03 00830"]
["Муниципальная программа  «Развитие институтов гражданского общества, повышение эффективности местного самоуправления и реализации молодежной политики»","13 0 00 00000"]
["Подпрограмма «Развитие системы информирования населения о деятельности органов местного самоуправления городских округов Московской области, создание доступной современной медиасреды»","13 1 00 00000"]
["Основное мероприятие «Информирование населения об основных событиях социально-экономического развития и общественно-политической жизни»","13 1 01 00000"]
["Информирование населения о деятельности, о положении дел на территории  муниципального образования, опубликование муниципальных правовых актов, обсуждение проектов муниципальных правовых актов по вопросам местного значения, доведение до сведения жителей муниципального образования официальной информации о социально-экономическом и культурном развитии муниципального образования, о развитии его общественной инфраструктуры и иной официальной информации","13 1 01 00820"]
["Основное мероприятие «Организация создания и эксплуатации сети объектов наружной рекламы»","13 1 07 00000"]
["Утверждение схемы размещения рекламных конструкций, выдача разрешений на установку и эксплуатацию рекламных конструкций, выдача предписаний о демонтаже самовольно установленных рекламных конструкций","13 1 07 00660"]
["Подпрограмма «Молодежь Подмосковья»","13 4 00 00000"]
["Основное мероприятие «Вовлечение молодежи в общественную жизнь»","13 4 01 00000"]
["Организация и осуществление мероприятий по работе с детьми и молодежью в городском округе","13 4 01 00770"]
["Основное мероприятие \"Организация и проведение мероприятий по профориентации и реализации трудового и творческого потенциала молодежи, вовлечению молодежи в инновационную деятельность, научно-техническое творчество и предпринимательство, а также по поддержке молодежных творческих инициатив и медиасообществ\"","13 4 02 00000"]
["Организация и осуществление мероприятий по профориентации и обеспечению занятости молодежи в городском округе","13 4 02 01510"]
["Обеспечивающая подпрограмма","13 6 00 00000"]
["Основное мероприятие «Осуществление первичного воинского учета»","13 6 03 00000"]
["Осуществление первичного воинского учета органами местного самоуправления поселений, муниципальных и городских округов","13 6 03 51180"]
["Основное мероприятие «Корректировка списков кандидатов в присяжные заседатели федеральных судов общей юрисдикции в Российской Федерации»","13 6 04 00000"]
["Осуществление полномочий по составлению (изменению) списков кандидатов в присяжные заседатели федеральных судов общей юрисдикции в Российской Федерации","13 6 04 51200"]
["Муниципальная программа «Развитие и функционирование дорожно-транспортного комплекса»                ","14 0 00 00000"]
["Подпрограмма «Пассажирский транспорт общего пользования»","14 1 00 00000"]
["Основное мероприятие \"Организация транспортного обслуживания населения\"","14 1 02 00000"]
["Создание условий для предоставления транспортных услуг населению и организация транспортного обслуживания населения в границах городского округа (в части автомобильного транспорта)"," 14 1 02 00280"]
["Создание условий для предоставления транспортных услуг населению и организация транспортного обслуживания населения в границах городского округа (в части автомобильного транспорта) (маршруты №1 и №2) "," 14 1 02 00281"]
["Создание условий для предоставления транспортных услуг населению и организация транспортного обслуживания населения в границах городского округа (в части автомобильного транспорта) (транспортное обеспечение мероприятий) "," 14 1 02 00282"]
["Подпрограмма «Дороги Подмосковья»","14 2 00 00000"]
["Основное мероприятие «Ремонт, капитальный ремонт сети автомобильных дорог, мостов и путепроводов местного значения»","14 2 04 00000"]
["Дорожная деятельность в отношении автомобильных дорог местного значения в границах городского округа","14 2 04 00200"]
["Мероприятия по обеспечению безопасности дорожного движения","14 2 04 00210"]
["Софинансирование работ по капитальному ремонту и ремонту автомобильных дорог общего пользования местного значения","14 2 04 S0240"]
["Обеспечивающая подпрограмма","14 5 00 00000"]
["Основное мероприятие «Создание условий для реализации полномочий органов местного самоуправления» ","14 5 01 00000"]
["Расходы на обеспечение деятельности (оказание услуг) муниципальных учреждений в сфере дорожного хозяйства","14 5 01 06230"]
["Муниципальная программа «Цифровое муниципальное образование»                                   ","15 0 00 00000"]
["Подпрограмма «Повышение качества и доступности предоставления государственных и муниципальных услуг на базе многофункциональных центров предоставления государственных и муниципальных услуг»","15 1 00 00000"]
["Основное мероприятие \"Совершенствование системы предоставления государственных и муниципальных услуг по принципу одного окна в многофункциональных центрах предоставления государственных и муниципальных услуг\"","15 1 02 00000"]
["Техническая поддержка программно-технических комплексов для оформления паспортов гражданина Российской Федерации, удостоверяющих личность гражданина Российской Федерации за пределами территории Российской Федерации в многофункциональных центрах предоставления государственных и муниципальных услуг","15 1 02 S0860"]
["Подпрограмма «Развитие информационной и технологической инфраструктуры экосистемы цифровой экономики муниципального образования Московской области»","15 2 00 00000"]
["Основное мероприятие  «Информационная инфраструктура»","15 2 01 00000"]
["Развитие информационной инфраструктуры","15 2 01 01150"]
["Основное мероприятие «Информационная безопасность»","15 2 02 00000"]
["Информационная безопасность","15 2 02 01160"]
["Основное мероприятие «Цифровое государственное управление»","15 2 03 00000"]
["Цифровое государственное управление","15 2 03 01170"]
["Федеральный проект \"Цифровая образовательная среда\"","15 2 E4 00000"]
["Обеспечение образовательных организаций материально-технической базой для внедрения цифровой образовательной среды","15 2 E4 52100"]
["Обновление и техническое обслуживание (ремонт) средств (программного обеспечения и оборудования), приобретённых в рамках субсидии на внедрение целевой модели цифровой образовательной среды в общеобразовательных организациях, на государственную поддержку образовательных организаций в целях оснащения (обновления) их компьютерным, мультимедийным, презентационным оборудованием и программным обеспечением в рамках эксперимента по модернизации начального общего, основного общего и среднего общего образования","15 2 E4 S1690"]
["Обеспечивающая подпрограмма","15 3 00 00000"]
["Основное мероприятие \"Создание условий для реализации полномочий органов местного самоуправления\"","15 3 01 00000"]
["Расходы на обеспечение деятельности (оказание услуг) муниципальных учреждений - многофункциональный центр  предоставления государственных и муниципальных услуг ","15 3 01 06190"]
["Муниципальная программа «Архитектура и градостроительство»","16 0 00 00000"]
["Подпрограмма «Реализация политики пространственного развития городского округа»","16 2 00 00000"]
["Основное мероприятие \"Финансовое обеспечение выполнения отдельных государственных полномочий в сфере архитектуры и градостроительства, переданных органам местного самоуправления муниципальных образований\"","16 2 04 00000"]
["Осуществление отдельных государственных полномочий в части присвоения адресов объектам адресации и согласования перепланировки помещений в многоквартирном доме","16 2 04 60700"]
["Муниципальная программа «Формирование современной комфортной городской среды»   ","17 0 00 00000"]
["Подпрограмма «Комфортная городская среда»","17 1 00 00000"]
["Основное мероприятие \"Благоустройство общественных территорий муниципальных образований Московской области\"","17 1 01 00000"]
["Обустройство и установка детских игровых площадок на территории муниципальных образований ","17 1 01 S1580"]
["Устройство систем наружного освещения в рамках реализации проекта «Светлый город»","17 1 01 S2630"]
["Благоустройство лесопарковых зон","17 1 01 S3730"]
["Федеральный проект «Формирование комфортной городской среды»","17 1 F2 00000"]
["Реализация программ формирования современной городской среды в части благоустройства общественных территорий","17 1 F2 55551"]
["Реализация программ формирования современной городской среды в части достижения основного результата по благоустройству общественных территорий (благоустройство скверов)","17 1 F2 55555"]
["Подпрограмма «Создание условий для обеспечения комфортного проживания жителей, в том числе в многоквартирных домах на территории Московской области»","17 2 00 00000"]
["Основное мероприятие «Обеспечение комфортной среды проживания на территории муниципального образования Московской области»","17 2 01 00000"]
["Содержание территорий в нормативном состоянии","17 2 01 00620"]
["Комплексное благоустройство дворовых территорий","17 2 01 01330"]
["Организация наружного освещения","17 2 01 01480"]
["Расходы на обеспечение деятельности (оказание услуг) муниципальных учреждений в сфере благоустройства (МКУ/МБУ/МАУ)","17 2 01 06242"]
["Создание административных комиссий, уполномоченных рассматривать дела об административных правонарушениях в сфере благоустройства","17 2 01 62670"]
["Создание и ремонт пешеходных коммуникаций","17 2 01 S1870"]
["Ямочный ремонт асфальтового покрытия дворовых территорий","17 2 01 S2890"]
["Основное мероприятие «Создание благоприятных условий для проживания граждан в многоквартирных домах, расположенных на территории Московской области»","17 2 02 00000"]
["Проведение капитального ремонта многоквартирных домов","17 2 02 01260"]
["Основное мероприятие «Приведение в надлежащее состояние подъездов в многоквартирных домах»","17 2 03 00000"]
["Ремонт подъездов в многоквартирных домах","17 2 03 S0950"]
["Федеральный проект «Формирование комфортной городской среды»","17 2 F2 00000"]
["Ремонт дворовых территорий","17 2 F2 S2740"]
["Обеспечивающая подпрограмма   ","17 3 00 00000"]
["Основное мероприятие «Создание условий для реализации полномочий органов местного самоуправления» ","17 3 01 00000"]
["Обеспечение деятельности органов местного самоуправления","17 3 01 00130"]
["Обеспечение деятельности органов местного самоуправления (расходы на обеспечение деятельности органов местного самоуправления)","17 3 01 00131"]
["Обеспечение деятельности органов местного самоуправления (расходы  на  содержание  лиц,  замещающих должности, не являющиеся должностями муниципальной  службы)","17 3 01 00132"]
["Обеспечение деятельности органов местного самоуправления (расходы  на  содержание  лиц,  замещающих должности  муниципальной  службы)","17 3 01 00133"]
["Муниципальная программа «Строительство объектов социальной инфраструктуры»","18 0 00 00000"]
["Подпрограмма \"Строительство (реконструкция) объектов образования\"","18 3 00 00000"]
["Основное мероприятие \"Организация строительства (реконструкции) объектов общего образования\"","18 3 02 00000"]
["Капитальные вложения в общеобразовательные организации в целях обеспечения односменного режима обучения","18 3 02 S4480"]
["Капитальные вложения в общеобразовательные организации в целях обеспечения односменного режима обучения (МС(К)ОУ специальная (коррекционная) общеобр.школа N 8 для детей с ОВЗ на 216  мест, г.о. Лыткарино, ул.Пионерская д.12б)","18 3 02 S4481"]
["Муниципальная программа \"Переселение граждан из аварийного жилищного фонда\"","19 0 00 00000"]
["Подпрограмма \"Обеспечение мероприятий по переселению граждан из аварийного жилищного фонда в Московской области\"","19 2 00 00000"]
["Основное мероприятие \"Переселение граждан из аварийного жилищного фонда\"","19 2 02 00000"]
["Обеспечение мероприятий по переселению граждан из аварийного жилищного фонда","19 2 02 S9605"]
["Итого по муниципальным программам: "]
["Руководство и управление в сфере установленных функций органов местного самоуправления","95 0 00 00000"]
["Председатель представительного органа местного самоуправления","95 0 00 00010"]
["Депутат представительного органа местного самоуправления на постоянной основе","95 0 00 00020"]
["Расходы на содержание представительного органа муниципального образования","95 0 00 00030"]
["Расходы на содержание представительного органа муниципального образования( обеспечение деятельности)","95 0 00 00031"]
["Расходы на содержание представительного органа муниципального образования  (расходы  на  содержание  лиц,  замещающих должности, не являющиеся должностями муниципальной  службы)","95 0 00 00032"]
["Расходы на содержание представительного органа муниципального образования (расходы  на  содержание  лиц,  замещающих должности  муниципальной  службы)","95 0 00 00033"]
["Обеспечение деятельности контрольно-счетной палаты ","95 0 00 00150"]
["Обеспечение деятельности контрольно-счетной палаты (обеспечение деятельности)","95 0 00 00151"]
["Обеспечение деятельности контрольно-счетной палаты (расходы  на  содержание  лиц,  замещающих должности, не являющиеся должностями муниципальной  службы)","95 0 00 00152"]
["Обеспечение деятельности контрольно-счетной палаты (расходы  на  содержание  лиц,  замещающих должности  муниципальной  службы)","95 0 00 00153"]
["Обеспечение деятельности контрольно-счетной палаты (расходы  на  содержание  лиц, замещающих муниципальные должности )","95 0 00 00154"]
["Непрограммные расходы ","99 0 00 00000"]
["Резервный фонд администрации ","99 0 00 00060"]
["Резервный фонд на предупреждение и ликвидацию чрезвычайных ситуаций и последствий стихийных бедствий","99 0 00 00070"]
["Оплата исполнительных листов, судебных издержек ","99 0 00 00080"]
["Иные расходы","99 0 00 04000"]
["Иные расходы (обеспечение участия городского округа Лыткарино в государственных программах Московской области)","99 0 00 04006"]

{"sheet":"Р., Пр.2022-2024","index":5,"n_rows":59,"n_cols":6,"rows_kept":59,"cut":false,"hidden":false,"merged":[[1,1,1,5],[2,1,2,5],[3,1,3,5],[9,5,10,5],[4,3,4,4],[7,4,7,7],[6,0,6,5],[9,0,10,0],[9,1,10,1],[9,2,10,2],[9,3,10,3],[9,4,10,4]]}
[]
[null,"Приложение 5"]
[null,"к  бюджету  городского округа  Лыткарино  на  2023 год"]
[null,"и  на плановый  период  2024  и  2025 годов"]
[]
[]
["Расходы  бюджета  городского округа  Лыткарино    \nпо  разделам и подразделам  классификации  расходов  бюджетов\nна  2023 год и плановый период 2024 и 2025 годов "]
[]
[null,null,null,null,null,"(тыс.руб.)"]
["Наименования","Рз","ПР","Сумма  \nна 2023 год","Сумма  \nна 2024 год","Сумма  \nна 2025 год"]
[]
[1,2,3,4,5,6]
["Общегосударственные вопросы","01",null,{"$f":"D14+D15+D16+D17+D18+D19","v":338500},{"$f":"E14+E15+E16+E17+E18+E19","v":320950.09999999998},300099.19999999995]
["  Функционирование высшего должностного лица субъекта Российской Федерации и муниципального образования","01","02",{"$f":"'Функц. 2022-2024'!F13","v":3395.7},{"$f":"'Функц. 2022-2024'!H13","v":3395.7},{"$f":"'Функц. 2022-2024'!J13","v":3395.7}]
["  Функционирование законодательных (представительных) органов государственной власти и представительных органов муниципальных образований","01","03",{"$f":"'Функц. 2022-2024'!F20","v":16011.699999999999},{"$f":"'Функц. 2022-2024'!H20","v":16011.699999999999},{"$f":"'Функц. 2022-2024'!J20","v":16166.699999999999}]
["  Функционирование Правительства Российской Федерации, высших исполнительных органов государственной власти субъектов Российской Федерации, местных администраций","01","04",{"$f":"'Функц. 2022-2024'!F44","v":93540},{"$f":"'Функц. 2022-2024'!H44","v":92911},{"$f":"'Функц. 2022-2024'!J44","v":93079}]
["  Обеспечение  деятельности  финансовых,налоговых  и  таможенных  органов  и  органов  финансового  (финансово-бюджетного)  надзора","01","06",{"$f":"'Функц. 2022-2024'!F101","v":35457},{"$f":"'Функц. 2022-2024'!H101","v":35547},{"$f":"'Функц. 2022-2024'!J101","v":35457}]
["  Резервные фонды","01",11,{"$f":"'Функц. 2022-2024'!F135","v":3530.5},{"$f":"'Функц. 2022-2024'!H135","v":4571.6000000000004},{"$f":"'Функц. 2022-2024'!J135","v":3697.9}]
["  Другие общегосударственные вопросы","01",13,{"$f":"'Функц. 2022-2024'!F143","v":186565.1},{"$f":"'Функц. 2022-2024'!H143","v":168513.1},{"$f":"'Функц. 2022-2024'!J143","v":148302.9}]
["Национальная оборона","02",null,{"$f":"D21+D22","v":4267.3},{"$f":"E21+E22","v":4313.2},{"$f":"F21+F22","v":4462.8}]
["  Мобилизационная  и  вневойсковая  подготовка","02","03",{"$f":"'Функц. 2022-2024'!F227","v":4067.3},{"$f":"'Функц. 2022-2024'!H227","v":4249.2},{"$f":"'Функц. 2022-2024'!J227","v":4398.8}]
["  Мобилизационная  подготовка  экономики","02","04",{"$f":"'Функц. 2022-2024'!F236","v":200},{"$f":"'Функц. 2022-2024'!H236","v":64},{"$f":"'Функц. 2022-2024'!J236","v":64}]
["Национальная безопасность и правоохранительная деятельность","03",null,{"$f":"D24+D26+D25","v":41771.5},{"$f":"E24+E26+E25","v":30686.799999999999},{"$f":"F24+F26+F25","v":31174.799999999999}]
["  Гражданская  оборона","03","09",{"$f":"'Функц. 2022-2024'!F244","v":1300},{"$f":"'Функц. 2022-2024'!H244","v":1300},{"$f":"'Функц. 2022-2024'!J244","v":1300}]
["  Защита населения и территории от чрезвычайных ситуаций природного и техногенного характера,пожарная безопасность","03","10",{"$f":"'Функц. 2022-2024'!F255","v":25033.300000000003},{"$f":"'Функц. 2022-2024'!H255","v":21691},{"$f":"'Функц. 2022-2024'!J255","v":21691}]
["  Другие  вопросы  в  области  национальной  безопасности  и  правоохранительной  деятельности","03",14,{"$f":"'Функц. 2022-2024'!F292","v":15438.199999999999},{"$f":"'Функц. 2022-2024'!H292","v":7695.8},{"$f":"'Функц. 2022-2024'!J292","v":8183.8}]
["Национальная экономика","04",null,{"$f":"D29+D32+D30+D31+D28","v":126971.4},{"$f":"E29+E32+E30+E31+E28","v":66082.5},55514.5]
["  Сельское хозяйство и рыболовство","04","05",{"$f":"'Функц. 2022-2024'!F310","v":1482},{"$f":"'Функц. 2022-2024'!H304","v":1482},{"$f":"'Функц. 2022-2024'!J304","v":1482}]
["  Транспорт","04","08",{"$f":"'Функц. 2022-2024'!F311","v":23132.6},{"$f":"'Функц. 2022-2024'!H311","v":18132.599999999999},{"$f":"'Функц. 2022-2024'!J311","v":18132.599999999999}]
["  Дорожное  хозяйство  (дорожные  фонды)  ","04","09",{"$f":"'Функц. 2022-2024'!F329","v":100573.4},{"$f":"'Функц. 2022-2024'!H329","v":45184.5},{"$f":"'Функц. 2022-2024'!J329","v":34616.5}]
["  Связь и информатика","04",10,{"$f":"'Функц. 2022-2024'!F360","v":934.5},{"$f":"'Функц. 2022-2024'!H360","v":434.5},{"$f":"'Функц. 2022-2024'!J360","v":434.5}]
["  Другие вопросы в области национальной экономики","04",12,{"$f":"'Функц. 2022-2024'!F375","v":848.9},{"$f":"'Функц. 2022-2024'!H375","v":848.9},{"$f":"'Функц. 2022-2024'!J375","v":848.9}]
["Жилищно-коммунальное хозяйство","05",null,{"$f":"D34+D36+D37+D35","v":988787.6},{"$f":"E34+E36+E37+E35","v":361267.60000000003},{"$f":"F34+F36+F37+F35","v":118063.9}]
["  Жилищное хозяйство","05","01",{"$f":"'Функц. 2022-2024'!F386","v":74211.799999999988},{"$f":"'Функц. 2022-2024'!H386","v":17282},{"$f":"'Функц. 2022-2024'!J386","v":17186}]
["  Коммунальное  хозяйство","05","02",{"$f":"'Функц. 2022-2024'!F409","v":48652},{"$f":"'Функц. 2022-2024'!H409","v":55122},{"$f":"'Функц. 2022-2024'!J409","v":50}]
["  Благоустройство","05","03",{"$f":"'Функц. 2022-2024'!F426","v":845020.9},{"$f":"'Функц. 2022-2024'!H426","v":267960.7},{"$f":"'Функц. 2022-2024'!J426","v":79925}]
["  Другие вопросы в области жилищно-коммунального хозяйства","05","05",{"$f":"'Функц. 2022-2024'!F477","v":20902.900000000001},{"$f":"'Функц. 2022-2024'!H477","v":20902.900000000001},{"$f":"'Функц. 2022-2024'!J477","v":20902.900000000001}]
[1,2,3,4,5,6]
["Охрана окружающей среды","06",null,{"$f":"D40","v":25},{"$f":"E40","v":25},25]
["Другие вопросы в области охраны окружающей среды","06","05",{"$f":"'Функц. 2022-2024'!F513","v":25},{"$f":"'Функц. 2022-2024'!H513","v":25},{"$f":"'Функц. 2022-2024'!J513","v":25}]
["Образование","07",null,{"$f":"D42+D43+D45+D46+D44","v":1584637.5000000002},{"$f":"E42+E43+E45+E46+E44","v":1419810.5000000002},{"$f":"F42+F43+F45+F46+F44","v":1412869.8}]
["  Дошкольное образование","07","01",{"$f":"'Функц. 2022-2024'!F515","v":470203},{"$f":"'Функц. 2022-2024'!H515","v":470203},{"$f":"'Функц. 2022-2024'!J515","v":468203}]
["  Общее образование","07","02",{"$f":"'Функц. 2022-2024'!F529","v":959759.20000000019},{"$f":"'Функц. 2022-2024'!H529","v":796636.80000000016},{"$f":"'Функц. 2022-2024'!J529","v":794387.10000000009}]
["  Дополнительное образование детей","07","03",{"$f":"'Функц. 2022-2024'!F593","v":121508.8},{"$f":"'Функц. 2022-2024'!H593","v":124147.8},{"$f":"'Функц. 2022-2024'!J593","v":120508.8}]
["  Молодежная политика ","07","07",{"$f":"'Функц. 2022-2024'!F627","v":1566},{"$f":"'Функц. 2022-2024'!H627","v":1163.7},{"$f":"'Функц. 2022-2024'!J627","v":1163.7}]
["  Другие вопросы в области образования","07","09",{"$f":"'Функц. 2022-2024'!F644","v":31600.5},{"$f":"'Функц. 2022-2024'!H644","v":27659.200000000001},{"$f":"'Функц. 2022-2024'!J644","v":28607.200000000001}]
["Культура,  кинематография","08",null,{"$f":"D48","v":113185.2},{"$f":"E48","v":106521},{"$f":"F48","v":108318}]
["  Культура ","08","01",{"$f":"'Функц. 2022-2024'!F690","v":113185.2},{"$f":"'Функц. 2022-2024'!H690","v":106521},{"$f":"'Функц. 2022-2024'!J690","v":108318}]
["Социальная политика","10",null,{"$f":"D50+D53+D52+D51","v":49594.6},{"$f":"E50+E53+E52+E51","v":60972.2},82893.399999999994]
["  Пенсионное обеспечение",10,"01",{"$f":"'Функц. 2022-2024'!F732","v":7905.0999999999985},{"$f":"'Функц. 2022-2024'!H732","v":7905.1},{"$f":"'Функц. 2022-2024'!J732","v":7905.0999999999985}]
["  Социальное обеспечение населения",10,"03",{"$f":"'Функц. 2022-2024'!F745","v":0},{"$f":"'Функц. 2022-2024'!H745","v":0},{"$f":"'Функц. 2022-2024'!J745","v":2430}]
["  Охрана семьи и детства",10,"04",{"$f":"'Функц. 2022-2024'!F746","v":41619.5},{"$f":"'Функц. 2022-2024'!H746","v":52997.1},{"$f":"'Функц. 2022-2024'!J746","v":72488.3}]
["  Другие  вопросы  в  области  социальной  политики  ",10,"06",{"$f":"'Функц. 2022-2024'!F768","v":70},{"$f":"'Функц. 2022-2024'!H768","v":70},{"$f":"'Функц. 2022-2024'!J768","v":70}]
["Физическая  культура  и  спорт",11,null,{"$f":"D56+D55","v":85831},{"$f":"E56+E55","v":190541},{"$f":"F56+F55","v":112009.7}]
["  Физическая культура",11,"01",{"$f":"'Функц. 2022-2024'!F776","v":82501},{"$f":"'Функц. 2022-2024'!H776","v":82501},{"$f":"'Функц. 2022-2024'!J776","v":82501}]
["  Массовый  спорт",11,"02",{"$f":"'Функц. 2022-2024'!F783","v":3330},{"$f":"'Функц. 2022-2024'!H783","v":108040},{"$f":"'Функц. 2022-2024'!J783","v":29508.7}]
["Обслуживание  государственного (муниципального)  долга",13,null,{"$f":"D58","v":1200},{"$f":"E58","v":11505.1},{"$f":"F58","v":21749.8}]
["Обслуживание государственного (муниципального) внутреннего долга",13,"01",{"$f":"'Функц. 2022-2024'!F799","v":1200},{"$f":"'Функц. 2022-2024'!H804","v":11505.1},{"$f":"'Функц. 2022-2024'!J804","v":21749.8}]
["ВСЕГО",null,null,{"$f":"D57+D54+D49+D47+D41+D33+D27+D23+D20+D13+D39","v":3334771.1},{"$f":"E57+E54+E49+E47+E41+E33+E27+E23+E20+E13+E39","v":2572675.0000000005},{"$f":"F57+F54+F49+F47+F41+F33+F27+F23+F20+F13+F39","v":2247180.9000000004}]

{"sheet":"ведом. 2022-2024","index":6,"n_rows":917,"n_cols":32,"rows_kept":917,"cut":false,"hidden":false,"merged":[[202,34,202,35],[7,35,7,37],[5,35,5,37],[6,35,6,37],[6,0,6,19],[6,23,6,28],[5,0,5,19],[1,27,1,29],[2,29,2,31],[3,27,3,31],[5,23,5,31]]}
[]
[null,null,null,null,null,null,null,null,null,null,null,null,null,null,null,null,null,null,null,null,null,null,null,null,null,null,null,null,null,null,null,"Приложение 3"]
[null,null,null,null,null,null,null,null,null,null,null,null,null,null,null,null,null,null,null,null,null,null,null,null,null,null,null,null,null,"к бюджету городского округа Лыткарино на 2023 год"]
[null,null,null,null,null,null,null,null,null,null,null,null,null,null,null,null,null,null,null,null,null,null,null,null,null,null,null,"и  на плановый  период  2024 и  2025  годов"]
[]
[null,null,null,null,null,null,null,null,null,null,null,null,null,null,null,null,null,null,null,null,null,null,null,"Ведомственная  структура расходов  бюджета  городского округа  Лыткарино   \n на  2023 год и плановый период 2024 и 2025 годов"]
[]
[null,null,null,null,null,null,null,null,null,null,null,null,null,null,null,null,null,null,null,null,null,null,null,"Наименования","Код главного распоря-\nдителя","Рз","ПР","ЦСР","ВР","Сумма  \nна 2023 год\n","Сумма  \nна 2024 год\n","Сумма  \nна 2025 год\n"]
[null,null,null,null,null,null,null,null,null,null,null,null,null,null,null,null,null,null,null,null,null,null,null,1,2,3,4,5,6,7,8,9]
[null,null,null,null,null,null,null,null,null,null,null,null,null,null,null,null,null,null,null,null,null,null,null,"Администрация  городского округа  Лыткарино","001",null,null,null,null,{"$f":"AD11+AD141+AD158+AD218+AD269+AD322+AD361+AD403+AD418+AD436+AD314","v":685351.39999999991},{"$f":"AE11+AE141+AE158+AE218+AE269+AE322+AE361+AE403+AE418+AE436+AE314","v":616536.29999999993},{"$f":"AF11+AF141+AF158+AF218+AF269+AF322+AF361+AF403+AF418+AF436+AF314","v":598774.69999999995}]
[null,null,null,null,null,null,null,null,null,null,null,null,null,null,null,null,null,null,null,null,null,null,null,"Общегосударственные вопросы","001","01",null,null,null,{"$f":"AD12+AD19+AD76+AD84","v":238262},{"$f":"AE12+AE19+AE76+AE84","v":220412.10000000003},{"$f":"AF12+AF19+AF76+AF84","v":199706.2}]
[null,null,null,null,null,null,null,null,null,null,null,null,null,null,null,null,null,null,null,null,null,null,null,"Функционирование высшего должностного лица субъекта Российской Федерации и муниципального образования","001","01","02",null," ",{"$f":"AD13","v":3395.7},3395.7,3395.7]
[null,null,null,null,null,null,null,null,null,null,null,null,null,null,null,null,null,null,null,null,null,null,null,"Муниципальная программа «Управление имуществом и муниципальными финансами»   ","001","01","02","12 0 00 00000",null,{"$f":"AD14","v":3395.7},{"$f":"AE14","v":3395.7},{"$f":"AF14","v":3395.7}]
[null,null,null,null,null,null,null,null,null,null,null,null,null,null,null,null,null,null,null,null,null,null,null,"Обеспечивающая подпрограмма   ","001","01","02","12 5 00 00000",null,3395.7,3395.7,3395.7]
[null,null,null,null,null,null,null,null,null,null,null,null,null,null,null,null,null,null,null,null,null,null,null,"Основное мероприятие «Создание условий для реализации полномочий органов местного самоуправления» ","001","01","02","12 5 01 00000",null,3395.7,3395.7,3395.7]
[null,null,null,null,null,null,null,null,null,null,null,null,null,null,null,null,null,null,null,null,null,null,null,"Функционирование высшего должностного лица","001","01","02","12 5 01 00110",null,{"$f":"AD17","v":3395.7},3395.7,3395.7]
[null,null,null,null,null,null,null,null,null,null,null,null,null,null,null,null,null,null,null,null,null,null,null,"Расходы на выплаты персоналу в целях обеспечения выполнения функций государственными (муниципальными) органами, казенными учреждениями, органами управления государственными внебюджетными фондами ","001","01","02","12 5 01 00110",100,3395.7,3395.7,3395.7]
[null,null,null,null,null,null,null,null,null,null,null,null,null,null,null,null,null,null,null,null,null,null,null,"Расходы на выплаты персоналу государственных (муниципальных) органов","001","01","02","12 5 01 00110",120,3395.7,3395.7,3395.7]
[null,null,null,null,null,null,null,null,null,null,null,null,null,null,null,null,null,null,null,null,null,null,null,"Функционирование Правительства Российской Федерации, высших исполнительных органов государственной власти субъектов Российской Федерации, местных администраций","001","01","04",null,null,{"$f":"AD20+AD32+AD45+AD62+AD68","v":93540},{"$f":"AE20+AE32+AE45+AE62+AE68","v":92911},{"$f":"AF20+AF32+AF45+AF62+AF68","v":93079}]
[null,null,null,null,null,null,null,null,null,null,null,null,null,null,null,null,null,null,null,null,null,null,null,"Муниципальная программа «Культура и туризм»                  ","001","01","04","02 0 00 00000",null,{"$f":"AD21","v":2102},{"$f":"AE21","v":1806},{"$f":"AF21","v":1953}]
[null,null,null,null,null,null,null,null,null,null,null,null,null,null,null,null,null,null,null,null,null,null,null,"Подпрограмма «Развитие архивного дела»","001","01","04","02 9 00 00000",null,{"$f":"AD22+AD26","v":2102},{"$f":"AE22+AE26","v":1806},{"$f":"AF22+AF26","v":1953}]
[null,null,null,null,null,null,null,null,null,null,null,null,null,null,null,null,null,null,null,null,null,null,null,"Основное мероприятие «Хранение, комплектование, учет и использование архивных документов в муниципальных архивах»","001","01","04","02 9 01 00000",null,{"$f":"AD23","v":300},0,145]
[null,null,null,null,null,null,null,null,null,null,null,null,null,null,null,null,null,null,null,null,null,null,null,"Расходы на обеспечение деятельности (оказание услуг) муниципальных архивов","001","01","04","02 9 01 06160",null,300,0,145]
[null,null,null,null,null,null,null,null,null,null,null,null,null,null,null,null,null,null,null,null,null,null,null,"Закупка товаров, работ и услуг для обеспечения государственных (муниципальных) нужд","001","01","04","02 9 01 06160",200,300,0,145]
[null,null,null,null,null,null,null,null,null,null,null,null,null,null,null,null,null,null,null,null,null,null,null,"Иные закупки товаров, работ и услуг для обеспечения государственных (муниципальных) нужд","001","01","04","02 9 01 06160",240,300,0,145]
[null,null,null,null,null,null,null,null,null,null,null,null,null,null,null,null,null,null,null,null,null,null,null,"Основное мероприятие «Временное хранение, комплектование, учет и использование архивных документов, относящихся к собственности Московской области и временно хранящихся в муниципальных архивах»","001","01","04","02 9 02 00000",null,{"$f":"AD27","v":1802},{"$f":"AE27","v":1806},{"$f":"AF27","v":1808}]
[null,null,null,null,null,null,null,null,null,null,null,null,null,null,null,null,null,null,null,null,null,null,null,"Обеспечение переданных полномочий по временному хранению, комплектованию, учету и использованию архивных документов, относящихся к собственности Московской области и временно хранящихся в муниципальных архивах","001","01","04","02 9 02 60690",null,{"$f":"AD28+AD30","v":1802},{"$f":"AE28+AE30","v":1806},{"$f":"AF28+AF30","v":1808}]
[null,null,null,null,null,null,null,null,null,null,null,null,null,null,null,null,null,null,null,null,null,null,null,"Расходы на выплаты персоналу в целях обеспечения выполнения функций государственными (муниципальными) органами, казенными учреждениями, органами управления государственными внебюджетными фондами ","001","01","04","02 9 02 60690",100,{"$f":"AD29","v":1733},{"$f":"AE29","v":1733},{"$f":"AF29","v":1733}]
[null,null,null,null,null,null,null,null,null,null,null,null,null,null,null,null,null,null,null,null,null,null,null,"Расходы на выплаты персоналу государственных (муниципальных) органов","001","01","04","02 9 02 60690",120,1733,1733,1733]
[null,null,null,null,null,null,null,null,null,null,null,null,null,null,null,null,null,null,null,null,null,null,null,"Закупка товаров, работ и услуг для обеспечения государственных (муниципальных) нужд","001","01","04","02 9 02 60690",200,{"$f":"AD31","v":69},{"$f":"AE31","v":73},{"$f":"AF31","v":75}]
[null,null,null,null,null,null,null,null,null,null,null,null,null,null,null,null,null,null,null,null,null,null,null,"Иные закупки товаров, работ и услуг для обеспечения государственных (муниципальных) нужд","001","01","04","02 9 02 60690",240,69,73,75]
[null,null,null,null,null,null,null,null,null,null,null,null,null,null,null,null,null,null,null,null,null,null,null,"Муниципальная программа «Социальная защита населения»                    ","001","01","04","04 0 00 00000",null,{"$f":"AD33+AD40","v":2765},{"$f":"AE33+AE40","v":2432},2453]
[null,null,null,null,null,null,null,null,null,null,null,null,null,null,null,null,null,null,null,null,null,null,null,"Обеспечивающая подпрограмма","001","01","04","04 5 00 00000",null,{"$f":"AD34","v":2335},2362,2383]
[null,null,null,null,null,null,null,null,null,null,null,null,null,null,null,null,null,null,null,null,null,null,null,"Основное мероприятие «Иные мероприятия, реализуемые в целях создания условий для реализации полномочий органов государственной власти Московской области и государственных органов Московской области»","001","01","04","04 5 03 00000",null,2335,2362,2383]
[null,null,null,null,null,null,null,null,null,null,null,null,null,null,null,null,null,null,null,null,null,null,null,"Обеспечение переданного государственного полномочия Московской области по созданию комиссий по делам несовершеннолетних и защите их прав муниципальных образований Московской области","001","01","04","04 5 03 60680",null,{"$f":"AD36+AD38","v":2335},{"$f":"AE36+AE38","v":2362},{"$f":"AF36+AF38","v":2383}]
[null,null,null,null,null,null,null,null,null,null,null,null,null,null,null,null,null,null,null,null,null,null,null,"Расходы на выплаты персоналу в целях обеспечения выполнения функций государственными (муниципальными) органами, казенными учреждениями, органами управления государственными внебюджетными фондами ","001","01","04","04 5 03 60680",100,{"$f":"AD37","v":1998},{"$f":"AE37","v":1998},{"$f":"AF37","v":1998}]
[null,null,null,null,null,null,null,null,null,null,null,null,null,null,null,null,null,null,null,null,null,null,null,"Расходы на выплаты персоналу государственных (муниципальных) органов","001","01","04","04 5 03 60680",120,1998,1998,1998]
[null,null,null,null,null,null,null,null,null,null,null,null,null,null,null,null,null,null,null,null,null,null,null,"Закупка товаров, работ и услуг для обеспечения государственных (муниципальных) нужд","001","01","04","04 5 03 60680",200,{"$f":"AD39","v":337},{"$f":"AE39","v":364},{"$f":"AF39","v":385}]
[null,null,null,null,null,null,null,null,null,null,null,null,null,null,null,null,null,null,null,null,null,null,null,"Иные закупки товаров, работ и услуг для обеспечения государственных (муниципальных) нужд","001","01","04","04 5 03 60680",240,337,364,385]
[null,null,null,null,null,null,null,null,null,null,null,null,null,null,null,null,null,null,null,null,null,null,null,"Подпрограмма \"Обеспечение доступности для инвалидов и маломобильных групп населения объектов инфраструктуры и услуг\"","001","01","04","04 7 00 00000",null,{"$f":"AD41","v":430},{"$f":"AE41","v":70},70]
[null,null,null,null,null,null,null,null,null,null,null,null,null,null,null,null,null,null,null,null,null,null,null,"Основное мероприятие \"Обеспечение доступности для инвалидов и маломобильных групп населения объектов инфраструктуры (за исключением сфер культуры, образования, спорта)\"","001","01","04","04 7 01 00000",null,{"$f":"AD42","v":430},70,70]
[null,null,null,null,null,null,null,null,null,null,null,null,null,null,null,null,null,null,null,null,null,null,null,"Обеспечение доступности для инвалидов и маломобильных групп населения объектов инфраструктуры (за исключением сфер культуры, образования, спорта)","001","01","04","04 7 01 01770",null,{"$f":"AD43","v":430},70,70]
[null,null,null,null,null,null,null,null,null,null,null,null,null,null,null,null,null,null,null,null,null,null,null,"Закупка товаров, работ и услуг для обеспечения государственных (муниципальных) нужд","001","01","04","04 7 01 01770",200,{"$f":"AD44","v":430},70,70]
[null,null,null,null,null,null,null,null,null,null,null,null,null,null,null,null,null,null,null,null,null,null,null,"Иные закупки товаров, работ и услуг для обеспечения государственных (муниципальных) нужд","001","01","04","04 7 01 01770",240,430,70,70]
[null,null,null,null,null,null,null,null,null,null,null,null,null,null,null,null,null,null,null,null,null,null,null,"Муниципальная программа «Управление имуществом и муниципальными финансами»   ","001","01","04","12 0 00 00000",null,{"$f":"AD46","v":82222},{"$f":"AE46","v":82222},82222]
[null,null,null,null,null,null,null,null,null,null,null,null,null,null,null,null,null,null,null,null,null,null,null,"Обеспечивающая подпрограмма   ","001","01","04","12 5 00 00000",null,{"$f":"AD47+AD58","v":82222},{"$f":"AE47+AE58","v":82222},{"$f":"AF47+AF58","v":82222}]
[null,null,null,null,null,null,null,null,null,null,null,null,null,null,null,null,null,null,null,null,null,null,null,"Основное мероприятие «Создание условий для реализации полномочий органов местного самоуправления» ","001","01","04","12 5 01 00000",null,{"$f":"AD48","v":82172},82172,82172]
[null,null,null,null,null,null,null,null,null,null,null,null,null,null,null,null,null,null,null,null,null,null,null,"Обеспечение деятельности администрации","001","01","04","12 5 01 00120",null,{"$f":"AD49+AD52+AD55","v":82172},{"$f":"AE49+AE52+AE55","v":82172},{"$f":"AF49+AF52+AF55","v":82172}]
[null,null,null,null,null,null,null,null,null,null,null,null,null,null,null,null,null,null,null,null,null,null,null,"Обеспечение деятельности администрации (расходы на обеспечение деятельности органов местного самоуправления)","001","01","04","12 5 01 00121",null,{"$f":"AD50","v":8226.7999999999993},{"$f":"AE50","v":8226.7999999999993},8226.7999999999993]
[null,null,null,null,null,null,null,null,null,null,null,null,null,null,null,null,null,null,null,null,null,null,null,"Закупка товаров, работ и услуг для обеспечения государственных (муниципальных) нужд","001","01","04","12 5 01 00121",200,{"$f":"AD51","v":8226.7999999999993},{"$f":"AE51","v":8226.7999999999993},{"$f":"AF51","v":8226.7999999999993}]
[null,null,null,null,null,null,null,null,null,null,null,null,null,null,null,null,null,null,null,null,null,null,null,"Иные закупки товаров, работ и услуг для обеспечения государственных (муниципальных) нужд","001","01","04","12 5 01 00121",240,8226.7999999999993,8226.7999999999993,8226.7999999999993]
[null,null,null,null,null,null,null,null,null,null,null,null,null,null,null,null,null,null,null,null,null,null,null,"Обеспечение деятельности администрации (расходы  на  содержание  лиц,  замещающих должности, не являющиеся должностями муниципальной  службы)","001","01","04","12 5 01 00122",null,{"$f":"AD53","v":25933.7},25933.7,25933.7]
[null,null,null,null,null,null,null,null,null,null,null,null,null,null,null,null,null,null,null,null,null,null,null,"Расходы на выплаты персоналу в целях обеспечения выполнения функций государственными (муниципальными) органами, казенными учреждениями, органами управления государственными внебюджетными фондами ","001","01","04","12 5 01 00122",100,25933.7,25933.7,25933.7]
[null,null,null,null,null,null,null,null,null,null,null,null,null,null,null,null,null,null,null,null,null,null,null,"Расходы на выплаты персоналу государственных (муниципальных) органов","001","01","04","12 5 01 00122",120,25933.7,25933.7,25933.7]
[null,null,null,null,null,null,null,null,null,null,null,null,null,null,null,null,null,null,null,null,null,null,null,"Обеспечение деятельности администрации (расходы  на  содержание  лиц,  замещающих должности  муниципальной  службы)","001","01","04","12 5 01 00123",null,{"$f":"AD56","v":48011.5},48011.5,48011.5]
[null,null,null,null,null,null,null,null,null,null,null,null,null,null,null,null,null,null,null,null,null,null,null,"Расходы на выплаты персоналу в целях обеспечения выполнения функций государственными (муниципальными) органами, казенными учреждениями, органами управления государственными внебюджетными фондами ","001","01","04","12 5 01 00123",100,48011.5,48011.5,48011.5]
[null,null,null,null,null,null,null,null,null,null,null,null,null,null,null,null,null,null,null,null,null,null,null,"Расходы на выплаты персоналу государственных (муниципальных) органов","001","01","04","12 5 01 00123",120,48011.5,48011.5,48011.5]
[null,null,null,null,null,null,null,null,null,null,null,null,null,null,null,null,null,null,null,null,null,null,null,"Основное мероприятие \"Мероприятия, реализуемые в целях создания условий для реализации полномочий органов местного самоуправления\"","001","01","04","12 5 03 00000",null,{"$f":"AD59","v":50},{"$f":"AE59","v":50},50]
[null,null,null,null,null,null,null,null,null,null,null,null,null,null,null,null,null,null,null,null,null,null,null,"Организация профессионального образования и дополнительного профессионального образования выборных должностных лиц местного самоуправления, членов выборных органов местного самоуправления, депутатов представительных органов муниципальных образований, муниципальных служащих и работников муниципальных учреждений, организация подготовки кадров для муниципальной службы","001","01","04","12 5 03 00830",null,{"$f":"AD60","v":50},50,50]
[null,null,null,null,null,null,null,null,null,null,null,null,null,null,null,null,null,null,null,null,null,null,null,"Закупка товаров, работ и услуг для обеспечения государственных (муниципальных) нужд","001","01","04","12 5 03 00830",200,{"$f":"AD61","v":50},50,50]
[null,null,null,null,null,null,null,null,null,null,null,null,null,null,null,null,null,null,null,null,null,null,null,"Иные закупки товаров, работ и услуг для обеспечения государственных (муниципальных) нужд","001","01","04","12 5 03 00830",240,50,50,50]
[null,null,null,null,null,null,null,null,null,null,null,null,null,null,null,null,null,null,null,null,null,null,null,"Муниципальная программа  «Развитие институтов гражданского общества, повышение эффективности местного самоуправления и реализации молодежной политики»","001","01","04","13 0 00 00000",null,{"$f":"AD63","v":6252},6252,6252]
[null,null,null,null,null,null,null,null,null,null,null,null,null,null,null,null,null,null,null,null,null,null,null,"Подпрограмма «Развитие системы информирования населения о деятельности органов местного самоуправления городских округов Московской области, создание доступной современной медиасреды»","001","01","04","13 1 00 00000",null,6252,6252,6252]
[null,null,null,null,null,null,null,null,null,null,null,null,null,null,null,null,null,null,null,null,null,null,null,"Основное мероприятие «Информирование населения об основных событиях социально-экономического развития и общественно-политической жизни»","001","01","04","13 1 01 00000",null,6252,6252,6252]
[null,null,null,null,null,null,null,null,null,null,null,null,null,null,null,null,null,null,null,null,null,null,null,"Информирование населения о деятельности, о положении дел на территории  муниципального образования, опубликование муниципальных правовых актов, обсуждение проектов муниципальных правовых актов по вопросам местного значения, доведение до сведения жителей муниципального образования официальной информации о социально-экономическом и культурном развитии муниципального образования, о развитии его общественной инфраструктуры и иной официальной информации","001","01","04","13 1 01 00820",null,{"$f":"AD66","v":6252},6252,6252]
[null,null,null,null,null,null,null,null,null,null,null,null,null,null,null,null,null,null,null,null,null,null,null,"Закупка товаров, работ и услуг для обеспечения государственных (муниципальных) нужд","001","01","04","13 1 01 00820",200,6252,6252,6252]
[null,null,null,null,null,null,null,null,null,null,null,null,null,null,null,null,null,null,null,null,null,null,null,"Иные закупки товаров, работ и услуг для обеспечения государственных (муниципальных) нужд","001","01","04","13 1 01 00820",240,6252,6252,6252]
[null,null,null,null,null,null,null,null,null,null,null,null,null,null,null,null,null,null,null,null,null,null,null,"Муниципальная программа «Архитектура и градостроительство»","001","01","04","16 0 00 00000",null,{"$f":"AD69","v":199},{"$f":"AE69","v":199},199]
[null,null,null,null,null,null,null,null,null,null,null,null,null,null,null,null,null,null,null,null,null,null,null,"Подпрограмма «Реализация политики пространственного развития городского округа»","001","01","04","16 2 00 00000",null,{"$f":"AD70","v":199},199,199]
[null,null,null,null,null,null,null,null,null,null,null,null,null,null,null,null,null,null,null,null,null,null,null,"Основное мероприятие \"Финансовое обеспечение выполнения отдельных государственных полномочий в сфере архитектуры и градостроительства, переданных органам местного самоуправления муниципальных образований\"","001","01","04","16 2 04 00000",null,199,199,199]
[null,null,null,null,null,null,null,null,null,null,null,null,null,null,null,null,null,null,null,null,null,null,null,"Осуществление отдельных государственных полномочий в части присвоения адресов объектам адресации и согласования перепланировки помещений в многоквартирном доме","001","01","04","16 2 04 60700",null,{"$f":"AD72+AD74","v":199},{"$f":"AE72+AE74","v":199},199]
[null,null,null,null,null,null,null,null,null,null,null,null,null,null,null,null,null,null,null,null,null,null,null,"Расходы на выплаты персоналу в целях обеспечения выполнения функций государственными (муниципальными) органами, казенными учреждениями, органами управления государственными внебюджетными фондами ","001","01","04","16 2 04 60700",100,158.30000000000001,158.30000000000001,158.30000000000001]
[null,null,null,null,null,null,null,null,null,null,null,null,null,null,null,null,null,null,null,null,null,null,null,"Расходы на выплаты персоналу государственных (муниципальных) органов","001","01","04","16 2 04 60700",120,158.30000000000001,158.30000000000001,158.30000000000001]
[null,null,null,null,null,null,null,null,null,null,null,null,null,null,null,null,null,null,null,null,null,null,null,"Закупка товаров, работ и услуг для обеспечения государственных (муниципальных) нужд","001","01","04","16 2 04 60700",200,{"$f":"AD75","v":40.700000000000003},{"$f":"AE75","v":40.700000000000003},40.700000000000003]
[null,null,null,null,null,null,null,null,null,null,null,null,null,null,null,null,null,null,null,null,null,null,null,"Иные закупки товаров, работ и услуг для обеспечения государственных (муниципальных) нужд","001","01","04","16 2 04 60700",240,40.700000000000003,40.700000000000003,40.700000000000003]
[null,null,null,null,null,null,null,null,null,null,null,null,null,null,null,null,null,null,null,null,null,null,null,"Резервные фонды","001","01",11,null,null,{"$f":"AD77","v":3530.5},{"$f":"AE77","v":4571.6000000000004},{"$f":"AF77","v":3697.9}]
[null,null,null,null,null,null,null,null,null,null,null,null,null,null,null,null,null,null,null,null,null,null,null,"Непрограммные расходы ","001","01",11,"99 0 00 00000",null,{"$f":"AD78+AD81","v":3530.5},{"$f":"AE78+AE81","v":4571.6000000000004},{"$f":"AF78+AF81","v":3697.9}]
[null,null,null,null,null,null,null,null,null,null,null,null,null,null,null,null,null,null,null,null,null,null,null,"Резервный фонд администрации ","001","01",11,"99 0 00 00060",null,{"$f":"AD79","v":2530.5},3571.6,2697.9]
[null,null,null,null,null,null,null,null,null,null,null,null,null,null,null,null,null,null,null,null,null,null,null,"Иные бюджетные ассигнования","001","01",11,"99 0 00 00060",800,2530.5,3571.6,2697.9]
[null,null,null,null,null,null,null,null,null,null,null,null,null,null,null,null,null,null,null,null,null,null,null,"Резервные  средства","001","01",11,"99 0 00 00060",870,2530.5,3571.6,{"$f":"2572+125.9","v":2697.9}]
[null,null,null,null,null,null,null,null,null,null,null,null,null,null,null,null,null,null,null,null,null,null,null,"Резервный фонд на предупреждение и ликвидацию чрезвычайных ситуаций и последствий стихийных бедствий","001","01",11,"99 0 00 00070",null,{"$f":"AD82","v":1000},1000,1000]
[null,null,null,null,null,null,null,null,null,null,null,null,null,null,null,null,null,null,null,null,null,null,null,"Иные бюджетные ассигнования","001","01",11,"99 0 00 00070",800,1000,1000,1000]
[null,null,null,null,null,null,null,null,null,null,null,null,null,null,null,null,null,null,null,null,null,null,null,"Резервные  средства","001","01",11,"99 0 00 00070",870,1000,1000,1000]
[null,null,null,null,null,null,null,null,null,null,null,null,null,null,null,null,null,null,null,null,null,null,null,"Другие общегосударственные вопросы","001","01",13,null,null,{"$f":"AD85+AD116+AD122+AD133","v":137795.79999999999},{"$f":"AE85+AE116+AE122+AE133","v":119533.80000000002},{"$f":"AF85+AF116+AF122+AF133","v":99533.6}]
[null,null,null,null,null,null,null,null,null,null,null,null,null,null,null,null,null,null,null,null,null,null,null,"Муниципальная программа «Управление имуществом и муниципальными финансами»   ","001","01",13,"12 0 00 00000",null,{"$f":"AD86+AD95","v":85332.599999999991},{"$f":"AE86+AE95","v":67070.600000000006},{"$f":"AF86+AF95","v":57070.6}]
[null,null,null,null,null,null,null,null,null,null,null,null,null,null,null,null,null,null,null,null,null,null,null,"Подпрограмма «Эффективное управление имущественным комплексом»","001","01",13,"12 1 00 00000",null,{"$f":"AD87","v":11054},11054,11054]
[null,null,null,null,null,null,null,null,null,null,null,null,null,null,null,null,null,null,null,null,null,null,null,"Основное мероприятие «Управление имуществом, находящимся в муниципальной собственности, и выполнение кадастровых работ»","001","01",13,"12 1 02 00000",null,11054,11054,11054]
[null,null,null,null,null,null,null,null,null,null,null,null,null,null,null,null,null,null,null,null,null,null,null,"Владение, пользование и распоряжение имуществом, находящимся в муниципальной собственности городского округа","001","01",13,"12 1 02 00170",null,{"$f":"AD93+AD89+AD91","v":11054},{"$f":"AE93+AE89+AE91","v":11054},{"$f":"AF93+AF89+AF91","v":11054}]
[null,null,null,null,null,null,null,null,null,null,null,null,null,null,null,null,null,null,null,null,null,null,null,"Закупка товаров, работ и услуг для обеспечения государственных (муниципальных) нужд","001","01",13,"12 1 02 00170",200,{"$f":"AD90","v":60},{"$f":"AE90","v":60},{"$f":"AF90","v":60}]
[null,null,null,null,null,null,null,null,null,null,null,null,null,null,null,null,null,null,null,null,null,null,null,"Иные закупки товаров, работ и услуг для обеспечения государственных (муниципальных) нужд","001","01",13,"12 1 02 00170",240,60,60,60]
[null,null,null,null,null,null,null,null,null,null,null,null,null,null,null,null,null,null,null,null,null,null,null,"Социальное обеспечение и иные выплаты населению","001","01",13,"12 1 02 00170",300,{"$f":"AD92","v":1994},{"$f":"AE92","v":1994},1994]
[null,null,null,null,null,null,null,null,null,null,null,null,null,null,null,null,null,null,null,null,null,null,null,"Иные выплаты населению","001","01",13,"12 1 02 00170",360,1994,1994,1994]
[null,null,null,null,null,null,null,null,null,null,null,null,null,null,null,null,null,null,null,null,null,null,null,"Предоставление субсидий бюджетным, автономным учреждениям и иным некоммерческим организациям","001","01",13,"12 1 02 00170",600,{"$f":"AD94","v":9000},{"$f":"AE94","v":9000},{"$f":"AF94","v":9000}]
[null,null,null,null,null,null,null,null,null,null,null,null,null,null,null,null,null,null,null,null,null,null,null,"Субсидии бюджетным учреждениям","001","01",13,"12 1 02 00170",610,9000,9000,9000]
[null,null,null,null,null,null,null,null,null,null,null,null,null,null,null,null,null,null,null,null,null,null,null,"Обеспечивающая подпрограмма   ","001","01",13,"12 5 00 00000",null,{"$f":"AD96","v":74278.599999999991},{"$f":"AE96","v":56016.6},{"$f":"AF96","v":46016.6}]
[null,null,null,null,null,null,null,null,null,null,null,null,null,null,null,null,null,null,null,null,null,null,null,"Основное мероприятие «Создание условий для реализации полномочий органов местного самоуправления» ","001","01",13,"12 5 01 00000",null,{"$f":"AD97+AD100+AD105","v":74278.599999999991},{"$f":"AE97+AE100+AE105","v":56016.6},{"$f":"AF97+AF100+AF105","v":46016.6}]
[null,null,null,null,null,null,null,null,null,null,null,null,null,null,null,null,null,null,null,null,null,null,null,"Взносы в общественные организации","001","01",13,"12 5 01 00870",null,{"$f":"AD99","v":144},{"$f":"AE99","v":144},{"$f":"AF99","v":144}]
[null,null,null,null,null,null,null,null,null,null,null,null,null,null,null,null,null,null,null,null,null,null,null,"Иные бюджетные ассигнования","001","01",13,"12 5 01 00870",800,{"$f":"AD99","v":144},{"$f":"AE99","v":144},{"$f":"AF99","v":144}]
[null,null,null,null,null,null,null,null,null,null,null,null,null,null,null,null,null,null,null,null,null,null,null,"Уплата налогов, сборов и иных платежей","001","01",13,"12 5 01 00870",850,144,144,144]
[null,null,null,null,null,null,null,null,null,null,null,null,null,null,null,null,null,null,null,null,null,null,null,"Обеспечение деятельности муниципальных казенных учреждений в сфере закупок товаров, работ, услуг","001","01",13,"12 5 01 01680",null,{"$f":"AD101+AD103","v":12197.800000000001},{"$f":"AE101+AE103","v":10600},{"$f":"AF101+AF103","v":10600}]
[null,null,null,null,null,null,null,null,null,null,null,null,null,null,null,null,null,null,null,null,null,null,null,"Расходы на выплаты персоналу в целях обеспечения выполнения функций государственными (муниципальными) органами, казенными учреждениями, органами управления государственными внебюджетными фондами ","001","01",13,"12 5 01 01680","100",{"$f":"AD102","v":11391.2},{"$f":"AE102","v":9793.4},{"$f":"AF102","v":9793.4}]
[null,null,null,null,null,null,null,null,null,null,null,null,null,null,null,null,null,null,null,null,null,null,null,"Расходы на выплаты персоналу казенных учреждений","001","01",13,"12 5 01 01680","110",11391.2,9793.4,9793.4]
[null,null,null,null,null,null,null,null,null,null,null,null,null,null,null,null,null,null,null,null,null,null,null,"Закупка товаров, работ и услуг для обеспечения государственных (муниципальных) нужд","001","01",13,"12 5 01 01680","200",{"$f":"AD104","v":806.6},{"$f":"AE104","v":806.6},{"$f":"AF104","v":806.6}]
[null,null,null,null,null,null,null,null,null,null,null,null,null,null,null,null,null,null,null,null,null,null,null,"Иные закупки товаров, работ и услуг для обеспечения государственных (муниципальных) нужд","001","01",13,"12 5 01 01680","240",806.6,806.6,806.6]
[null,null,null,null,null,null,null,null,null,null,null,null,null,null,null,null,null,null,null,null,null,null,null,"Расходы на обеспечение деятельности (оказание услуг) муниципальных учреждений - обеспечение деятельности органов местного самоуправления","001","01",13,"12 5 01 06090",null,{"$f":"AD106+AD111","v":61936.799999999996},{"$f":"AE106+AE111","v":45272.6},35272.6]
[null,null,null,null,null,null,null,null,null,null,null,null,null,null,null,null,null,null,null,null,null,null,null,"Расходы на обеспечение деятельности (оказание услуг) муниципальных учреждений - обеспечение деятельности органов местного самоуправления( \"Управление обеспечения деятельности Администрации города Лыткарино\")","001","01",13,"12 5 01 06092",null,{"$f":"AD107+AD109","v":55272.6},{"$f":"AE107+AE109","v":45272.6},35272.6]
[null,null,null,null,null,null,null,null,null,null,null,null,null,null,null,null,null,null,null,null,null,null,null,"Расходы на выплаты персоналу в целях обеспечения выполнения функций государственными (муниципальными) органами, казенными учреждениями, органами управления государственными внебюджетными фондами ","001","01",13,"12 5 01 06092","100",{"$f":"AD108","v":54604.1},{"$f":"AE108","v":44604.1},{"$f":"AF108","v":34604.1}]
[null,null,null,null,null,null,null,null,null,null,null,null,null,null,null,null,null,null,null,null,null,null,null,"Расходы на выплаты персоналу казенных учреждений","001","01",13,"12 5 01 06092","110",54604.1,44604.1,34604.1]
[null,null,null,null,null,null,null,null,null,null,null,null,null,null,null,null,null,null,null,null,null,null,null,"Закупка товаров, работ и услуг для обеспечения государственных (муниципальных) нужд","001","01",13,"12 5 01 06092","200",{"$f":"AD110","v":668.5},{"$f":"AE110","v":668.5},{"$f":"AF110","v":668.5}]
[null,null,null,null,null,null,null,null,null,null,null,null,null,null,null,null,null,null,null,null,null,null,null,"Иные закупки товаров, работ и услуг для обеспечения государственных (муниципальных) нужд","001","01",13,"12 5 01 06092","240",668.5,668.5,668.5]
[null,null,null,null,null,null,null,null,null,null,null,null,null,null,null,null,null,null,null,null,null,null,null,"Расходы на обеспечение деятельности (оказание услуг) муниципальных учреждений - обеспечение деятельности органов местного самоуправления (\"Комитет  по  делам  культуры, молодежи,спорта  и  туризма  г.Лыткарино\")","001","01",13,"12 5 01 06093",null,{"$f":"AD112+AD114","v":6664.2},{"$f":"AE112+AE114","v":0},0]
[null,null,null,null,null,null,null,null,null,null,null,null,null,null,null,null,null,null,null,null,null,null,null,"Расходы на выплаты персоналу в целях обеспечения выполнения функций государственными (муниципальными) органами, казенными учреждениями, органами управления государственными внебюджетными фондами ","001","01",13,"12 5 01 06093","100",{"$f":"AD113","v":6057.3},{"$f":"AE113","v":0},{"$f":"AF113","v":0}]
[null,null,null,null,null,null,null,null,null,null,null,null,null,null,null,null,null,null,null,null,null,null,null,"Расходы на выплаты персоналу казенных учреждений","001","01",13,"12 5 01 06093","110",6057.3,0,0]
[null,null,null,null,null,null,null,null,null,null,null,null,null,null,null,null,null,null,null,null,null,null,null,"Закупка товаров, работ и услуг для обеспечения государственных (муниципальных) нужд","001","01",13,"12 5 01 06093","200",{"$f":"AD115","v":606.9},{"$f":"AE115","v":0},{"$f":"AF115","v":0}]
[null,null,null,null,null,null,null,null,null,null,null,null,null,null,null,null,null,null,null,null,null,null,null,"Иные закупки товаров, работ и услуг для обеспечения государственных (муниципальных) нужд","001","01",13,"12 5 01 06093","240",606.9,0,0]
[null,null,null,null,null,null,null,null,null,null,null,null,null,null,null,null,null,null,null,null,null,null,null,"Муниципальная программа  «Развитие институтов гражданского общества, повышение эффективности местного самоуправления и реализации молодежной политики»","001","01",13,"13 0 00 00000",null,{"$f":"AD117","v":2.1},{"$f":"AE117","v":2.1},1.9]
[null,null,null,null,null,null,null,null,null,null,null,null,null,null,null,null,null,null,null,null,null,null,null,"Обеспечивающая подпрограмма","001","01",13,"13 6 00 00000",null,{"$f":"AD118","v":2.1},{"$f":"AE118","v":2.1},1.9]
[null,null,null,null,null,null,null,null,null,null,null,null,null,null,null,null,null,null,null,null,null,null,null,"Основное мероприятие «Корректировка списков кандидатов в присяжные заседатели федеральных судов общей юрисдикции в Российской Федерации»","001","01",13,"13 6 04 00000",null,{"$f":"AD119","v":2.1},2.1,1.9]
[null,null,null,null,null,null,null,null,null,null,null,null,null,null,null,null,null,null,null,null,null,null,null,"Осуществление полномочий по составлению (изменению) списков кандидатов в присяжные заседатели федеральных судов общей юрисдикции в Российской Федерации","001","01",13,"13 6 04 51200",null,2.1,2.1,1.9]
[null,null,null,null,null,null,null,null,null,null,null,null,null,null,null,null,null,null,null,null,null,null,null,"Закупка товаров, работ и услуг для обеспечения государственных (муниципальных) нужд","001","01",13,"13 6 04 51200",200,2.1,2.1,1.9]
[null,null,null,null,null,null,null,null,null,null,null,null,null,null,null,null,null,null,null,null,null,null,null,"Иные закупки товаров, работ и услуг для обеспечения государственных (муниципальных) нужд","001","01",13,"13 6 04 51200",240,2.1,2.1,1.9]
[null,null,null,null,null,null,null,null,null,null,null,null,null,null,null,null,null,null,null,null,null,null,null,"Муниципальная программа «Цифровое муниципальное образование»                                   ","001","01",13,"15 0 00 00000",null,{"$f":"AD123+AD128","v":42361.1},{"$f":"AE123+AE128","v":42361.1},42361.1]
[null,null,null,null,null,null,null,null,null,null,null,null,null,null,null,null,null,null,null,null,null,null,null,"Подпрограмма «Повышение качества и доступности предоставления государственных и муниципальных услуг на базе многофункциональных центров предоставления государственных и муниципальных услуг»","001","01",13,"15 1 00 00000",null,{"$f":"AD124","v":799},{"$f":"AE124","v":799},799]
[null,null,null,null,null,null,null,null,null,null,null,null,null,null,null,null,null,null,null,null,null,null,null,"Основное мероприятие \"Совершенствование системы предоставления государственных и муниципальных услуг по принципу одного окна в многофункциональных центрах предоставления государственных и муниципальных услуг\"","001","01",13,"15 1 02 00000",null,{"$f":"AD125","v":799},{"$f":"AE125","v":799},799]
[null,null,null,null,null,null,null,null,null,null,null,null,null,null,null,null,null,null,null,null,null,null,null,"Техническая поддержка программно-технических комплексов для оформления паспортов гражданина Российской Федерации, удостоверяющих личность гражданина Российской Федерации за пределами территории Российской Федерации в многофункциональных центрах предоставления государственных и муниципальных услуг","001","01",13,"15 1 02 S0860",null,{"$f":"AD126","v":799},{"$f":"AE126","v":799},799]
[null,null,null,null,null,null,null,null,null,null,null,null,null,null,null,null,null,null,null,null,null,null,null,"Предоставление субсидий бюджетным, автономным учреждениям и иным некоммерческим организациям","001","01",13,"15 1 02 S0860",600,{"$f":"AD127","v":799},{"$f":"AE127","v":799},799]
[null,null,null,null,null,null,null,null,null,null,null,null,null,null,null,null,null,null,null,null,null,null,null,"Субсидии бюджетным учреждениям","001","01",13,"15 1 02 S0860",610,{"$f":"665+134","v":799},{"$f":"665+134","v":799},{"$f":"665+134","v":799}]
[null,null,null,null,null,null,null,null,null,null,null,null,null,null,null,null,null,null,null,null,null,null,null,"Обеспечивающая подпрограмма","001","01",13,"15 3 00 00000",null,{"$f":"AD129","v":41562.1},{"$f":"AE129","v":41562.1},41562.1]
[null,null,null,null,null,null,null,null,null,null,null,null,null,null,null,null,null,null,null,null,null,null,null,"Основное мероприятие \"Создание условий для реализации полномочий органов местного самоуправления\"","001","01",13,"15 3 01 00000",null,{"$f":"AD130","v":41562.1},41562.1,41562.1]
[null,null,null,null,null,null,null,null,null,null,null,null,null,null,null,null,null,null,null,null,null,null,null,"Расходы на обеспечение деятельности (оказание услуг) муниципальных учреждений - многофункциональный центр  предоставления государственных и муниципальных услуг ","001","01",13,"15 3 01 06190",null,{"$f":"AD131","v":41562.1},41562.1,41562.1]
[null,null,null,null,null,null,null,null,null,null,null,null,null,null,null,null,null,null,null,null,null,null,null,"Предоставление субсидий бюджетным, автономным учреждениям и иным некоммерческим организациям","001","01",13,"15 3 01 06190",600,{"$f":"AD132","v":41562.1},41562.1,41562.1]
[null,null,null,null,null,null,null,null,null,null,null,null,null,null,null,null,null,null,null,null,null,null,null,"Субсидии бюджетным учреждениям","001","01",13,"15 3 01 06190",610,41562.1,41562.1,41562.1]
[null,null,null,null,null,null,null,null,null,null,null,null,null,null,null,null,null,null,null,null,null,null,null,"Непрограммные расходы                    ","001","01",13,"99 0 00 00000",null,{"$f":"AD134+AD137","v":10100},{"$f":"AE134+AE137","v":10100},100]
[null,null,null,null,null,null,null,null,null,null,null,null,null,null,null,null,null,null,null,null,null,null,null,"Оплата исполнительных листов, судебных издержек ","001","01",13,"99 0 00 00080",null,{"$f":"AD135","v":100},100,100]
[null,null,null,null,null,null,null,null,null,null,null,null,null,null,null,null,null,null,null,null,null,null,null,"Иные бюджетные ассигнования","001","01",13,"99 0 00 00080",800,100,100,100]
[null,null,null,null,null,null,null,null,null,null,null,null,null,null,null,null,null,null,null,null,null,null,null,"Исполнение судебных актов","001","01",13,"99 0 00 00080",830,100,100,100]
[null,null,null,null,null,null,null,null,null,null,null,null,null,null,null,null,null,null,null,null,null,null,null,"Иные расходы","001","01",13,"99 0 00 04000",null,{"$f":"AD138","v":10000},{"$f":"AE138","v":10000},0]
[null,null,null,null,null,null,null,null,null,null,null,null,null,null,null,null,null,null,null,null,null,null,null,"Иные расходы (обеспечение участия городского округа Лыткарино в государственных программах Московской области)","001","01",13,"99 0 00 04006",null,{"$f":"AD139","v":10000},{"$f":"AE139","v":10000},0]
[null,null,null,null,null,null,null,null,null,null,null,null,null,null,null,null,null,null,null,null,null,null,null,"Иные бюджетные ассигнования","001","01",13,"99 0 00 04006",800,{"$f":"AD140","v":10000},10000,0]
[null,null,null,null,null,null,null,null,null,null,null,null,null,null,null,null,null,null,null,null,null,null,null,"Резервные  средства","001","01",13,"99 0 00 04006",870,10000,10000,0]
[null,null,null,null,null,null,null,null,null,null,null,null,null,null,null,null,null,null,null,null,null,null,null,"Национальная оборона","001","02",null,null,null,{"$f":"AD142+AD151","v":4267.3},{"$f":"AE142+AE151","v":4313.2},{"$f":"AF142+AF151","v":4462.8}]
[null,null,null,null,null,null,null,null,null,null,null,null,null,null,null,null,null,null,null,null,null,null,null,"Мобилизационная  и  вневойсковая  подготовка","001","02","03",null,null,{"$f":"AD143","v":4067.3},{"$f":"AE143","v":4249.2},{"$f":"AF143","v":4398.8}]
[null,null,null,null,null,null,null,null,null,null,null,null,null,null,null,null,null,null,null,null,null,null,null,"Муниципальная программа  «Развитие институтов гражданского общества, повышение эффективности местного самоуправления и реализации молодежной политики»","001","02","03","13 0 00 00000",null,{"$f":"AD144","v":4067.3},4249.2,4398.8]
[null,null,null,null,null,null,null,null,null,null,null,null,null,null,null,null,null,null,null,null,null,null,null,"Обеспечивающая подпрограмма","001","02","03","13 6 00 00000",null,4067.3,4249.2,4398.8]
[null,null,null,null,null,null,null,null,null,null,null,null,null,null,null,null,null,null,null,null,null,null,null,"Основное мероприятие «Осуществление первичного воинского учета»","001","02","03","13 6 03 00000",null,4067.3,4249.2,4398.8]
[null,null,null,null,null,null,null,null,null,null,null,null,null,null,null,null,null,null,null,null,null,null,null,"Осуществление первичного воинского учета органами местного самоуправления поселений, муниципальных и городских округов","001","02","03","13 6 03 51180",null,{"$f":"AD147+AD149","v":4067.3},{"$f":"AE147+AE149","v":4249.2},4398.8]
[null,null,null,null,null,null,null,null,null,null,null,null,null,null,null,null,null,null,null,null,null,null,null,"Расходы на выплаты персоналу в целях обеспечения выполнения функций государственными (муниципальными) органами, казенными учреждениями, органами управления государственными внебюджетными фондами ","001","02","03","13 6 03 51180",100,{"$f":"AD148","v":4067.3},{"$f":"AE148","v":4067.3},{"$f":"AF148","v":4067.3}]
[null,null,null,null,null,null,null,null,null,null,null,null,null,null,null,null,null,null,null,null,null,null,null,"Расходы на выплаты персоналу государственных (муниципальных) органов","001","02","03","13 6 03 51180",120,4067.3,4067.3,4067.3]
[null,null,null,null,null,null,null,null,null,null,null,null,null,null,null,null,null,null,null,null,null,null,null,"Закупка товаров, работ и услуг для обеспечения государственных (муниципальных) нужд","001","02","03","13 6 03 51180",200,{"$f":"AD150","v":0},{"$f":"AE150","v":181.9},331.5]
[null,null,null,null,null,null,null,null,null,null,null,null,null,null,null,null,null,null,null,null,null,null,null,"Иные закупки товаров, работ и услуг для обеспечения государственных (муниципальных) нужд","001","02","03","13 6 03 51180",240,0,181.9,331.5]
[null,null,null,null,null,null,null,null,null,null,null,null,null,null,null,null,null,null,null,null,null,null,null,"Мобилизационная  подготовка  экономики","001","02","04",null,null,{"$f":"AD152","v":200},64,64]
[null,null,null,null,null,null,null,null,null,null,null,null,null,null,null,null,null,null,null,null,null,null,null,"Муниципальная программа «Управление имуществом и муниципальными финансами»   ","001","02","04","12 0 00 00000",null,200,64,64]
[null,null,null,null,null,null,null,null,null,null,null,null,null,null,null,null,null,null,null,null,null,null,null,"Обеспечивающая подпрограмма   ","001","02","04","12 5 00 00000",null,{"$f":"AD154","v":200},64,64]
[null,null,null,null,null,null,null,null,null,null,null,null,null,null,null,null,null,null,null,null,null,null,null,"Основное мероприятие «Создание условий для реализации полномочий органов местного самоуправления» ","001","02","04","12 5 01 00000",null,200,64,64]
[null,null,null,null,null,null,null,null,null,null,null,null,null,null,null,null,null,null,null,null,null,null,null,"Организация и осуществление мероприятий по мобилизационной подготовке ","001","02","04","12 5 01 00720",null,200,64,64]
[null,null,null,null,null,null,null,null,null,null,null,null,null,null,null,null,null,null,null,null,null,null,null,"Закупка товаров, работ и услуг для обеспечения государственных (муниципальных) нужд","001","02","04","12 5 01 00720",200,200,64,64]
[null,null,null,null,null,null,null,null,null,null,null,null,null,null,null,null,null,null,null,null,null,null,null,"Иные закупки товаров, работ и услуг для обеспечения государственных (муниципальных) нужд","001","02","04","12 5 01 00720",240,200,64,64]
[null,null,null,null,null,null,null,null,null,null,null,null,null,null,null,null,null,null,null,null,null,null,null,"Национальная безопасность и правоохранительная деятельность","001","03",null,null,null,{"$f":"AD159+AD170+AD207","v":41771.5},{"$f":"AE159+AE170+AE207","v":30686.799999999999},{"$f":"AF159+AF170+AF207","v":31174.799999999999}]
[null,null,null,null,null,null,null,null,null,null,null,null,null,null,null,null,null,null,null,null,null,null,null,"Гражданская  оборона","001","03","09",null,null,{"$f":"AD160","v":1300},{"$f":"AE160","v":1300},{"$f":"AF160","v":1300}]
[null,null,null,null,null,null,null,null,null,null,null,null,null,null,null,null,null,null,null,null,null,null,null,"Муниципальная программа «Безопасность и обеспечение безопасности жизнедеятельности населения»                    ","001","03","09","08 0 00 00000",null,{"$f":"AD161","v":1300},{"$f":"AE161","v":1300},1300]
[null,null,null,null,null,null,null,null,null,null,null,null,null,null,null,null,null,null,null,null,null,null,null,"Подпрограмма \"Обеспечение мероприятий гражданской обороны на территории муниципального образования Московской области\"","001","03","09","08 3 00 00000",null,{"$f":"AD162+AD166","v":1300},{"$f":"AE162+AE166","v":1300},1300]
[null,null,null,null,null,null,null,null,null,null,null,null,null,null,null,null,null,null,null,null,null,null,null,"Основное мероприятие «Создание, развитие и поддержание в постоянной готовности систем оповещения населения об опасностях, возникающих при военных конфликтах или вследствие этих конфликтов, а также при чрезвычайных ситуациях природного и техногенного характера (происшествий) на территории муниципального образования  Московской области»","001","03","09","08 3 01 00000",null,{"$f":"AD163","v":850},850,850]
[null,null,null,null,null,null,null,null,null,null,null,null,null,null,null,null,null,null,null,null,null,null,null,"Поддержка в состоянии постоянной готовности к использованию систем оповещения населения об опасности, объектов гражданской обороны","001","03","09","08 3 01 00690",null,850,850,850]
[null,null,null,null,null,null,null,null,null,null,null,null,null,null,null,null,null,null,null,null,null,null,null,"Закупка товаров, работ и услуг для обеспечения государственных (муниципальных) нужд","001","03","09","08 3 01 00690",200,850,850,850]
[null,null,null,null,null,null,null,null,null,null,null,null,null,null,null,null,null,null,null,null,null,null,null,"Иные закупки товаров, работ и услуг для обеспечения государственных (муниципальных) нужд","001","03","09","08 3 01 00690",240,850,850,850]
[null,null,null,null,null,null,null,null,null,null,null,null,null,null,null,null,null,null,null,null,null,null,null,"Основное мероприятие «Развитие и совершенствование материально-технической базы учреждений в сфере гражданской обороны и защиты населения и территорий от чрезвычайных ситуаций»","001","03","09","08 3 03 00000",null,{"$f":"AD167","v":450},450,450]
[null,null,null,null,null,null,null,null,null,null,null,null,null,null,null,null,null,null,null,null,null,null,null,"Организация и осуществление мероприятий по территориальной обороне и гражданской обороне","001","03","09","08 3 03 00670",null,{"$f":"AD168","v":450},450,450]
[null,null,null,null,null,null,null,null,null,null,null,null,null,null,null,null,null,null,null,null,null,null,null,"Закупка товаров, работ и услуг для обеспечения государственных (муниципальных) нужд","001","03","09","08 3 03 00670","200",450,450,450]
[null,null,null,null,null,null,null,null,null,null,null,null,null,null,null,null,null,null,null,null,null,null,null,"Иные закупки товаров, работ и услуг для обеспечения государственных (муниципальных) нужд","001","03","09","08 3 03 00670","240",450,450,450]
[null,null,null,null,null,null,null,null,null,null,null,null,null,null,null,null,null,null,null,null,null,null,null,"Защита населения и территории от чрезвычайных ситуаций природного и техногенного характера,пожарная безопасность","001","03","10",null,null,{"$f":"AD171","v":25033.300000000003},{"$f":"AE171","v":21691},21691]
[null,null,null,null,null,null,null,null,null,null,null,null,null,null,null,null,null,null,null,null,null,null,null,"Муниципальная программа «Безопасность и обеспечение безопасности жизнедеятельности населения»                    ","001","03","10","08 0 00 00000",null,{"$f":"AD172+AD185+AD199+AD192","v":25033.300000000003},{"$f":"AE172+AE185+AE199+AE192","v":21691},{"$f":"AF172+AF185+AF199+AF192","v":21691}]
[null,null,null,null,null,null,null,null,null,null,null,null,null,null,null,null,null,null,null,null,null,null,null,"Подпрограмма \"Обеспечение мероприятий по защите населения и территории от чрезвычайных ситуаций\"","001","03","10","08 2 00 00000",null,{"$f":"AD177+AD173+AD181","v":1142},{"$f":"AE177+AE173+AE181","v":1142},1142]
[null,null,null,null,null,null,null,null,null,null,null,null,null,null,null,null,null,null,null,null,null,null,null,"Основное мероприятие \"Развитие и эксплуатация Системы-112 на территории Московской области\"","001","03","10","08 2 01 00000",null,{"$f":"AD174","v":535},{"$f":"AE174","v":535},535]
[null,null,null,null,null,null,null,null,null,null,null,null,null,null,null,null,null,null,null,null,null,null,null,"Содержание и развитие Системы-112, ЕДДС","001","03","10","08 2 01 01850",null,{"$f":"AD175","v":535},{"$f":"AE175","v":535},535]
[null,null,null,null,null,null,null,null,null,null,null,null,null,null,null,null,null,null,null,null,null,null,null,"Закупка товаров, работ и услуг для обеспечения государственных (муниципальных) нужд","001","03","10","08 2 01 01850","200",{"$f":"AD176","v":535},{"$f":"AE176","v":535},535]
[null,null,null,null,null,null,null,null,null,null,null,null,null,null,null,null,null,null,null,null,null,null,null,"Иные закупки товаров, работ и услуг для обеспечения государственных (муниципальных) нужд","001","03","10","08 2 01 01850","240",535,535,535]
[null,null,null,null,null,null,null,null,null,null,null,null,null,null,null,null,null,null,null,null,null,null,null,"Основное мероприятие \"Создание резервов материальных ресурсов для ликвидации чрезвычайных ситуаций\"","001","03","10","08 2 02 00000",null,{"$f":"AD178","v":340},340,340]
[null,null,null,null,null,null,null,null,null,null,null,null,null,null,null,null,null,null,null,null,null,null,null,"Участие в предупреждении и ликвидации последствий чрезвычайных ситуаций в границах городского округа","001","03","10","08 2 02 00340",null,340,340,340]
[null,null,null,null,null,null,null,null,null,null,null,null,null,null,null,null,null,null,null,null,null,null,null,"Закупка товаров, работ и услуг для обеспечения государственных (муниципальных) нужд","001","03","10","08 2 02 00340","200",340,340,340]
[null,null,null,null,null,null,null,null,null,null,null,null,null,null,null,null,null,null,null,null,null,null,null,"Иные закупки товаров, работ и услуг для обеспечения государственных (муниципальных) нужд","001","03","10","08 2 02 00340","240",340,340,340]
[null,null,null,null,null,null,null,null,null,null,null,null,null,null,null,null,null,null,null,null,null,null,null,"Основное мероприятие \"Реализация мероприятий по подготовке населения и специалистов и должностных лиц в области гражданской обороны, защиты населения и территории от чрезвычайных ситуаций природного и техногенного характера\"","001","03","10","08 2 03 00000",null,{"$f":"AD182","v":267},{"$f":"AE182","v":267},267]
[null,null,null,null,null,null,null,null,null,null,null,null,null,null,null,null,null,null,null,null,null,null,null,"Участие в предупреждении и ликвидации последствий чрезвычайных ситуаций в границах городского округа","001","03","10","08 2 03 00340",null,{"$f":"AD183","v":267},267,267]
[null,null,null,null,null,null,null,null,null,null,null,null,null,null,null,null,null,null,null,null,null,null,null,"Закупка товаров, работ и услуг для обеспечения государственных (муниципальных) нужд","001","03","10","08 2 03 00340","200",{"$f":"AD184","v":267},{"$f":"AE184","v":267},267]
[null,null,null,null,null,null,null,null,null,null,null,null,null,null,null,null,null,null,null,null,null,null,null,"Иные закупки товаров, работ и услуг для обеспечения государственных (муниципальных) нужд","001","03","10","08 2 03 00340","240",267,267,267]
[null,null,null,null,null,null,null,null,null,null,null,null,null,null,null,null,null,null,null,null,null,null,null,"Подпрограмма «Обеспечение пожарной безопасности на территории муниципального образования Московской области»","001","03","10","08 4 00 00000",null,{"$f":"AD186","v":1888},694,694]
[null,null,null,null,null,null,null,null,null,null,null,null,null,null,null,null,null,null,null,null,null,null,null,"Основное мероприятие \"Повышение степени пожарной безопасности на территории муниципального образования Московской области\"","001","03","10","08 4 01 00000",null,1888,694,694]
[null,null,null,null,null,null,null,null,null,null,null,null,null,null,null,null,null,null,null,null,null,null,null,"Обеспечение первичных мер пожарной безопасности в границах городского округа","001","03","10","08 4 01 00360",null,{"$f":"AD188+AD190","v":1888},{"$f":"AE188+AE190","v":694},694]
[null,null,null,null,null,null,null,null,null,null,null,null,null,null,null,null,null,null,null,null,null,null,null,"Закупка товаров, работ и услуг для обеспечения государственных (муниципальных) нужд","001","03","10","08 4 01 00360","200",{"$f":"AD189","v":1324},{"$f":"AE189","v":325},{"$f":"AF189","v":325}]
[null,null,null,null,null,null,null,null,null,null,null,null,null,null,null,null,null,null,null,null,null,null,null,"Иные закупки товаров, работ и услуг для обеспечения государственных (муниципальных) нужд","001","03","10","08 4 01 00360","240",{"$f":"999+325","v":1324},325,325]
[null,null,null,null,null,null,null,null,null,null,null,null,null,null,null,null,null,null,null,null,null,null,null,"Предоставление субсидий бюджетным, автономным учреждениям и иным некоммерческим организациям","001","03","10","08 4 01 00360","600",{"$f":"AD191","v":564},{"$f":"AE191","v":369},369]
[null,null,null,null,null,null,null,null,null,null,null,null,null,null,null,null,null,null,null,null,null,null,null,"Субсидии бюджетным учреждениям","001","03","10","08 4 01 00360","610",564,369,369]
[null,null,null,null,null,null,null,null,null,null,null,null,null,null,null,null,null,null,null,null,null,null,null,"Подпрограмма \"Обеспечение безопасности населения на водных объектах, расположенных на территории муниципального образования Московской области\"","001","03","10","08 5 00 00000",null,{"$f":"AD193","v":770},{"$f":"AE193","v":770},770]
[null,null,null,null,null,null,null,null,null,null,null,null,null,null,null,null,null,null,null,null,null,null,null,"Основное мероприятие \"Выполнение мероприятий по безопасности населения на водных объектах, расположенных на территории Московской области\"","001","03","10","08 5 01 00000",null,{"$f":"AD194","v":770},770,770]
[null,null,null,null,null,null,null,null,null,null,null,null,null,null,null,null,null,null,null,null,null,null,null,"Осуществление мероприятий по обеспечению безопасности людей на водных объектах, охране их жизни и здоровья","001","03","10","08 5 01 00730",null,{"$f":"AD195+AD198","v":770},{"$f":"AE195+AE198","v":770},770]
[null,null,null,null,null,null,null,null,null,null,null,null,null,null,null,null,null,null,null,null,null,null,null,"Закупка товаров, работ и услуг для обеспечения государственных (муниципальных) нужд","001","03","10","08 5 01 00730","200",{"$f":"AD196","v":70},70,70]
[null,null,null,null,null,null,null,null,null,null,null,null,null,null,null,null,null,null,null,null,null,null,null,"Иные закупки товаров, работ и услуг для обеспечения государственных (муниципальных) нужд","001","03","10","08 5 01 00730","240",70,70,70]
[null,null,null,null,null,null,null,null,null,null,null,null,null,null,null,null,null,null,null,null,null,null,null,"Предоставление субсидий бюджетным, автономным учреждениям и иным некоммерческим организациям","001","03","10","08 5 01 00730","600",{"$f":"AD198","v":700},{"$f":"AE198","v":700},700]
[null,null,null,null,null,null,null,null,null,null,null,null,null,null,null,null,null,null,null,null,null,null,null,"Субсидии бюджетным учреждениям","001","03","10","08 5 01 00730","610",700,700,700]
[null,null,null,null,null,null,null,null,null,null,null,null,null,null,null,null,null,null,null,null,null,null,null,"Обеспечивающая подпрограмма","001","03","10","08 6 00 00000",null,{"$f":"AD200","v":21233.300000000003},{"$f":"AE200","v":19085},19085]
[null,null,null,null,null,null,null,null,null,null,null,null,null,null,null,null,null,null,null,null,null,null,null,"Основное мероприятие «Создание условий для реализации полномочий органов местного самоуправления»","001","03","10","08 6 01 00000",null,{"$f":"AD201+AD204","v":21233.300000000003},{"$f":"AE201+AE204","v":19085},19085]
[null,null,null,null,null,null,null,null,null,null,null,null,null,null,null,null,null,null,null,null,null,null,null,"Содержание и развитие муниципальных экстренных оперативных служб ","001","03","10","08 6 01 01020",null,{"$f":"AD202","v":20217.900000000001},{"$f":"AE202","v":18069.599999999999},18069.599999999999]
[null,null,null,null,null,null,null,null,null,null,null,null,null,null,null,null,null,null,null,null,null,null,null,"Расходы на выплаты персоналу в целях обеспечения выполнения функций государственными (муниципальными) органами, казенными учреждениями, органами управления государственными внебюджетными фондами","001","03","10","08 6 01 01020","100",{"$f":"AD203","v":20217.900000000001},{"$f":"AE203","v":18069.599999999999},{"$f":"AF203","v":18069.599999999999}]
[null,null,null,null,null,null,null,null,null,null,null,null,null,null,null,null,null,null,null,null,null,null,null,"Расходы на выплаты персоналу казенных учреждений","001","03","10","08 6 01 01020","110",20217.900000000001,18069.599999999999,18069.599999999999]
[null,null,null,null,null,null,null,null,null,null,null,null,null,null,null,null,null,null,null,null,null,null,null,"Создание, оснащение, модернизация, развитие и эксплуатация имущества экстренных оперативных служб (ЕДДС и системы 112)","001","03","10","08 6 01 01820",null,{"$f":"AD205","v":1015.4},{"$f":"AE205","v":1015.4},1015.4]
[null,null,null,null,null,null,null,null,null,null,null,null,null,null,null,null,null,null,null,null,null,null,null,"Закупка товаров, работ и услуг для обеспечения государственных (муниципальных) нужд","001","03","10","08 6 01 01820","200",{"$f":"AD206","v":1015.4},{"$f":"AE206","v":1015.4},{"$f":"AF206","v":1015.4}]
[null,null,null,null,null,null,null,null,null,null,null,null,null,null,null,null,null,null,null,null,null,null,null,"Иные закупки товаров, работ и услуг для обеспечения государственных (муниципальных) нужд","001","03","10","08 6 01 01820","240",1015.4,1015.4,1015.4]
[null,null,null,null,null,null,null,null,null,null,null,null,null,null,null,null,null,null,null,null,null,null,null,"Другие  вопросы  в  области  национальной  безопасности  и  правоохранительной  деятельности","001","03",14,null,null,{"$f":"AD208","v":15438.199999999999},7695.8,8183.8]
[null,null,null,null,null,null,null,null,null,null,null,null,null,null,null,null,null,null,null,null,null,null,null,"Муниципальная программа «Безопасность и обеспечение безопасности жизнедеятельности населения»                    ","001","03",14,"08 0 00 00000",null,15438.199999999999,7695.8,8183.8]
[null,null,null,null,null,null,null,null,null,null,null,null,null,null,null,null,null,null,null,null,null,null,null,"Подпрограмма «Профилактика преступлений и иных правонарушений»","001","03",14,"08 1 00 00000",null,{"$f":"AD210+AD214","v":15438.199999999999},{"$f":"AE210+AE214","v":7695.8},8183.8]
[null,null,null,null,null,null,null,null,null,null,null,null,null,null,null,null,null,null,null,null,null,null,null,"Основное мероприятие «Обеспечение деятельности общественных объединений правоохранительной направленности»","001","03",14,"08 1 02 00000",null,{"$f":"AD211","v":64.8},{"$f":"AE211","v":64.8},64.8]
[null,null,null,null,null,null,null,null,null,null,null,null,null,null,null,null,null,null,null,null,null,null,null,"Оказание поддержки гражданам и их объединениям, участвующим в охране общественного порядка, создание условий для деятельности народных дружин","001","03",14,"08 1 02 00780",null,{"$f":"AD212","v":64.8},64.8,64.8]
[null,null,null,null,null,null,null,null,null,null,null,null,null,null,null,null,null,null,null,null,null,null,null,"Предоставление субсидий бюджетным, автономным учреждениям и иным некоммерческим организациям","001","03",14,"08 1 02 00780",600,64.8,64.8,64.8]
[null,null,null,null,null,null,null,null,null,null,null,null,null,null,null,null,null,null,null,null,null,null,null,"Субсидии некоммерческим организациям (за исключением государственных (муниципальных) учреждений, государственных корпораций (компаний), публично-правовых компаний)","001","03",14,"08 1 02 00780",630,64.8,64.8,64.8]
[null,null,null,null,null,null,null,null,null,null,null,null,null,null,null,null,null,null,null,null,null,null,null,"Основное мероприятие «Развертывание элементов системы технологического обеспечения региональной общественной безопасности и оперативного управления «Безопасный регион»","001","03","14","08 1 04 00000",null,{"$f":"AD215","v":15373.4},7631,8119]
[null,null,null,null,null,null,null,null,null,null,null,null,null,null,null,null,null,null,null,null,null,null,null,"Осуществление мероприятий в сфере профилактики правонарушений","001","03","14","08 1 04 00900",null,15373.4,7631,8119]
[null,null,null,null,null,null,null,null,null,null,null,null,null,null,null,null,null,null,null,null,null,null,null,"Закупка товаров, работ и услуг для обеспечения государственных (муниципальных) нужд","001","03","14","08 1 04 00900",200,{"$f":"AD217","v":15373.4},{"$f":"AE217","v":7631},{"$f":"AF217","v":8119}]
[null,null,null,null,null,null,null,null,null,null,null,null,null,null,null,null,null,null,null,null,null,null,null,"Иные закупки товаров, работ и услуг для обеспечения государственных (муниципальных) нужд","001","03","14","08 1 04 00900",240,15373.4,7631,8119]
[null,null,null,null,null,null,null,null,null,null,null,null,null,null,null,null,null,null,null,null,null,null,null,"Национальная экономика","001","04",null,null,null,{"$f":"AD219+AD259+AI1938+AD237+AD244","v":63050.7},{"$f":"AE219+AE259+AJ1938+AE237+AE244","v":47550.7},{"$f":"AF219+AF259+AK1938+AF237+AF244","v":41550.699999999997}]
[null,null,null,null,null,null,null,null,null,null,null,null,null,null,null,null,null,null,null,null,null,null,null,"Транспорт","001","04","08",null,null,{"$f":"AD227+AD220","v":23132.6},{"$f":"AE227+AE220","v":18132.599999999999},{"$f":"AF227+AF220","v":18132.599999999999}]
[null,null,null,null,null,null,null,null,null,null,null,null,null,null,null,null,null,null,null,null,null,null,null,"Муниципальная программа «Управление имуществом и муниципальными финансами»   ","001","04","08","12 0 00 00000",null,{"$f":"AD221","v":23017.599999999999},18017.599999999999,18017.599999999999]
[null,null,null,null,null,null,null,null,null,null,null,null,null,null,null,null,null,null,null,null,null,null,null,"Обеспечивающая подпрограмма   ","001","04","08","12 5 00 00000",null,23017.599999999999,18017.599999999999,18017.599999999999]
[null,null,null,null,null,null,null,null,null,null,null,null,null,null,null,null,null,null,null,null,null,null,null,"Основное мероприятие «Создание условий для реализации полномочий органов местного самоуправления» ","001","04","08","12 5 01 00000",null,23017.599999999999,18017.599999999999,18017.599999999999]
[null,null,null,null,null,null,null,null,null,null,null,null,null,null,null,null,null,null,null,null,null,null,null,"Расходы на обеспечение деятельности (оказание услуг) муниципальных учреждений - обеспечение деятельности органов местного самоуправления","001","04","08","12 5 01 06090",null,23017.599999999999,18017.599999999999,18017.599999999999]
[null,null,null,null,null,null,null,null,null,null,null,null,null,null,null,null,null,null,null,null,null,null,null,"Расходы на обеспечение деятельности (оказание услуг) муниципальных учреждений - обеспечение деятельности органов местного самоуправления( МБУ\"ЛАТП- автотранспортное обслуживание\")","001","04","08","12 5 01 06094",null,23017.599999999999,18017.599999999999,18017.599999999999]
[null,null,null,null,null,null,null,null,null,null,null,null,null,null,null,null,null,null,null,null,null,null,null,"Предоставление субсидий бюджетным, автономным учреждениям и иным некоммерческим организациям","001","04","08","12 5 01 06094",600,23017.599999999999,18017.599999999999,18017.599999999999]
[null,null,null,null,null,null,null,null,null,null,null,null,null,null,null,null,null,null,null,null,null,null,null,"Субсидии бюджетным учреждениям","001","04","08","12 5 01 06094",610,23017.599999999999,18017.599999999999,18017.599999999999]
[null,null,null,null,null,null,null,null,null,null,null,null,null,null,null,null,null,null,null,null,null,null,null,"Муниципальная программа «Развитие и функционирование дорожно-транспортного комплекса»                ","001","04","08","14 0 00 00000",null,{"$f":"AD228","v":115},{"$f":"AE228","v":115},{"$f":"AF228","v":115}]
[null,null,null,null,null,null,null,null,null,null,null,null,null,null,null,null,null,null,null,null,null,null,null,"Подпрограмма «Пассажирский транспорт общего пользования»","001","04","08","14 1 00 00000",null,{"$f":"AD229","v":115},115,115]
[null,null,null,null,null,null,null,null,null,null,null,null,null,null,null,null,null,null,null,null,null,null,null,"Основное мероприятие \"Организация транспортного обслуживания населения\"","001","04","08","14 1 02 00000",null,115,115,115]
[null,null,null,null,null,null,null,null,null,null,null,null,null,null,null,null,null,null,null,null,null,null,null,"Создание условий для предоставления транспортных услуг населению и организация транспортного обслуживания населения в границах городского округа (в части автомобильного транспорта)","001","04","08"," 14 1 02 00280",null,{"$f":"AD231+AD234","v":115},{"$f":"AE231+AE234","v":115},{"$f":"AF231+AF234","v":115}]
[null,null,null,null,null,null,null,null,null,null,null,null,null,null,null,null,null,null,null,null,null,null,null,"Создание условий для предоставления транспортных услуг населению и организация транспортного обслуживания населения в границах городского округа (в части автомобильного транспорта) (маршруты №1 и №2) ","001","04","08"," 14 1 02 00281",null,{"$f":"AD232","v":0.1},0.1,0.1]
[null,null,null,null,null,null,null,null,null,null,null,null,null,null,null,null,null,null,null,null,null,null,null,"Закупка товаров, работ и услуг для обеспечения государственных (муниципальных) нужд","001","04","08"," 14 1 02 00281",200,0.1,0.1,0.1]
[null,null,null,null,null,null,null,null,null,null,null,null,null,null,null,null,null,null,null,null,null,null,null,"Иные закупки товаров, работ и услуг для обеспечения государственных (муниципальных) нужд","001","04","08"," 14 1 02 00281",240,0.1,0.1,0.1]
[null,null,null,null,null,null,null,null,null,null,null,null,null,null,null,null,null,null,null,null,null,null,null,"Создание условий для предоставления транспортных услуг населению и организация транспортного обслуживания населения в границах городского округа (в части автомобильного транспорта) (транспортное обеспечение мероприятий) ","001","04","08"," 14 1 02 00282",null,{"$f":"AD235","v":114.9},114.9,114.9]
[null,null,null,null,null,null,null,null,null,null,null,null,null,null,null,null,null,null,null,null,null,null,null,"Закупка товаров, работ и услуг для обеспечения государственных (муниципальных) нужд","001","04","08"," 14 1 02 00282",200,114.9,114.9,114.9]
[null,null,null,null,null,null,null,null,null,null,null,null,null,null,null,null,null,null,null,null,null,null,null,"Иные закупки товаров, работ и услуг для обеспечения государственных (муниципальных) нужд","001","04","08"," 14 1 02 00282",240,114.9,114.9,114.9]
[null,null,null,null,null,null,null,null,null,null,null,null,null,null,null,null,null,null,null,null,null,null,null,"Дорожное  хозяйство  (дорожные  фонды)  ","001","04","09",null,null,{"$f":"AD238","v":38134.699999999997},28134.7,22134.7]
[null,null,null,null,null,null,null,null,null,null,null,null,null,null,null,null,null,null,null,null,null,null,null,"Муниципальная программа «Развитие и функционирование дорожно-транспортного комплекса»                ","001","04","09","14 0 00 00000",null,{"$f":"AD239","v":38134.699999999997},28134.7,22134.7]
[null,null,null,null,null,null,null,null,null,null,null,null,null,null,null,null,null,null,null,null,null,null,null,"Обеспечивающая подпрограмма","001","04","09","14 5 00 00000",null,{"$f":"AD240","v":38134.699999999997},28134.7,22134.7]
[null,null,null,null,null,null,null,null,null,null,null,null,null,null,null,null,null,null,null,null,null,null,null,"Основное мероприятие «Создание условий для реализации полномочий органов местного самоуправления» ","001","04","09","14 5 01 00000",null,38134.699999999997,28134.7,22134.7]
[null,null,null,null,null,null,null,null,null,null,null,null,null,null,null,null,null,null,null,null,null,null,null,"Расходы на обеспечение деятельности (оказание услуг) муниципальных учреждений в сфере дорожного хозяйства","001","04","09","14 5 01 06230",null,{"$f":"AD242","v":38134.699999999997},{"$f":"AE242","v":28134.7},{"$f":"AF242","v":22134.7}]
[null,null,null,null,null,null,null,null,null,null,null,null,null,null,null,null,null,null,null,null,null,null,null,"Предоставление субсидий бюджетным, автономным учреждениям и иным некоммерческим организациям","001","04","09","14 5 01 06230",600,38134.699999999997,28134.7,22134.7]
[null,null,null,null,null,null,null,null,null,null,null,null,null,null,null,null,null,null,null,null,null,null,null,"Субсидии бюджетным учреждениям","001","04","09","14 5 01 06230",610,38134.699999999997,28134.7,22134.7]
[null,null,null,null,null,null,null,null,null,null,null,null,null,null,null,null,null,null,null,null,null,null,null,"Связь и информатика","001","04",10,null,null,{"$f":"AD245","v":934.5},{"$f":"AE245","v":434.5},434.5]
[null,null,null,null,null,null,null,null,null,null,null,null,null,null,null,null,null,null,null,null,null,null,null,"Муниципальная программа «Цифровое муниципальное образование»                                   ","001","04",10,"15 0 00 00000",null,934.5,434.5,434.5]
[null,null,null,null,null,null,null,null,null,null,null,null,null,null,null,null,null,null,null,null,null,null,null,"Подпрограмма «Развитие информационной и технологической инфраструктуры экосистемы цифровой экономики муниципального образования Московской области»","001","04",10,"15 2 00 00000",null,{"$f":"AD247+AD255+AD251","v":934.5},{"$f":"AE247+AE255+AE251","v":434.5},{"$f":"AF247+AF255+AF251","v":434.5}]
[null,null,null,null,null,null,null,null,null,null,null,null,null,null,null,null,null,null,null,null,null,null,null,"Основное мероприятие  «Информационная инфраструктура»","001","04",10,"15 2 01 00000",null,{"$f":"AD248","v":527.5},324.5,324.5]
[null,null,null,null,null,null,null,null,null,null,null,null,null,null,null,null,null,null,null,null,null,null,null,"Развитие информационной инфраструктуры","001","04",10,"15 2 01 01150",null,527.5,324.5,324.5]
[null,null,null,null,null,null,null,null,null,null,null,null,null,null,null,null,null,null,null,null,null,null,null,"Закупка товаров, работ и услуг для обеспечения государственных (муниципальных) нужд","001","04",10,"15 2 01 01150",200,527.5,324.5,324.5]
[null,null,null,null,null,null,null,null,null,null,null,null,null,null,null,null,null,null,null,null,null,null,null,"Иные закупки товаров, работ и услуг для обеспечения государственных (муниципальных) нужд","001","04",10,"15 2 01 01150",240,527.5,324.5,324.5]
[null,null,null,null,null,null,null,null,null,null,null,null,null,null,null,null,null,null,null,null,null,null,null,"Основное мероприятие «Информационная безопасность»","001","04",10,"15 2 02 00000",null,{"$f":"AD252","v":110},110,110]
[null,null,null,null,null,null,null,null,null,null,null,null,null,null,null,null,null,null,null,null,null,null,null,"Информационная безопасность","001","04",10,"15 2 02 01160",null,110,110,110]
[null,null,null,null,null,null,null,null,null,null,null,null,null,null,null,null,null,null,null,null,null,null,null,"Закупка товаров, работ и услуг для обеспечения государственных (муниципальных) нужд","001","04",10,"15 2 02 01160",200,110,110,110]
[null,null,null,null,null,null,null,null,null,null,null,null,null,null,null,null,null,null,null,null,null,null,null,"Иные закупки товаров, работ и услуг для обеспечения государственных (муниципальных) нужд","001","04",10,"15 2 02 01160",240,110,110,110]
[null,null,null,null,null,null,null,null,null,null,null,null,null,null,null,null,null,null,null,null,null,null,null,"Основное мероприятие «Цифровое государственное управление»","001","04",10,"15 2 03 00000",null,{"$f":"AD256","v":297},0,0]
[null,null,null,null,null,null,null,null,null,null,null,null,null,null,null,null,null,null,null,null,null,null,null,"Цифровое государственное управление","001","04",10,"15 2 03 01170",null,297,0,0]
[null,null,null,null,null,null,null,null,null,null,null,null,null,null,null,null,null,null,null,null,null,null,null,"Закупка товаров, работ и услуг для обеспечения государственных (муниципальных) нужд","001","04",10,"15 2 03 01170",200,297,0,0]
[null,null,null,null,null,null,null,null,null,null,null,null,null,null,null,null,null,null,null,null,null,null,null,"Иные закупки товаров, работ и услуг для обеспечения государственных (муниципальных) нужд","001","04",10,"15 2 03 01170",240,297,0,0]
[null,null,null,null,null,null,null,null,null,null,null,null,null,null,null,null,null,null,null,null,null,null,null,"Другие вопросы в области национальной экономики","001","04",12,null,null,{"$f":"AD260","v":848.9},{"$f":"AE260","v":848.9},848.9]
[null,null,null,null,null,null,null,null,null,null,null,null,null,null,null,null,null,null,null,null,null,null,null,"Муниципальная программа «Безопасность и обеспечение безопасности жизнедеятельности населения»                    ","001","04",12,"08 0 00 00000",null,{"$f":"AD261","v":848.9},848.9,848.9]
[null,null,null,null,null,null,null,null,null,null,null,null,null,null,null,null,null,null,null,null,null,null,null,"Подпрограмма «Профилактика преступлений и иных правонарушений»","001","04",12,"08 1 00 00000",null,848.9,848.9,848.9]
[null,null,null,null,null,null,null,null,null,null,null,null,null,null,null,null,null,null,null,null,null,null,null,"Основное мероприятие \"Развитие похоронного дела\"","001","04",12,"08 1 07 00000",null,{"$f":"AD263+AD266","v":848.9},{"$f":"AE263+AE266","v":848.9},{"$f":"AF263+AF266","v":848.9}]
[null,null,null,null,null,null,null,null,null,null,null,null,null,null,null,null,null,null,null,null,null,null,null,"Организация ритуальных услуг","001","04",12,"08 1 07 00480",null,{"$f":"AD264","v":575.9},575.9,575.9]
[null,null,null,null,null,null,null,null,null,null,null,null,null,null,null,null,null,null,null,null,null,null,null,"Закупка товаров, работ и услуг для обеспечения государственных (муниципальных) нужд","001","04",12,"08 1 07 00480",200,575.9,575.9,575.9]
[null,null,null,null,null,null,null,null,null,null,null,null,null,null,null,null,null,null,null,null,null,null,null,"Иные закупки товаров, работ и услуг для обеспечения государственных (муниципальных) нужд","001","04",12,"08 1 07 00480",240,575.9,575.9,575.9]
[null,null,null,null,null,null,null,null,null,null,null,null,null,null,null,null,null,null,null,null,null,null,null,"Осуществление переданных полномочий Московской области по транспортировке в морг, включая погрузоразгрузочные работы, с мест обнаружения или происшествия умерших для производства судебно-медицинской экспертизы","001","04",12,"08 1 07 62820",null,{"$f":"AD267","v":273},273,273]
[null,null,null,null,null,null,null,null,null,null,null,null,null,null,null,null,null,null,null,null,null,null,null,"Закупка товаров, работ и услуг для обеспечения государственных (муниципальных) нужд","001","04",12,"08 1 07 62820",200,273,273,273]
[null,null,null,null,null,null,null,null,null,null,null,null,null,null,null,null,null,null,null,null,null,null,null,"Иные закупки товаров, работ и услуг для обеспечения государственных (муниципальных) нужд","001","04",12,"08 1 07 62820",240,273,273,273]
[null,null,null,null,null,null,null,null,null,null,null,null,null,null,null,null,null,null,null,null,null,null,null,"Жилищно-коммунальное хозяйство","001","05",null,null,null,{"$f":"AD270+AD290+AD283","v":82889.100000000006},{"$f":"AE270+AE290+AE283","v":52585.1},{"$f":"AF270+AF290+AF283","v":52489.1}]
[null,null,null,null,null,null,null,null,null,null,null,null,null,null,null,null,null,null,null,null,null,null,null," Жилищное хозяйство","001","05","01",null,null,{"$f":"AD271+AD277","v":17486},{"$f":"AE271+AE277","v":17182},{"$f":"AF271+AF277","v":17086}]
[null,null,null,null,null,null,null,null,null,null,null,null,null,null,null,null,null,null,null,null,null,null,null,"Муниципальная программа «Управление имуществом и муниципальными финансами»   ","001","05","01","12 0 00 00000",null,{"$f":"AD272","v":11410},11410,11410]
[null,null,null,null,null,null,null,null,null,null,null,null,null,null,null,null,null,null,null,null,null,null,null,"Подпрограмма «Эффективное управление имущественным комплексом»","001","05","01","12 1 00 00000",null,{"$f":"AD273","v":11410},11410,11410]
[null,null,null,null,null,null,null,null,null,null,null,null,null,null,null,null,null,null,null,null,null,null,null,"Основное мероприятие «Управление имуществом, находящимся в муниципальной собственности, и выполнение кадастровых работ»","001","05","01","12 1 02 00000",null,11410,11410,11410]
["Владение, пользование и распоряжение имуществом, находящимся в муниципальной собственности городского округа","005","01",13,"12 1 02 00170",null,null,null,null,null,null,null,null,null,null,null,null,null,null,null,null,null,null,"Взносы на капитальный ремонт общего имущества многоквартирных домов","001","05","01","12 1 02 00180",null,11410,11410,11410]
[null,null,null,null,null,null,null,null,null,null,null,null,null,null,null,null,null,null,null,null,null,null,null,"Закупка товаров, работ и услуг для обеспечения государственных (муниципальных) нужд","001","05","01","12 1 02 00180",200,11410,11410,11410]
[null,null,null,null,null,null,null,null,null,null,null,null,null,null,null,null,null,null,null,null,null,null,null,"Иные закупки товаров, работ и услуг для обеспечения государственных (муниципальных) нужд","001","05","01","12 1 02 00180",240,11410,11410,11410]
[null,null,null,null,null,null,null,null,null,null,null,null,null,null,null,null,null,null,null,null,null,null,null,"Муниципальная программа «Формирование современной комфортной городской среды»   ","001","05","01","17 0 00 00000",null,{"$f":"AD278","v":6076},5772,5676]
[null,null,null,null,null,null,null,null,null,null,null,null,null,null,null,null,null,null,null,null,null,null,null,"Подпрограмма «Создание условий для обеспечения комфортного проживания жителей, в том числе в многоквартирных домах на территории Московской области»","001","05","01","17 2 00 00000",null,{"$f":"AD279","v":6076},5772,5676]
[null,null,null,null,null,null,null,null,null,null,null,null,null,null,null,null,null,null,null,null,null,null,null,"Основное мероприятие «Приведение в надлежащее состояние подъездов в многоквартирных домах»","001","05","01","17 2 03 00000",null,{"$f":"AD280","v":6076},5772,5676]
[null,null,null,null,null,null,null,null,null,null,null,null,null,null,null,null,null,null,null,null,null,null,null,"Ремонт подъездов в многоквартирных домах","001","05","01","17 2 03 S0950",null,{"$f":"AD281","v":6076},5772,5676]
[null,null,null,null,null,null,null,null,null,null,null,null,null,null,null,null,null,null,null,null,null,null,null,"Иные бюджетные ассигнования","001","05","01","17 2 03 S0950","800",6076,5772,5676]
[null,null,null,null,null,null,null,null,null,null,null,null,null,null,null,null,null,null,null,null,null,null,null,"Субсидии юридическим лицам (кроме некоммерческих организаций), индивидуальным предпринимателям, физическим лицам - производителям товаров, работ, услуг","001","05","01","17 2 03 S0950","810",{"$f":"5055.2+1020.8","v":6076},{"$f":"4802.3+969.7","v":5772},{"$f":"4722.4+953.6","v":5676}]
[null,null,null,null,null,null,null,null,null,null,null,null,null,null,null,null,null,null,null,null,null,null,null,"Коммунальное  хозяйство","001","05","02",null,null,{"$f":"AD284","v":25000},{"$f":"AE284","v":0},{"$f":"AF284","v":0}]
[null,null,null,null,null,null,null,null,null,null,null,null,null,null,null,null,null,null,null,null,null,null,null,"Муниципальная программа «Развитие инженерной инфраструктуры, энергоэффективности и отрасли обращения с отходами»   ","001","05","02","10 0 00 00000",null,{"$f":"AD285","v":25000},{"$f":"AE285","v":0},0]
[null,null,null,null,null,null,null,null,null,null,null,null,null,null,null,null,null,null,null,null,null,null,null,"Подпрограмма \"Реализация полномочий в сфере жилищно-коммунального хозяйства\"","001","05","02","10 8 00 00000",null,{"$f":"AD286","v":25000},{"$f":"AE286","v":0},0]
[null,null,null,null,null,null,null,null,null,null,null,null,null,null,null,null,null,null,null,null,null,null,null,"Основное мероприятие \"Создание экономических условий для повышения эффективности работы организаций жилищно-коммунального хозяйства Московской области\"","001","05","02","10 8 01 00000",null,{"$f":"AD287","v":25000},{"$f":"AE287","v":0},{"$f":"AF287","v":0}]
[null,null,null,null,null,null,null,null,null,null,null,null,null,null,null,null,null,null,null,null,null,null,null,"Реализация отдельных мероприятий муниципальных программ","001","05","02","10 8 01 61430",null,{"$f":"AD288","v":25000},{"$f":"AE288","v":0},0]
[null,null,null,null,null,null,null,null,null,null,null,null,null,null,null,null,null,null,null,null,null,null,null,"Иные бюджетные ассигнования","001","05","02","10 8 01 61430",800,{"$f":"AD289","v":25000},0,0]
[null,null,null,null,null,null,null,null,null,null,null,null,null,null,null,null,null,null,null,null,null,null,null,"Субсидии юридическим лицам (кроме некоммерческих организаций), индивидуальным предпринимателям, физическим лицам - производителям товаров, работ, услуг","001","05","02","10 8 01 61430",810,25000,0,0]
[null,null,null,null,null,null,null,null,null,null,null,null,null,null,null,null,null,null,null,null,null,null,null,"Благоустройство","001","05","03",null,null,{"$f":"AD302+AD291+AD308","v":40403.1},{"$f":"AE302+AE291+AE308","v":35403.1},{"$f":"AF302+AF291+AF308","v":35403.1}]
[null,null,null,null,null,null,null,null,null,null,null,null,null,null,null,null,null,null,null,null,null,null,null,"Муниципальная программа «Безопасность и обеспечение безопасности жизнедеятельности населения»                    ","001","05","03","08 0 00 00000",null,{"$f":"AD292","v":14545.1},9545.1,9545.1]
[null,null,null,null,null,null,null,null,null,null,null,null,null,null,null,null,null,null,null,null,null,null,null,"Подпрограмма «Профилактика преступлений и иных правонарушений»","001","05","03","08 1 00 00000",null,14545.1,9545.1,9545.1]
[null,null,null,null,null,null,null,null,null,null,null,null,null,null,null,null,null,null,null,null,null,null,null,"Основное мероприятие \"Развитие похоронного дела\"","001","05","03","08 1 07 00000",null,{"$f":"AD294+AD297","v":14545.1},{"$f":"AE294+AE297","v":9545.1},{"$f":"AF294+AF297","v":9545.1}]
[null,null,null,null,null,null,null,null,null,null,null,null,null,null,null,null,null,null,null,null,null,null,null,"Содержание мест захоронения","001","05","03","08 1 07 00590",null,{"$f":"AD295","v":7702.3},2702.3,2702.3]
[null,null,null,null,null,null,null,null,null,null,null,null,null,null,null,null,null,null,null,null,null,null,null,"Закупка товаров, работ и услуг для обеспечения государственных (муниципальных) нужд","001","05","03","08 1 07 00590","200",7702.3,2702.3,2702.3]
[null,null,null,null,null,null,null,null,null,null,null,null,null,null,null,null,null,null,null,null,null,null,null,"Иные закупки товаров, работ и услуг для обеспечения государственных (муниципальных) нужд","001","05","03","08 1 07 00590","240",7702.3,2702.3,2702.3]
[null,null,null,null,null,null,null,null,null,null,null,null,null,null,null,null,null,null,null,null,null,null,null,"Расходы на обеспечение деятельности (оказание услуг) муниципальных учреждений в сфере похоронного дела","001","05","03","08 1 07 06250",null,{"$f":"AD298+AD300","v":6842.8},{"$f":"AE298+AE300","v":6842.8},6842.8]
[null,null,null,null,null,null,null,null,null,null,null,null,null,null,null,null,null,null,null,null,null,null,null,"Расходы на выплаты персоналу в целях обеспечения выполнения функций государственными (муниципальными) органами, казенными учреждениями, органами управления государственными внебюджетными фондами ","001","05","03","08 1 07 06250","100",{"$f":"AD299","v":6017.1},{"$f":"AE299","v":6017.1},{"$f":"AF299","v":6017.1}]
[null,null,null,null,null,null,null,null,null,null,null,null,null,null,null,null,null,null,null,null,null,null,null,"Расходы на выплаты персоналу казенных учреждений","001","05","03","08 1 07 06250","110",6017.1,6017.1,6017.1]
[null,null,null,null,null,null,null,null,null,null,null,null,null,null,null,null,null,null,null,null,null,null,null,"Закупка товаров, работ и услуг для обеспечения государственных (муниципальных) нужд","001","05","03","08 1 07 06250","200",{"$f":"AD301","v":825.7},{"$f":"AE301","v":825.7},{"$f":"AF301","v":825.7}]
[null,null,null,null,null,null,null,null,null,null,null,null,null,null,null,null,null,null,null,null,null,null,null,"Иные закупки товаров, работ и услуг для обеспечения государственных (муниципальных) нужд","001","05","03","08 1 07 06250","240",825.7,825.7,825.7]
[null,null,null,null,null,null,null,null,null,null,null,null,null,null,null,null,null,null,null,null,null,null,null,"Муниципальная программа  «Развитие институтов гражданского общества, повышение эффективности местного самоуправления и реализации молодежной политики»","001","05","03","13 0 00 00000",null,{"$f":"AD303","v":500},500,500]
[null,null,null,null,null,null,null,null,null,null,null,null,null,null,null,null,null,null,null,null,null,null,null,"Подпрограмма «Развитие системы информирования населения о деятельности органов местного самоуправления городских округов Московской области, создание доступной современной медиасреды»","001","05","03","13 1 00 00000",null,500,500,500]
[null,null,null,null,null,null,null,null,null,null,null,null,null,null,null,null,null,null,null,null,null,null,null,"Основное мероприятие «Организация создания и эксплуатации сети объектов наружной рекламы»","001","05","03","13 1 07 00000",null,{"$f":"AD305","v":500},500,500]
[null,null,null,null,null,null,null,null,null,null,null,null,null,null,null,null,null,null,null,null,null,null,null,"Утверждение схемы размещения рекламных конструкций, выдача разрешений на установку и эксплуатацию рекламных конструкций, выдача предписаний о демонтаже самовольно установленных рекламных конструкций","001","05","03","13 1 07 00660",null,{"$f":"AD306","v":500},{"$f":"AE306","v":500},{"$f":"AF306","v":500}]
[null,null,null,null,null,null,null,null,null,null,null,null,null,null,null,null,null,null,null,null,null,null,null,"Закупка товаров, работ и услуг для обеспечения государственных (муниципальных) нужд","001","05","03","13 1 07 00660",200,500,500,500]
[null,null,null,null,null,null,null,null,null,null,null,null,null,null,null,null,null,null,null,null,null,null,null,"Иные закупки товаров, работ и услуг для обеспечения государственных (муниципальных) нужд","001","05","03","13 1 07 00660",240,500,500,500]
[null,null,null,null,null,null,null,null,null,null,null,null,null,null,null,null,null,null,null,null,null,null,null,"Муниципальная программа «Формирование современной комфортной городской среды»   ","001","05","03","17 0 00 00000",null,{"$f":"AD309","v":25358},{"$f":"AE309","v":25358},25358]
[null,null,null,null,null,null,null,null,null,null,null,null,null,null,null,null,null,null,null,null,null,null,null,"Подпрограмма «Создание условий для обеспечения комфортного проживания жителей, в том числе в многоквартирных домах на территории Московской области»","001","05","03","17 2 00 00000",null,{"$f":"AD310","v":25358},25358,25358]
[null,null,null,null,null,null,null,null,null,null,null,null,null,null,null,null,null,null,null,null,null,null,null,"Основное мероприятие «Обеспечение комфортной среды проживания на территории муниципального образования Московской области»","001","05","03","17 2 01 00000",null,{"$f":"AD311","v":25358},25358,25358]
[null,null,null,null,null,null,null,null,null,null,null,null,null,null,null,null,null,null,null,null,null,null,null,"Расходы на обеспечение деятельности (оказание услуг) муниципальных учреждений в сфере благоустройства (МКУ/МБУ/МАУ)","001","05","03","17 2 01 06242",null,25358,25358,25358]
[null,null,null,null,null,null,null,null,null,null,null,null,null,null,null,null,null,null,null,null,null,null,null,"Предоставление субсидий бюджетным, автономным учреждениям и иным некоммерческим организациям","001","05","03","17 2 01 06242",600,25358,25358,25358]
[null,null,null,null,null,null,null,null,null,null,null,null,null,null,null,null,null,null,null,null,null,null,null,"Субсидии бюджетным учреждениям","001","05","03","17 2 01 06242",610,{"$f":"25383-25","v":25358},{"$f":"25383-25","v":25358},{"$f":"25383-25","v":25358}]
[null,null,null,null,null,null,null,null,null,null,null,null,null,null,null,null,null,null,null,null,null,null,null,"Охрана окружающей среды","001","06",null,null,null,{"$f":"AD315","v":25},{"$f":"AE315","v":25},25]
[null,null,null,null,null,null,null,null,null,null,null,null,null,null,null,null,null,null,null,null,null,null,null,"Другие вопросы в области охраны окружающей среды","001","06","05",null,null,25,25,25]
[null,null,null,null,null,null,null,null,null,null,null,null,null,null,null,null,null,null,null,null,null,null,null,"Муниципальная программа \"Экология и окружающая среда\"","001","06","05","07 0 00 00000",null,25,25,25]
[null,null,null,null,null,null,null,null,null,null,null,null,null,null,null,null,null,null,null,null,null,null,null,"Подпрограмма \"Охрана окружающей среды\"","001","06","05","07 1 00 00000",null,25,25,25]
[null,null,null,null,null,null,null,null,null,null,null,null,null,null,null,null,null,null,null,null,null,null,null,"Основное мероприятие \"Проведение обследований состояния окружающей среды\"","001","06","05","07 1 01 00000",null,25,25,25]
[null,null,null,null,null,null,null,null,null,null,null,null,null,null,null,null,null,null,null,null,null,null,null,"Организация мероприятий по охране окружающей среды в границах городского округа","001","06","05","07 1 01 00370",null,25,25,25]
[null,null,null,null,null,null,null,null,null,null,null,null,null,null,null,null,null,null,null,null,null,null,null,"Предоставление субсидий бюджетным, автономным учреждениям и иным некоммерческим организациям","001","06","05","07 1 01 00370",600,25,25,25]
[null,null,null,null,null,null,null,null,null,null,null,null,null,null,null,null,null,null,null,null,null,null,null,"Субсидии бюджетным учреждениям","001","06","05","07 1 01 00370",610,25,25,25]
[null,null,null,null,null,null,null,null,null,null,null,null,null,null,null,null,null,null,null,null,null,null,null,"Образование","001","07",null,null,null,{"$f":"AD323+AD334+AD351","v":51336},{"$f":"AE323+AE334+AE351","v":53572.7},{"$f":"AF323+AF334+AF351","v":49933.7}]
[null,null,null,null,null,null,null,null,null,null,null,null,null,null,null,null,null,null,null,null,null,null,null,"Дополнительное образование детей","001","07","03",null,null,{"$f":"AD324","v":47610},{"$f":"AE324","v":50249},46610]
[null,null,null,null,null,null,null,null,null,null,null,null,null,null,null,null,null,null,null,null,null,null,null,"Муниципальная программа «Культура и туризм»                  ","001","07","03","02 0 00 00000",null,{"$f":"AD325","v":47610},{"$f":"AE325","v":50249},46610]
[null,null,null,null,null,null,null,null,null,null,null,null,null,null,null,null,null,null,null,null,null,null,null,"Подпрограмма \"Развитие образования в сфере культуры\" ","001","07","03","02 6 00 00000",null,{"$f":"AD326+AD330","v":47610},{"$f":"AE326+AE330","v":50249},46610]
[null,null,null,null,null,null,null,null,null,null,null,null,null,null,null,null,null,null,null,null,null,null,null,"Основное мероприятие \"Обеспечение функций муниципальных организаций дополнительного образования сферы культуры\"","001","07","03","02 6 01 00000",null,{"$f":"AD327","v":47610},47610,46610]
[null,null,null,null,null,null,null,null,null,null,null,null,null,null,null,null,null,null,null,null,null,null,null,"Расходы на обеспечение деятельности (оказание услуг) муниципальных организаций дополнительного образования сферы культуры","001","07","03","02 6 01 06260",null,47610,47610,46610]
[null,null,null,null,null,null,null,null,null,null,null,null,null,null,null,null,null,null,null,null,null,null,null,"Предоставление субсидий бюджетным, автономным учреждениям и иным некоммерческим организациям","001","07","03","02 6 01 06260",600,47610,47610,46610]
[null,null,null,null,null,null,null,null,null,null,null,null,null,null,null,null,null,null,null,null,null,null,null,"Субсидии бюджетным учреждениям","001","07","03","02 6 01 06260",610,47610,47610,46610]
[null,null,null,null,null,null,null,null,null,null,null,null,null,null,null,null,null,null,null,null,null,null,null,"Основное мероприятие \"Обеспечение пожарной безопасности и создание доступной среды\"","001","07","03","02 6 04 00000",null,{"$f":"AD331","v":0},{"$f":"AE331","v":2639},0]
[null,null,null,null,null,null,null,null,null,null,null,null,null,null,null,null,null,null,null,null,null,null,null,"Создание доступной среды в муниципальных учреждениях дополнительного образования сферы культуры","001","07","03","02 6 04 S3970",null,{"$f":"AD332","v":0},2639,0]
[null,null,null,null,null,null,null,null,null,null,null,null,null,null,null,null,null,null,null,null,null,null,null,"Предоставление субсидий бюджетным, автономным учреждениям и иным некоммерческим организациям","001","07","03","02 6 04 S3970",600,{"$f":"AD333","v":0},2639,0]
[null,null,null,null,null,null,null,null,null,null,null,null,null,null,null,null,null,null,null,null,null,null,null,"Субсидии бюджетным учреждениям","001","07","03","02 6 04 S3970",610,0,{"$f":"1847.3+791.7","v":2639},0]
[null,null,null,null,null,null,null,null,null,null,null,null,null,null,null,null,null,null,null,null,null,null,null,"Молодежная политика ","001","07","07",null,null,{"$f":"AD335+AD341","v":1566},{"$f":"AE335+AE341","v":1163.7},{"$f":"AF335+AF341","v":1163.7}]
[null,null,null,null,null,null,null,null,null,null,null,null,null,null,null,null,null,null,null,null,null,null,null,"Муниципальная программа «Безопасность и обеспечение безопасности жизнедеятельности населения»                    ","001","07","07","08 0 00 00000",null,{"$f":"AD336","v":295.2},{"$f":"AE336","v":295.2},{"$f":"AF336","v":295.2}]
[null,null,null,null,null,null,null,null,null,null,null,null,null,null,null,null,null,null,null,null,null,null,null,"Подпрограмма «Профилактика преступлений и иных правонарушений»","001","07","07","08 1 00 00000",null,{"$f":"AD337","v":295.2},{"$f":"AE337","v":295.2},295.2]
[null,null,null,null,null,null,null,null,null,null,null,null,null,null,null,null,null,null,null,null,null,null,null,"Основное мероприятие «Реализация мероприятий по обеспечению общественного порядка и общественной безопасности, профилактике проявлений экстремизма»","001","07","07","08 1 03 00000",null,{"$f":"AD338","v":295.2},295.2,295.2]
[null,null,null,null,null,null,null,null,null,null,null,null,null,null,null,null,null,null,null,null,null,null,null,"Участие в профилактике терроризма и экстремизма, а также в минимизации и (или) ликвидации последствий проявлений терроризма и экстремизма в границах городского округа","001","07","07","08 1 03 00300",null,295.2,295.2,295.2]
[null,null,null,null,null,null,null,null,null,null,null,null,null,null,null,null,null,null,null,null,null,null,null,"Закупка товаров, работ и услуг для обеспечения государственных (муниципальных) нужд","001","07","07","08 1 03 00300",200,{"$f":"AD340","v":295.2},{"$f":"AE340","v":295.2},{"$f":"AF340","v":295.2}]
[null,null,null,null,null,null,null,null,null,null,null,null,null,null,null,null,null,null,null,null,null,null,null,"Иные закупки товаров, работ и услуг для обеспечения государственных (муниципальных) нужд","001","07","07","08 1 03 00300",240,295.2,295.2,295.2]
[null,null,null,null,null,null,null,null,null,null,null,null,null,null,null,null,null,null,null,null,null,null,null,"Муниципальная программа  «Развитие институтов гражданского общества, повышение эффективности местного самоуправления и реализации молодежной политики»","001","07","07","13 0 00 00000",null,{"$f":"AD342","v":1270.8},868.5,868.5]
[null,null,null,null,null,null,null,null,null,null,null,null,null,null,null,null,null,null,null,null,null,null,null,"Подпрограмма «Молодежь Подмосковья»","001","07","07","13 4 00 00000",null,{"$f":"AD343+AD347","v":1270.8},{"$f":"AE343+AE347","v":868.5},{"$f":"AF343+AF347","v":868.5}]
[null,null,null,null,null,null,null,null,null,null,null,null,null,null,null,null,null,null,null,null,null,null,null,"Основное мероприятие «Вовлечение молодежи в общественную жизнь»","001","07","07","13 4 01 00000",null,384,250,250]
[null,null,null,null,null,null,null,null,null,null,null,null,null,null,null,null,null,null,null,null,null,null,null,"Организация и осуществление мероприятий по работе с детьми и молодежью в городском округе","001","07","07","13 4 01 00770",null,{"$f":"AD345","v":384},250,250]
[null,null,null,null,null,null,null,null,null,null,null,null,null,null,null,null,null,null,null,null,null,null,null,"Закупка товаров, работ и услуг для обеспечения государственных (муниципальных) нужд","001","07","07","13 4 01 00770",200,384,250,250]
[null,null,null,null,null,null,null,null,null,null,null,null,null,null,null,null,null,null,null,null,null,null,null,"Иные закупки товаров, работ и услуг для обеспечения государственных (муниципальных) нужд","001","07","07","13 4 01 00770",240,384,250,250]
[null,null,null,null,null,null,null,null,null,null,null,null,null,null,null,null,null,null,null,null,null,null,null,"Основное мероприятие \"Организация и проведение мероприятий по профориентации и реализации трудового и творческого потенциала молодежи, вовлечению молодежи в инновационную деятельность, научно-техническое творчество и предпринимательство, а также по поддержке молодежных творческих инициатив и медиасообществ\"","001","07","07","13 4 02 00000",null,{"$f":"AD348","v":886.8},{"$f":"AE348","v":618.5},618.5]
[null,null,null,null,null,null,null,null,null,null,null,null,null,null,null,null,null,null,null,null,null,null,null,"Организация и осуществление мероприятий по профориентации и обеспечению занятости молодежи в городском округе","001","07","07","13 4 02 01510",null,{"$f":"AD349","v":886.8},618.5,618.5]
[null,null,null,null,null,null,null,null,null,null,null,null,null,null,null,null,null,null,null,null,null,null,null,"Закупка товаров, работ и услуг для обеспечения государственных (муниципальных) нужд","001","07","07","13 4 02 01510",200,{"$f":"AD350","v":886.8},{"$f":"AE350","v":618.5},618.5]
[null,null,null,null,null,null,null,null,null,null,null,null,null,null,null,null,null,null,null,null,null,null,null,"Иные закупки товаров, работ и услуг для обеспечения государственных (муниципальных) нужд","001","07","07","13 4 02 01510",240,886.8,618.5,618.5]
[null,null,null,null,null,null,null,null,null,null,null,null,null,null,null,null,null,null,null,null,null,null,null," Другие вопросы в области образования","001","07","09",null,null,{"$f":"AD353","v":2160},{"$f":"AE353","v":2160},{"$f":"AF353","v":2160}]
[null,null,null,null,null,null,null,null,null,null,null,null,null,null,null,null,null,null,null,null,null,null,null,"Муниципальная программа «Социальная защита населения»                    ","001","07","09","04 0 00 00000",null,{"$f":"AD353","v":2160},2160,2160]
[null,null,null,null,null,null,null,null,null,null,null,null,null,null,null,null,null,null,null,null,null,null,null,"Подпрограмма «Развитие системы отдыха и оздоровления детей»","001","07","09","04 2 00 00000",null,2160,2160,2160]
[null,null,null,null,null,null,null,null,null,null,null,null,null,null,null,null,null,null,null,null,null,null,null,"Основное мероприятие \"Мероприятия по организации отдыха детей в каникулярное время\"","001","07","09","04 2 03 00000",null,2160,2160,2160]
[null,null,null,null,null,null,null,null,null,null,null,null,null,null,null,null,null,null,null,null,null,null,null,"Мероприятия по организации отдыха детей в каникулярное время","001","07","09","04 2 03 S2190",null,2160,2160,2160]
[null,null,null,null,null,null,null,null,null,null,null,null,null,null,null,null,null,null,null,null,null,null,null,"Мероприятия по организации отдыха детей в каникулярное время (организация  отдыха  детей  и  подростков  в  санаторно-курортных  учреждениях  и  загородных  оздоровительных  лагерях)","001","07","09","04 2 03 S2191",null,{"$f":"AD359+AD357","v":2160},{"$f":"AE359+AE357","v":2160},2160]
[null,null,null,null,null,null,null,null,null,null,null,null,null,null,null,null,null,null,null,null,null,null,null,"Закупка товаров, работ и услуг для обеспечения государственных (муниципальных) нужд","001","07","09","04 2 03 S2191",200,{"$f":"AD358","v":1860},{"$f":"AE358","v":1860},{"$f":"AF358","v":1860}]
[null,null,null,null,null,null,null,null,null,null,null,null,null,null,null,null,null,null,null,null,null,null,null,"Иные закупки товаров, работ и услуг для обеспечения государственных (муниципальных) нужд","001","07","09","04 2 03 S2191",240,{"$f":"1740+120","v":1860},{"$f":"1740+120","v":1860},{"$f":"1740+120","v":1860}]
[null,null,null,null,null,null,null,null,null,null,null,null,null,null,null,null,null,null,null,null,null,null,null,"Социальное обеспечение и иные выплаты населению","001","07","09","04 2 03 S2191",300,{"$f":"AD360","v":300},{"$f":"AE360","v":300},{"$f":"AF360","v":300}]
[null,null,null,null,null,null,null,null,null,null,null,null,null,null,null,null,null,null,null,null,null,null,null,"Социальные выплаты гражданам, кроме публичных нормативных социальных выплат","001","07","09","04 2 03 S2191",320,300,300,300]
[null,null,null,null,null,null,null,null,null,null,null,null,null,null,null,null,null,null,null,null,null,null,null,"Культура,  кинематография","001","08",null,null,null,{"$f":"AD362","v":113185.2},{"$f":"AE362","v":106521},{"$f":"AF362","v":108318}]
[null,null,null,null,null,null,null,null,null,null,null,null,null,null,null,null,null,null,null,null,null,null,null,"Культура ","001","08","01",null,null,{"$f":"AD363","v":113185.2},{"$f":"AE363","v":106521},108318]
[null,null,null,null,null,null,null,null,null,null,null,null,null,null,null,null,null,null,null,null,null,null,null,"Муниципальная программа «Культура и туризм»                  ","001","08","01","02 0 00 00000",null,{"$f":"AD364+AD369+AD380+AD398","v":113185.2},{"$f":"AE364+AE369+AE380+AE398","v":106521},{"$f":"AF364+AF369+AF380+AF398","v":108318}]
[null,null,null,null,null,null,null,null,null,null,null,null,null,null,null,null,null,null,null,null,null,null,null,"Подпрограмма «Развитие музейного дела\"","001","08","01","02 2 00 00000",null,{"$f":"AD365","v":19286},17775.5,17775.5]
[null,null,null,null,null,null,null,null,null,null,null,null,null,null,null,null,null,null,null,null,null,null,null,"Основное мероприятие «Обеспечение выполнения функций муниципальных музеев»","001","08","01","02 2 01 00000",null,19286,17775.5,17775.5]
[null,null,null,null,null,null,null,null,null,null,null,null,null,null,null,null,null,null,null,null,null,null,null,"Расходы на обеспечение деятельности (оказание услуг) муниципальных учреждений - музеи, галереи","001","08","01","02 2 01 06130",null,{"$f":"AD367","v":19286},17775.5,17775.5]
[null,null,null,null,null,null,null,null,null,null,null,null,null,null,null,null,null,null,null,null,null,null,null,"Предоставление субсидий бюджетным, автономным учреждениям и иным некоммерческим организациям","001","08","01","02 2 01 06130",600,19286,17775.5,17775.5]
[null,null,null,null,null,null,null,null,null,null,null,null,null,null,null,null,null,null,null,null,null,null,null,"Субсидии бюджетным учреждениям","001","08","01","02 2 01 06130",610,19286,17775.5,17775.5]
[null,null,null,null,null,null,null,null,null,null,null,null,null,null,null,null,null,null,null,null,null,null,null,"Подпрограмма «Развитие библиотечного дела»","001","08","01","02 3 00 00000",null,{"$f":"AD370","v":29685.200000000001},{"$f":"AE370","v":28685.200000000001},{"$f":"AF370","v":28318}]
[null,null,null,null,null,null,null,null,null,null,null,null,null,null,null,null,null,null,null,null,null,null,null,"Основное мероприятие «Организация библиотечного обслуживания населения муниципальными библиотеками Московской области»","001","08","01","02 3 01 00000",null,{"$f":"AD371+AD374+AD377","v":29685.200000000001},{"$f":"AE371+AE374+AE377","v":28685.200000000001},28318]
[null,null,null,null,null,null,null,null,null,null,null,null,null,null,null,null,null,null,null,null,null,null,null,"Организация библиотечного обслуживания населения, комплектование и обеспечение сохранности библиотечных фондов библиотек городского округа","001","08","01","02 3 01 00450",null,{"$f":"AD372","v":1000},0,0]
[null,null,null,null,null,null,null,null,null,null,null,null,null,null,null,null,null,null,null,null,null,null,null,"Предоставление субсидий бюджетным, автономным учреждениям и иным некоммерческим организациям","001","08","01","02 3 01 00450",600,1000,0,0]
[null,null,null,null,null,null,null,null,null,null,null,null,null,null,null,null,null,null,null,null,null,null,null,"Субсидии бюджетным учреждениям","001","08","01","02 3 01 00450",610,1000,0,0]
[null,null,null,null,null,null,null,null,null,null,null,null,null,null,null,null,null,null,null,null,null,null,null,"Расходы на обеспечение деятельности (оказание услуг) муниципальных учреждений - библиотеки","001","08","01","02 3 01 06100",null,{"$f":"AD375","v":28318},28318,28318]
[null,null,null,null,null,null,null,null,null,null,null,null,null,null,null,null,null,null,null,null,null,null,null,"Предоставление субсидий бюджетным, автономным учреждениям и иным некоммерческим организациям","001","08","01","02 3 01 06100",600,28318,28318,28318]
[null,null,null,null,null,null,null,null,null,null,null,null,null,null,null,null,null,null,null,null,null,null,null,"Субсидии бюджетным учреждениям","001","08","01","02 3 01 06100",610,28318,28318,28318]
[null,null,null,null,null,null,null,null,null,null,null,null,null,null,null,null,null,null,null,null,null,null,null,"Государственная поддержка отрасли культуры (модернизация библиотек в части комплектования книжных фондов муниципальных общедоступных библиотек)","001","08","01","02 3 01 L5198",null,{"$f":"AD378","v":367.2},{"$f":"AE378","v":367.2},0]
[null,null,null,null,null,null,null,null,null,null,null,null,null,null,null,null,null,null,null,null,null,null,null,"Предоставление субсидий бюджетным, автономным учреждениям и иным некоммерческим организациям","001","08","01","02 3 01 L5198",600,{"$f":"AD379","v":367.2},{"$f":"AE379","v":367.2},0]
[null,null,null,null,null,null,null,null,null,null,null,null,null,null,null,null,null,null,null,null,null,null,null,"Субсидии бюджетным учреждениям","001","08","01","02 3 01 L5198",610,{"$f":"305.5+61.7","v":367.2},{"$f":"305.5+61.7","v":367.2},0]
[null,null,null,null,null,null,null,null,null,null,null,null,null,null,null,null,null,null,null,null,null,null,null,"Подпрограмма «Развитие профессионального искусства, гастрольно-концертной и культурно-досуговой деятельности, кинематографии»","001","08","01","02 4 00 00000",null,{"$f":"AD381","v":64214},{"$f":"AE381","v":58724.5},58724.5]
[null,null,null,null,null,null,null,null,null,null,null,null,null,null,null,null,null,null,null,null,null,null,null,"Основное мероприятие \"Обеспечение функций культурно-досуговых учреждений\"","001","08","01","02 4 04 00000",null,{"$f":"AD391+AD382","v":64214},{"$f":"AE391+AE382","v":58724.5},58724.5]
[null,null,null,null,null,null,null,null,null,null,null,null,null,null,null,null,null,null,null,null,null,null,null,"Мероприятия в сфере культуры","001","08","01","02 4 04 00500",null,{"$f":"AD383+AD388","v":3500},{"$f":"AE383+AE388","v":3500},{"$f":"AF383+AF388","v":3500}]
[null,null,null,null,null,null,null,null,null,null,null,null,null,null,null,null,null,null,null,null,null,null,null,"Мероприятия в сфере культуры (проведение культурно-массовых и праздничных мероприятий в сфере культуры в городе Лыткарино)","001","08","01","02 4 04 00501",null,{"$f":"AD386+AD384","v":3065},{"$f":"AE386+AE384","v":3065},{"$f":"AF386+AF384","v":3065}]
[null,null,null,null,null,null,null,null,null,null,null,null,null,null,null,null,null,null,null,null,null,null,null,"Закупка товаров, работ и услуг для обеспечения государственных (муниципальных) нужд","001","08","01","02 4 04 00501",200,{"$f":"AD385","v":850},{"$f":"AE385","v":850},{"$f":"AF385","v":850}]
[null,null,null,null,null,null,null,null,null,null,null,null,null,null,null,null,null,null,null,null,null,null,null,"Иные закупки товаров, работ и услуг для обеспечения государственных (муниципальных) нужд","001","08","01","02 4 04 00501",240,850,850,850]
[null,null,null,null,null,null,null,null,null,null,null,null,null,null,null,null,null,null,null,null,null,null,null,"Предоставление субсидий бюджетным, автономным учреждениям и иным некоммерческим организациям","001","08","01","02 4 04 00501",600,{"$f":"AD387","v":2215},{"$f":"AE387","v":2215},{"$f":"AF387","v":2215}]
[null,null,null,null,null,null,null,null,null,null,null,null,null,null,null,null,null,null,null,null,null,null,null,"Субсидии бюджетным учреждениям","001","08","01","02 4 04 00501",610,2215,2215,2215]
[null,null,null,null,null,null,null,null,null,null,null,null,null,null,null,null,null,null,null,null,null,null,null,"Мероприятия в сфере культуры (проведение мероприятий по духовно-нравственному воспитанию)","001","08","01","02 4 04 00502",null,{"$f":"AD389","v":435},435,435]
[null,null,null,null,null,null,null,null,null,null,null,null,null,null,null,null,null,null,null,null,null,null,null,"Предоставление субсидий бюджетным, автономным учреждениям и иным некоммерческим организациям","001","08","01","02 4 04 00502",600,435,435,435]
[null,null,null,null,null,null,null,null,null,null,null,null,null,null,null,null,null,null,null,null,null,null,null,"Субсидии бюджетным учреждениям","001","08","01","02 4 04 00502",610,435,435,435]
[null,null,null,null,null,null,null,null,null,null,null,null,null,null,null,null,null,null,null,null,null,null,null,"Расходы на обеспечение деятельности(оказание услуг) муниципальных учреждений-культурно-досуговые учреждения","001","08","01","02 4 04 06110",null,{"$f":"AD392+AD395","v":60714},{"$f":"AE392+AE395","v":55224.5},{"$f":"AF392+AF395","v":55224.5}]
[null,null,null,null,null,null,null,null,null,null,null,null,null,null,null,null,null,null,null,null,null,null,null,"Расходы на обеспечение деятельности (оказание услуг) муниципальных учреждений - культурно-досуговые учреждения (Расходы на выполнение муниципального задания муниципальных учреждений- МУ ДК \"Мир\")","001","08","01","02 4 04 06111",null,{"$f":"AD393","v":32186},29245.200000000001,29245.200000000001]
[null,null,null,null,null,null,null,null,null,null,null,null,null,null,null,null,null,null,null,null,null,null,null,"Предоставление субсидий бюджетным, автономным учреждениям и иным некоммерческим организациям","001","08","01","02 4 04 06111",600,32186,29245.200000000001,29245.200000000001]
[null,null,null,null,null,null,null,null,null,null,null,null,null,null,null,null,null,null,null,null,null,null,null,"Субсидии бюджетным учреждениям","001","08","01","02 4 04 06111",610,32186,29245.200000000001,29245.200000000001]
[null,null,null,null,null,null,null,null,null,null,null,null,null,null,null,null,null,null,null,null,null,null,null,"Расходы на обеспечение деятельности (оказание услуг) муниципальных учреждений - культурно-досуговые учреждения (Расходы на выполнение муниципального задания муниципальных учреждений- МУ ДК \"Центр молодежи\")","001","08","01","02 4 04 06112",null,{"$f":"AD396","v":28528},25979.3,25979.3]
[null,null,null,null,null,null,null,null,null,null,null,null,null,null,null,null,null,null,null,null,null,null,null,"Предоставление субсидий бюджетным, автономным учреждениям и иным некоммерческим организациям","001","08","01","02 4 04 06112",600,28528,25979.3,25979.3]
[null,null,null,null,null,null,null,null,null,null,null,null,null,null,null,null,null,null,null,null,null,null,null,"Субсидии бюджетным учреждениям","001","08","01","02 4 04 06112",610,28528,25979.3,25979.3]
[null,null,null,null,null,null,null,null,null,null,null,null,null,null,null,null,null,null,null,null,null,null,null,"Подпрограмма «Укрепление материально-технической базы муниципальных учреждений культуры»","001","08","01","02 5 00 00000",null,{"$f":"AD399","v":0},{"$f":"AE399","v":1335.8},3500]
[null,null,null,null,null,null,null,null,null,null,null,null,null,null,null,null,null,null,null,null,null,null,null,"Основное мероприятие «Создание доступной среды»","001","08","01","02 5 01 00000",null,{"$f":"AD400","v":0},{"$f":"AE400","v":1335.8},3500]
[null,null,null,null,null,null,null,null,null,null,null,null,null,null,null,null,null,null,null,null,null,null,null,"Создание доступной среды в муниципальных учреждениях культуры","001","08","01","02 5 01 S3960",null,{"$f":"AD401","v":0},1335.8,3500]
[null,null,null,null,null,null,null,null,null,null,null,null,null,null,null,null,null,null,null,null,null,null,null,"Предоставление субсидий бюджетным, автономным учреждениям и иным некоммерческим организациям","001","08","01","02 5 01 S3960",600,{"$f":"AD402","v":0},1335.8,3500]
[null,null,null,null,null,null,null,null,null,null,null,null,null,null,null,null,null,null,null,null,null,null,null,"Субсидии бюджетным учреждениям","001","08","01","02 5 01 S3960",610,0,{"$f":"935+400.8","v":1335.8},{"$f":"2450+1050","v":3500}]
[null,null,null,null,null,null,null,null,null,null,null,null,null,null,null,null,null,null,null,null,null,null,null,"Социальная политика","001","10",null,null,null,{"$f":"AD404+AD411","v":3533.6},{"$f":"AE404+AE411","v":3533.6},{"$f":"AF404+AF411","v":3533.6}]
[null,null,null,null,null,null,null,null,null,null,null,null,null,null,null,null,null,null,null,null,null,null,null,"Пенсионное обеспечение","001",10,"01",null,null,{"$f":"AD405","v":3463.6},{"$f":"AE405","v":3463.6},{"$f":"AF405","v":3463.6}]
[null,null,null,null,null,null,null,null,null,null,null,null,null,null,null,null,null,null,null,null,null,null,null,"Муниципальная программа «Социальная защита населения»                    ","001",10,"01","04 0 00 00000",null,{"$f":"AD407","v":3463.6},{"$f":"AE407","v":3463.6},{"$f":"AF407","v":3463.6}]
[null,null,null,null,null,null,null,null,null,null,null,null,null,null,null,null,null,null,null,null,null,null,null,"Подпрограмма «Социальная поддержка граждан»","001",10,"01","04 1 00 00000",null,{"$f":"AD407","v":3463.6},{"$f":"AE407","v":3463.6},{"$f":"AF407","v":3463.6}]
[null,null,null,null,null,null,null,null,null,null,null,null,null,null,null,null,null,null,null,null,null,null,null,"Основное мероприятие \"Предоставление государственных гарантий муниципальным служащим, поощрение за муниципальную службу\"","001",10,"01","04 1 15 00000",null,{"$f":"AD408","v":3463.6},3463.6,3463.6]
[null,null,null,null,null,null,null,null,null,null,null,null,null,null,null,null,null,null,null,null,null,null,null,"Предоставление доплаты за выслугу лет к трудовой пенсии муниципальным служащим за счет средств местного бюджета","001",10,"01","04 1 15 00840",null,3463.6,3463.6,3463.6]
[null,null,null,null,null,null,null,null,null,null,null,null,null,null,null,null,null,null,null,null,null,null,null,"Социальное обеспечение и иные выплаты населению","001",10,"01","04 1 15 00840",300,3463.6,3463.6,3463.6]
[null,null,null,null,null,null,null,null,null,null,null,null,null,null,null,null,null,null,null,null,null,null,null,"Социальные выплаты гражданам, кроме публичных нормативных социальных выплат","001",10,"01","04 1 15 00840",320,3463.6,3463.6,3463.6]
[null,null,null,null,null,null,null,null,null,null,null,null,null,null,null,null,null,null,null,null,null,null,null,"Другие  вопросы  в  области  социальной  политики  ","001",10,"06",null,null,{"$f":"AD412","v":70},70,70]
[null,null,null,null,null,null,null,null,null,null,null,null,null,null,null,null,null,null,null,null,null,null,null,"Муниципальная программа «Социальная защита населения»                    ","001",10,"06","04 0 00 00000",null,{"$f":"AD413","v":70},70,70]
[null,null,null,null,null,null,null,null,null,null,null,null,null,null,null,null,null,null,null,null,null,null,null,"Подпрограмма «Развитие и поддержка социально ориентированных некоммерческих организаций\" ","001",10,"06","04 6 00 00000",null,{"$f":"AD414","v":70},{"$f":"AE414","v":70},{"$f":"AF414","v":70}]
[null,null,null,null,null,null,null,null,null,null,null,null,null,null,null,null,null,null,null,null,null,null,null,"Основное мероприятие «Развитие негосударственного сектора социального обслуживания»","001",10,"06","04 6 01 00000",null,{"$f":"AD415","v":70},{"$f":"AE415","v":70},70]
[null,null,null,null,null,null,null,null,null,null,null,null,null,null,null,null,null,null,null,null,null,null,null,"Оказание поддержки общественным объединениям инвалидов, а также территориальным подразделениям, созданным общероссийскими общественными объединениями инвалидов","001",10,"06","04 6 01 00880",null,{"$f":"AD416","v":70},70,70]
[null,null,null,null,null,null,null,null,null,null,null,null,null,null,null,null,null,null,null,null,null,null,null,"Предоставление субсидий бюджетным, автономным учреждениям и иным некоммерческим организациям","001",10,"06","04 6 01 00880",600,70,70,70]
[null,null,null,null,null,null,null,null,null,null,null,null,null,null,null,null,null,null,null,null,null,null,null,"Субсидии некоммерческим организациям (за исключением государственных (муниципальных) учреждений,государственных корпораций (компаний), публично-правовых компаний)","001",10,"06","04 6 01 00880",630,70,70,70]
[null,null,null,null,null,null,null,null,null,null,null,null,null,null,null,null,null,null,null,null,null,null,null,"Физическая  культура  и  спорт","001",11,null,null,null,{"$f":"AD419+AD426","v":85831},{"$f":"AE419+AE426","v":85831},{"$f":"AF419+AF426","v":85831}]
[null,null,null,null,null,null,null,null,null,null,null,null,null,null,null,null,null,null,null,null,null,null,null,"Физическая культура","001",11,"01",null,null,{"$f":"AD420","v":82501},82501,82501]
[null,null,null,null,null,null,null,null,null,null,null,null,null,null,null,null,null,null,null,null,null,null,null,"Муниципальная программа «Спорт»                    ","001",11,"01","05 0 00 00000",null,82501,82501,82501]
[null,null,null,null,null,null,null,null,null,null,null,null,null,null,null,null,null,null,null,null,null,null,null,"Подпрограмма «Развитие физической культуры и спорта»","001",11,"01","05 1 00 00000",null,{"$f":"AD422","v":82501},82501,82501]
[null,null,null,null,null,null,null,null,null,null,null,null,null,null,null,null,null,null,null,null,null,null,null,"Основное мероприятие «Обеспечение условий для развития на территории городского округа физической культуры, школьного спорта и массового спорта»","001",11,"01","05 1 01 00000",null,82501,82501,82501]
[null,null,null,null,null,null,null,null,null,null,null,null,null,null,null,null,null,null,null,null,null,null,null,"Расходы на обеспечение деятельности (оказание услуг) муниципальных учреждений в сфере физической культуры и спорта","001",11,"01","05 1 01 06140",null,82501,82501,82501]
[null,null,null,null,null,null,null,null,null,null,null,null,null,null,null,null,null,null,null,null,null,null,null,"Предоставление субсидий бюджетным, автономным учреждениям и иным некоммерческим организациям","001",11,"01","05 1 01 06140",600,{"$f":"AD425","v":82501},{"$f":"AE425","v":82501},{"$f":"AF425","v":82501}]
[null,null,null,null,null,null,null,null,null,null,null,null,null,null,null,null,null,null,null,null,null,null,null,"Субсидии  автономным  учреждениям","001",11,"01","05 1 01 06140",620,{"$f":"85501-3000","v":82501},{"$f":"85501-3000","v":82501},{"$f":"85501-3000","v":82501}]
[null,null,null,null,null,null,null,null,null,null,null,null,null,null,null,null,null,null,null,null,null,null,null,"Массовый  спорт","001",11,"02",null,null,{"$f":"AD427","v":3330},{"$f":"AE427","v":3330},3330]
[null,null,null,null,null,null,null,null,null,null,null,null,null,null,null,null,null,null,null,null,null,null,null,"Муниципальная программа «Спорт»                    ","001",11,"02","05 0 00 00000",null,{"$f":"AD428","v":3330},{"$f":"AE428","v":3330},3330]
[null,null,null,null,null,null,null,null,null,null,null,null,null,null,null,null,null,null,null,null,null,null,null,"Подпрограмма «Развитие физической культуры и спорта»","001",11,"02","05 1 00 00000",null,{"$f":"AD429","v":3330},3330,3330]
[null,null,null,null,null,null,null,null,null,null,null,null,null,null,null,null,null,null,null,null,null,null,null,"Основное мероприятие «Обеспечение условий для развития на территории городского округа физической культуры, школьного спорта и массового спорта»","001",11,"02","05 1 01 00000",null,3330,3330,3330]
[null,null,null,null,null,null,null,null,null,null,null,null,null,null,null,null,null,null,null,null,null,null,null,"Организация и проведение официальных физкультурно-оздоровительных и спортивных мероприятий","001",11,"02","05 1 01 00570",null,{"$f":"AD431+AD433","v":3330},{"$f":"AE431+AE433","v":3330},3330]
[null,null,null,null,null,null,null,null,null,null,null,null,null,null,null,null,null,null,null,null,null,null,null,"Закупка товаров, работ и услуг для обеспечения государственных (муниципальных) нужд","001",11,"02","05 1 01 00570",200,{"$f":"AD432","v":2535},{"$f":"AE432","v":2535},{"$f":"AF432","v":2535}]
[null,null,null,null,null,null,null,null,null,null,null,null,null,null,null,null,null,null,null,null,null,null,null,"Иные закупки товаров, работ и услуг для обеспечения государственных (муниципальных) нужд","001",11,"02","05 1 01 00570",240,2535,2535,2535]
[null,null,null,null,null,null,null,null,null,null,null,null,null,null,null,null,null,null,null,null,null,null,null,"Предоставление субсидий бюджетным, автономным учреждениям и иным некоммерческим организациям","001",11,"02","05 1 01 00570",600,{"$f":"AD434+AD435","v":795},{"$f":"AE434+AE435","v":795},795]
[null,null,null,null,null,null,null,null,null,null,null,null,null,null,null,null,null,null,null,null,null,null,null,"Субсидии бюджетным учреждениям","001",11,"02","05 1 01 00570",610,350,350,350]
[null,null,null,null,null,null,null,null,null,null,null,null,null,null,null,null,null,null,null,null,null,null,null,"Субсидии  автономным  учреждениям","001",11,"02","05 1 01 00570",620,445,445,445]
[null,null,null,null,null,null,null,null,null,null,null,null,null,null,null,null,null,null,null,null,null,null,null,"Обслуживание  государственного (муниципального)  долга","001",13,null,null,null,{"$f":"AD437","v":1200},{"$f":"AE437","v":11505.1},{"$f":"AF437","v":21749.8}]
[null,null,null,null,null,null,null,null,null,null,null,null,null,null,null,null,null,null,null,null,null,null,null,"Обслуживание государственного (муниципального) внутреннего долга","001",13,"01",null,null,{"$f":"AD441","v":1200},{"$f":"AE441","v":11505.1},{"$f":"AF441","v":21749.8}]
[null,null,null,null,null,null,null,null,null,null,null,null,null,null,null,null,null,null,null,null,null,null,null,"Муниципальная программа «Управление имуществом и муниципальными финансами»   ","001",13,"01","12 0 00 00000",null,{"$f":"AD441","v":1200},{"$f":"AE441","v":11505.1},{"$f":"AF441","v":21749.8}]
[null,null,null,null,null,null,null,null,null,null,null,null,null,null,null,null,null,null,null,null,null,null,null,"Подпрограмма «Управление муниципальным долгом»","001",13,"01","12 3 00 00000",null,{"$f":"AD440","v":1200},11505.1,21749.8]
[null,null,null,null,null,null,null,null,null,null,null,null,null,null,null,null,null,null,null,null,null,null,null,"Основное мероприятие «Реализация мероприятий в рамках управления муниципальным долгом»","001",13,"01","12 3 01 00000",null,1200,11505.1,21749.8]
[null,null,null,null,null,null,null,null,null,null,null,null,null,null,null,null,null,null,null,null,null,null,null,"Обслуживание муниципального долга ","001",13,"01","12 3 01 00800",null,{"$f":"AD442","v":1200},11505.1,21749.8]
[null,null,null,null,null,null,null,null,null,null,null,null,null,null,null,null,null,null,null,null,null,null,null,"Обслуживание государственного (муниципального) долга","001",13,"01","12 3 01 00800",700,1200,11505.1,21749.8]
[null,null,null,null,null,null,null,null,null,null,null,null,null,null,null,null,null,null,null,null,null,null,null,"Обслуживание муниципального  долга","001",13,"01","12 3 01 00800",730,1200,11505.1,21749.8]
[null,null,null,null,null,null,null,null,null,null,null,null,null,null,null,null,null,null,null,null,null,null,null,"Совет  депутатов  городского округа  Лыткарино","002",null,null,null,null,{"$f":"AD445+AD470","v":16545.5},{"$f":"AE445+AE470","v":16545.5},{"$f":"AF445+AF470","v":16700.5}]
[null,null,null,null,null,null,null,null,null,null,null,null,null,null,null,null,null,null,null,null,null,null,null,"Общегосударственные вопросы","002","01",null,null,null,{"$f":"AD446","v":16011.699999999999},{"$f":"AE446","v":16011.699999999999},{"$f":"AF446","v":16166.699999999999}]
[null,null,null,null,null,null,null,null,null,null,null,null,null,null,null,null,null,null,null,null,null,null,null,"Функционирование законодательных (представительных) органов государственной власти и представительных органов муниципальных образований","002","01","03",null,null,{"$f":"AD453+AD447","v":16011.699999999999},{"$f":"AE453+AE447","v":16011.699999999999},16166.699999999999]
[null,null,null,null,null,null,null,null,null,null,null,null,null,null,null,null,null,null,null,null,null,null,null,"Муниципальная программа «Культура и туризм»                  ","002","01","03","02 0 00 00000",null,{"$f":"AD448","v":0},{"$f":"AE448","v":0},{"$f":"AF448","v":155}]
[null,null,null,null,null,null,null,null,null,null,null,null,null,null,null,null,null,null,null,null,null,null,null,"Подпрограмма «Развитие архивного дела»","002","01","03","02 9 00 00000",null,{"$f":"AD449","v":0},0,155]
[null,null,null,null,null,null,null,null,null,null,null,null,null,null,null,null,null,null,null,null,null,null,null,"Основное мероприятие «Хранение, комплектование, учет и использование архивных документов в муниципальных архивах»","002","01","03","02 9 01 00000",null,0,0,155]
[null,null,null,null,null,null,null,null,null,null,null,null,null,null,null,null,null,null,null,null,null,null,null,"Расходы на обеспечение деятельности (оказание услуг) муниципальных архивов","002","01","03","02 9 01 06160",null,0,0,155]
[null,null,null,null,null,null,null,null,null,null,null,null,null,null,null,null,null,null,null,null,null,null,null,"Закупка товаров, работ и услуг для обеспечения государственных (муниципальных) нужд","002","01","03","02 9 01 06160",200,{"$f":"AD452","v":0},{"$f":"AE452","v":0},{"$f":"AF452","v":155}]
[null,null,null,null,null,null,null,null,null,null,null,null,null,null,null,null,null,null,null,null,null,null,null,"Иные закупки товаров, работ и услуг для обеспечения государственных (муниципальных) нужд","002","01","03","02 9 01 06160",240,0,0,155]
[null,null,null,null,null,null,null,null,null,null,null,null,null,null,null,null,null,null,null,null,null,null,null,"Руководство и управление в сфере установленных функций органов местного самоуправления","002","01","03","95 0 00 00000",null,{"$f":"AD454+AD458+AD460","v":16011.699999999999},{"$f":"AE454+AE458+AE460","v":16011.699999999999},{"$f":"AF454+AF458+AF460","v":16011.699999999999}]
[null,null,null,null,null,null,null,null,null,null,null,null,null,null,null,null,null,null,null,null,null,null,null,"Председатель представительного органа местного самоуправления","002","01","03","95 0 00 00010",null,{"$f":"AD455","v":3017.8},3017.8,3017.8]
[null,null,null,null,null,null,null,null,null,null,null,null,null,null,null,null,null,null,null,null,null,null,null,"Расходы на выплаты персоналу в целях обеспечения выполнения функций государственными (муниципальными) органами, казенными учреждениями, органами управления государственными внебюджетными фондами ","002","01","03","95 0 00 00010",100,3017.8,3017.8,3017.8]
[null,null,null,null,null,null,null,null,null,null,null,null,null,null,null,null,null,null,null,null,null,null,null,"Расходы на выплаты персоналу государственных (муниципальных) органов","002","01","03","95 0 00 00010",120,3017.8,3017.8,3017.8]
[null,null,null,null,null,null,null,null,null,null,null,null,null,null,null,null,null,null,null,null,null,null,null,"Депутат представительного органа местного самоуправления на постоянной основе","002","01","03","95 0 00 00020",null,{"$f":"AD459","v":2325.1},{"$f":"AE459","v":2325.1},{"$f":"AF459","v":2325.1}]
[null,null,null,null,null,null,null,null,null,null,null,null,null,null,null,null,null,null,null,null,null,null,null,"Расходы на выплаты персоналу в целях обеспечения выполнения функций государственными (муниципальными) органами, казенными учреждениями, органами управления государственными внебюджетными фондами ","002","01","03","95 0 00 00020",100,{"$f":"AD459","v":2325.1},{"$f":"AE459","v":2325.1},{"$f":"AF459","v":2325.1}]
[null,null,null,null,null,null,null,null,null,null,null,null,null,null,null,null,null,null,null,null,null,null,null,"Расходы на выплаты персоналу государственных (муниципальных) органов","002","01","03","95 0 00 00020",120,2325.1,2325.1,2325.1]
[null,null,null,null,null,null,null,null,null,null,null,null,null,null,null,null,null,null,null,null,null,null,null,"Расходы на содержание представительного органа муниципального образования","002","01","03","95 0 00 00030",null,{"$f":"AD461+AD464+AD467","v":10668.8},{"$f":"AE461+AE464+AE467","v":10668.8},{"$f":"AF461+AF464+AF467","v":10668.8}]
[null,null,null,null,null,null,null,null,null,null,null,null,null,null,null,null,null,null,null,null,null,null,null,"Расходы на содержание представительного органа муниципального образования( обеспечение деятельности)","002","01","03","95 0 00 00031",null,{"$f":"AD462","v":1697.3},{"$f":"AE462","v":1697.3},1697.3]
[null,null,null,null,null,null,null,null,null,null,null,null,null,null,null,null,null,null,null,null,null,null,null,"Закупка товаров, работ и услуг для обеспечения государственных (муниципальных) нужд","002","01","03","95 0 00 00031",200,{"$f":"AD463","v":1697.3},{"$f":"AE463","v":1697.3},{"$f":"AF463","v":1697.3}]
[null,null,null,null,null,null,null,null,null,null,null,null,null,null,null,null,null,null,null,null,null,null,null,"Иные закупки товаров, работ и услуг для обеспечения государственных (муниципальных) нужд","002","01","03","95 0 00 00031",240,1697.3,1697.3,1697.3]
[null,null,null,null,null,null,null,null,null,null,null,null,null,null,null,null,null,null,null,null,null,null,null,"Расходы на содержание представительного органа муниципального образования  (расходы  на  содержание  лиц,  замещающих должности, не являющиеся должностями муниципальной  службы)","002","01","03","95 0 00 00032",null,{"$f":"AD465","v":4263.8999999999996},4263.8999999999996,4263.8999999999996]
[null,null,null,null,null,null,null,null,null,null,null,null,null,null,null,null,null,null,null,null,null,null,null,"Расходы на выплаты персоналу в целях обеспечения выполнения функций государственными (муниципальными) органами, казенными учреждениями, органами управления государственными внебюджетными фондами ","002","01","03","95 0 00 00032",100,4263.8999999999996,4263.8999999999996,4263.8999999999996]
[null,null,null,null,null,null,null,null,null,null,null,null,null,null,null,null,null,null,null,null,null,null,null,"Расходы на выплаты персоналу государственных (муниципальных) органов","002","01","03","95 0 00 00032",120,4263.8999999999996,4263.8999999999996,4263.8999999999996]
[null,null,null,null,null,null,null,null,null,null,null,null,null,null,null,null,null,null,null,null,null,null,null,"Расходы на содержание представительного органа муниципального образования (расходы  на  содержание  лиц,  замещающих должности  муниципальной  службы)","002","01","03","95 0 00 00033",null,{"$f":"AD468","v":4707.6000000000004},4707.6000000000004,4707.6000000000004]
[null,null,null,null,null,null,null,null,null,null,null,null,null,null,null,null,null,null,null,null,null,null,null,"Расходы на выплаты персоналу в целях обеспечения выполнения функций государственными (муниципальными) органами, казенными учреждениями, органами управления государственными внебюджетными фондами ","002","01","03","95 0 00 00033",100,4707.6000000000004,4707.6000000000004,4707.6000000000004]
[null,null,null,null,null,null,null,null,null,null,null,null,null,null,null,null,null,null,null,null,null,null,null,"Расходы на выплаты персоналу государственных (муниципальных) органов","002","01","03","95 0 00 00033",120,4707.6000000000004,4707.6000000000004,4707.6000000000004]
[null,null,null,null,null,null,null,null,null,null,null,null,null,null,null,null,null,null,null,null,null,null,null,"Социальная политика","002","10",null,null,null,{"$f":"AD471","v":533.79999999999995},533.79999999999995,533.79999999999995]
[null,null,null,null,null,null,null,null,null,null,null,null,null,null,null,null,null,null,null,null,null,null,null,"Пенсионное обеспечение","002",10,"01",null,null,533.79999999999995,533.79999999999995,533.79999999999995]
[null,null,null,null,null,null,null,null,null,null,null,null,null,null,null,null,null,null,null,null,null,null,null,"Муниципальная программа «Социальная защита населения»                    ","002",10,"01","04 0 00 00000",null,533.79999999999995,533.79999999999995,533.79999999999995]
[null,null,null,null,null,null,null,null,null,null,null,null,null,null,null,null,null,null,null,null,null,null,null,"Подпрограмма «Социальная поддержка граждан»","002",10,"01","04 1 00 00000",null,533.79999999999995,533.79999999999995,533.79999999999995]
[null,null,null,null,null,null,null,null,null,null,null,null,null,null,null,null,null,null,null,null,null,null,null,"Основное мероприятие \"Предоставление государственных гарантий муниципальным служащим, поощрение за муниципальную службу\"","002",10,"01","04 1 15 00000",null,533.79999999999995,533.79999999999995,533.79999999999995]
[null,null,null,null,null,null,null,null,null,null,null,null,null,null,null,null,null,null,null,null,null,null,null,"Предоставление доплаты за выслугу лет к трудовой пенсии муниципальным служащим за счет средств местного бюджета","002",10,"01","04 1 15 00840",null,533.79999999999995,533.79999999999995,533.79999999999995]
[null,null,null,null,null,null,null,null,null,null,null,null,null,null,null,null,null,null,null,null,null,null,null,"Социальное обеспечение и иные выплаты населению","002",10,"01","04 1 15 00840",300,533.79999999999995,533.79999999999995,533.79999999999995]
[null,null,null,null,null,null,null,null,null,null,null,null,null,null,null,null,null,null,null,null,null,null,null,"Социальные выплаты гражданам, кроме публичных нормативных социальных выплат","002",10,"01","04 1 15 00840",320,533.79999999999995,533.79999999999995,533.79999999999995]
[null,null,null,null,null,null,null,null,null,null,null,null,null,null,null,null,null,null,null,null,null,null,null,"Финансовое  управление  города  Лыткарино","003",null,null,null,null,{"$f":"AD479+AD500","v":26352.3},{"$f":"AE479+AE500","v":26442.3},{"$f":"AF479+AF500","v":26352.3}]
[null,null,null,null,null,null,null,null,null,null,null,null,null,null,null,null,null,null,null,null,null,null,null,"Общегосударственные вопросы","003","01",null,null,null,{"$f":"AD480","v":25455.8},{"$f":"AE480","v":25545.8},{"$f":"AF480","v":25455.8}]
[null,null,null,null,null,null,null,null,null,null,null,null,null,null,null,null,null,null,null,null,null,null,null,"Обеспечение  деятельности  финансовых,налоговых  и  таможенных  органов  и  органов  финансового  (финансово-бюджетного)  надзора","003","01","06",null,null,{"$f":"AD487+AD481","v":25455.8},{"$f":"AE487+AE481","v":25545.8},25455.8]
[null,null,null,null,null,null,null,null,null,null,null,null,null,null,null,null,null,null,null,null,null,null,null,"Муниципальная программа «Культура и туризм»                  ","003","01","06","02 0 00 00000",null,{"$f":"AD482","v":0},90,0]
[null,null,null,null,null,null,null,null,null,null,null,null,null,null,null,null,null,null,null,null,null,null,null,"Подпрограмма «Развитие архивного дела»","003","01","06","02 9 00 00000",null,0,90,0]
[null,null,null,null,null,null,null,null,null,null,null,null,null,null,null,null,null,null,null,null,null,null,null,"Основное мероприятие «Хранение, комплектование, учет и использование архивных документов в муниципальных архивах»","003","01","06","02 9 01 00000",null,0,90,0]
[null,null,null,null,null,null,null,null,null,null,null,null,null,null,null,null,null,null,null,null,null,null,null,"Расходы на обеспечение деятельности (оказание услуг) муниципальных архивов","003","01","06","02 9 01 06160",null,0,90,0]
[null,null,null,null,null,null,null,null,null,null,null,null,null,null,null,null,null,null,null,null,null,null,null,"Закупка товаров, работ и услуг для обеспечения государственных (муниципальных) нужд","003","01","06","02 9 01 06160",200,{"$f":"AD486","v":0},{"$f":"AE486","v":90},{"$f":"AF486","v":0}]
[null,null,null,null,null,null,null,null,null,null,null,null,null,null,null,null,null,null,null,null,null,null,null,"Иные закупки товаров, работ и услуг для обеспечения государственных (муниципальных) нужд","003","01","06","02 9 01 06160",240,0,90,0]
[null,null,null,null,null,null,null,null,null,null,null,null,null,null,null,null,null,null,null,null,null,null,null,"Муниципальная программа «Управление имуществом и муниципальными финансами»   ","003","01","06","12 0 00 00000",null,{"$f":"AD488","v":25455.8},{"$f":"AE488","v":25455.8},{"$f":"AF488","v":25455.8}]
[null,null,null,null,null,null,null,null,null,null,null,null,null,null,null,null,null,null,null,null,null,null,null,"Обеспечивающая подпрограмма   ","003","01","06","12 5 00 00000",null,{"$f":"AD489","v":25455.8},25455.8,25455.8]
[null,null,null,null,null,null,null,null,null,null,null,null,null,null,null,null,null,null,null,null,null,null,null,"Основное мероприятие «Создание условий для реализации полномочий органов местного самоуправления» ","003","01","06","12 5 01 00000",null,25455.8,25455.8,25455.8]
[null,null,null,null,null,null,null,null,null,null,null,null,null,null,null,null,null,null,null,null,null,null,null,"Обеспечение деятельности финансового органа","003","01","06","12 5 01 00160",null,{"$f":"AD491+AD494+AD497","v":25455.8},{"$f":"AE491+AE494+AE497","v":25455.8},{"$f":"AF491+AF494+AF497","v":25455.8}]
[null,null,null,null,null,null,null,null,null,null,null,null,null,null,null,null,null,null,null,null,null,null,null,"Обеспечение деятельности финансового органа (расходы на обеспечение деятельности органов местного самоуправления)","003","01","06","12 5 01 00161",null,{"$f":"AD492","v":3279.7},{"$f":"AE492","v":3279.7},3279.7]
[null,null,null,null,null,null,null,null,null,null,null,null,null,null,null,null,null,null,null,null,null,null,null,"Закупка товаров, работ и услуг для обеспечения государственных (муниципальных) нужд","003","01","06","12 5 01 00161",200,{"$f":"AD493","v":3279.7},{"$f":"AE493","v":3279.7},{"$f":"AF493","v":3279.7}]
[null,null,null,null,null,null,null,null,null,null,null,null,null,null,null,null,null,null,null,null,null,null,null,"Иные закупки товаров, работ и услуг для обеспечения государственных (муниципальных) нужд","003","01","06","12 5 01 00161",240,3279.7,3279.7,3279.7]
[null,null,null,null,null,null,null,null,null,null,null,null,null,null,null,null,null,null,null,null,null,null,null,"Обеспечение деятельности финансового органа (расходы  на  содержание  лиц,  замещающих должности, не являющиеся должностями муниципальной  службы)","003","01","06",{"$f":"AB495","v":"12 5 01 00162"},null,{"$f":"AD496","v":13550.9},{"$f":"AE496","v":13550.9},{"$f":"AF496","v":13550.9}]
[null,null,null,null,null,null,null,null,null,null,null,null,null,null,null,null,null,null,null,null,null,null,null,"Расходы на выплаты персоналу в целях обеспечения выполнения функций государственными (муниципальными) органами, казенными учреждениями, органами управления государственными внебюджетными фондами ","003","01","06",{"$f":"AB496","v":"12 5 01 00162"},100,{"$f":"AD496","v":13550.9},{"$f":"AE496","v":13550.9},{"$f":"AF496","v":13550.9}]
[null,null,null,null,null,null,null,null,null,null,null,null,null,null,null,null,null,null,null,null,null,null,null,"Расходы на выплаты персоналу государственных (муниципальных) органов","003","01","06","12 5 01 00162",120,13550.9,13550.9,13550.9]
[null,null,null,null,null,null,null,null,null,null,null,null,null,null,null,null,null,null,null,null,null,null,null,"Обеспечение деятельности финансового органа (расходы  на  содержание  лиц,  замещающих должности  муниципальной  службы)","003","01","06",{"$f":"AB498","v":"12 5 01 00163"},null,{"$f":"AD499","v":8625.2000000000007},{"$f":"AE499","v":8625.2000000000007},{"$f":"AF499","v":8625.2000000000007}]
[null,null,null,null,null,null,null,null,null,null,null,null,null,null,null,null,null,null,null,null,null,null,null,"Расходы на выплаты персоналу в целях обеспечения выполнения функций государственными (муниципальными) органами, казенными учреждениями, органами управления государственными внебюджетными фондами ","003","01","06",{"$f":"AB499","v":"12 5 01 00163"},100,{"$f":"AD499","v":8625.2000000000007},{"$f":"AE499","v":8625.2000000000007},{"$f":"AF499","v":8625.2000000000007}]
[null,null,null,null,null,null,null,null,null,null,null,null,null,null,null,null,null,null,null,null,null,null,null,"Расходы на выплаты персоналу государственных (муниципальных) органов","003","01","06","12 5 01 00163",120,8625.2000000000007,8625.2000000000007,8625.2000000000007]
[null,null,null,null,null,null,null,null,null,null,null,null,null,null,null,null,null,null,null,null,null,null,null,"Социальная политика","003","10",null,null,null,{"$f":"AD501","v":896.5},896.5,896.5]
[null,null,null,null,null,null,null,null,null,null,null,null,null,null,null,null,null,null,null,null,null,null,null,"Пенсионное обеспечение","003",10,"01",null,null,896.5,896.5,896.5]
[null,null,null,null,null,null,null,null,null,null,null,null,null,null,null,null,null,null,null,null,null,null,null,"Муниципальная программа «Социальная защита населения»                    ","003",10,"01","04 0 00 00000",null,896.5,896.5,896.5]
[null,null,null,null,null,null,null,null,null,null,null,null,null,null,null,null,null,null,null,null,null,null,null,"Подпрограмма «Социальная поддержка граждан»","003",10,"01","04 1 00 00000",null,896.5,896.5,896.5]
[null,null,null,null,null,null,null,null,null,null,null,null,null,null,null,null,null,null,null,null,null,null,null,"Основное мероприятие \"Предоставление государственных гарантий муниципальным служащим, поощрение за муниципальную службу\"","003",10,"01","04 1 15 00000",null,896.5,896.5,896.5]
[null,null,null,null,null,null,null,null,null,null,null,null,null,null,null,null,null,null,null,null,null,null,null,"Предоставление доплаты за выслугу лет к трудовой пенсии муниципальным служащим за счет средств местного бюджета","003",10,"01","04 1 15 00840",null,896.5,896.5,896.5]
[null,null,null,null,null,null,null,null,null,null,null,null,null,null,null,null,null,null,null,null,null,null,null,"Социальное обеспечение и иные выплаты населению","003",10,"01","04 1 15 00840",300,896.5,896.5,896.5]
[null,null,null,null,null,null,null,null,null,null,null,null,null,null,null,null,null,null,null,null,null,null,null,"Социальные выплаты гражданам, кроме публичных нормативных социальных выплат","003",10,"01","04 1 15 00840",320,896.5,896.5,896.5]
[null,null,null,null,null,null,null,null,null,null,null,null,null,null,null,null,null,null,null,null,null,null,null,"Комитет  по  управлению  имуществом  города  Лыткарино","005",null,null,null,null,{"$f":"AD509+AD540","v":41308.199999999997},{"$f":"AE509+AE540","v":51540.2},{"$f":"AF509+AF540","v":71375.199999999997}]
[null,null,null,null,null,null,null,null,null,null,null,null,null,null,null,null,null,null,null,null,null,null,null,"Общегосударственные вопросы","005","01",null,null,null,{"$f":"AD510","v":25548.799999999999},{"$f":"AE510","v":25758.799999999999},{"$f":"AF510","v":25548.799999999999}]
[null,null,null,null,null,null,null,null,null,null,null,null,null,null,null,null,null,null,null,null,null,null,null,"Другие общегосударственные вопросы","005","01",13,null,null,{"$f":"AD517+AD511","v":25548.799999999999},{"$f":"AE517+AE511","v":25758.799999999999},25548.799999999999]
[null,null,null,null,null,null,null,null,null,null,null,null,null,null,null,null,null,null,null,null,null,null,null,"Муниципальная программа «Культура и туризм»                  ","005","01",13,"02 0 00 00000",null,{"$f":"AD512","v":0},210,0]
[null,null,null,null,null,null,null,null,null,null,null,null,null,null,null,null,null,null,null,null,null,null,null,"Подпрограмма «Развитие архивного дела»","005","01",13,"02 9 00 00000",null,0,210,0]
[null,null,null,null,null,null,null,null,null,null,null,null,null,null,null,null,null,null,null,null,null,null,null,"Основное мероприятие «Хранение, комплектование, учет и использование архивных документов в муниципальных архивах»","005","01",13,"02 9 01 00000",null,0,210,0]
[null,null,null,null,null,null,null,null,null,null,null,null,null,null,null,null,null,null,null,null,null,null,null,"Расходы на обеспечение деятельности (оказание услуг) муниципальных архивов","005","01",13,"02 9 01 06160",null,0,210,0]
[null,null,null,null,null,null,null,null,null,null,null,null,null,null,null,null,null,null,null,null,null,null,null,"Закупка товаров, работ и услуг для обеспечения государственных (муниципальных) нужд","005","01",13,"02 9 01 06160",200,{"$f":"AD516","v":0},{"$f":"AE516","v":210},{"$f":"AF516","v":0}]
[null,null,null,null,null,null,null,null,null,null,null,null,null,null,null,null,null,null,null,null,null,null,null,"Иные закупки товаров, работ и услуг для обеспечения государственных (муниципальных) нужд","005","01",13,"02 9 01 06160",240,0,210,0]
[null,null,null,null,null,null,null,null,null,null,null,null,null,null,null,null,null,null,null,null,null,null,null,"Муниципальная программа «Управление имуществом и муниципальными финансами»   ","005","01",13,"12 0 00 00000",null,{"$f":"AD518","v":25548.799999999999},{"$f":"AE518","v":25548.799999999999},{"$f":"AF518","v":25548.799999999999}]
[null,null,null,null,null,null,null,null,null,null,null,null,null,null,null,null,null,null,null,null,null,null,null,"Подпрограмма «Эффективное управление имущественным комплексом»","005","01",13,"12 1 00 00000",null,{"$f":"AD519+AD523+AD529","v":25548.799999999999},{"$f":"AE519+AE523+AE529","v":25548.799999999999},{"$f":"AF519+AF523+AF529","v":25548.799999999999}]
[null,null,null,null,null,null,null,null,null,null,null,null,null,null,null,null,null,null,null,null,null,null,null,"Основное мероприятие «Управление имуществом, находящимся в муниципальной собственности, и выполнение кадастровых работ»","005","01",13,"12 1 02 00000",null,{"$f":"AD520","v":1500},1500,1500]
[null,null,null,null,null,null,null,null,null,null,null,null,null,null,null,null,null,null,null,null,null,null,null,"Владение, пользование и распоряжение имуществом, находящимся в муниципальной собственности городского округа","005","01",13,"12 1 02 00170",null,{"$f":"AD521","v":1500},1500,1500]
[null,null,null,null,null,null,null,null,null,null,null,null,null,null,null,null,null,null,null,null,null,null,null,"Закупка товаров, работ и услуг для обеспечения государственных (муниципальных) нужд","005","01",13,"12 1 02 00170",200,1500,1500,1500]
[null,null,null,null,null,null,null,null,null,null,null,null,null,null,null,null,null,null,null,null,null,null,null,"Иные закупки товаров, работ и услуг для обеспечения государственных (муниципальных) нужд","005","01",13,"12 1 02 00170",240,1500,1500,1500]
[null,null,null,null,null,null,null,null,null,null,null,null,null,null,null,null,null,null,null,null,null,null,null,"Основное мероприятие «Создание условий для реализации государственных полномочий в области земельных отношений»","005","01",13,"12 1 03 00000",null,{"$f":"AD524","v":1031},{"$f":"AE524","v":1031},{"$f":"AF524","v":1031}]
[null,null,null,null,null,null,null,null,null,null,null,null,null,null,null,null,null,null,null,null,null,null,null,"Осуществление государственных полномочий Московской области в области земельных отношений","005","01",13,"12 1 03 60830",null,{"$f":"AD525+AD527","v":1031},{"$f":"AE525+AE527","v":1031},{"$f":"AF525+AF527","v":1031}]
[null,null,null,null,null,null,null,null,null,null,null,null,null,null,null,null,null,null,null,null,null,null,null,"Расходы на выплаты персоналу в целях обеспечения выполнения функций государственными (муниципальными) органами, казенными учреждениями, органами управления государственными внебюджетными фондами ","005","01",13,"12 1 03 60830",100,{"$f":"AD526","v":928},{"$f":"AE526","v":928},{"$f":"AF526","v":928}]
[null,null,null,null,null,null,null,null,null,null,null,null,null,null,null,null,null,null,null,null,null,null,null,"Расходы на выплаты персоналу государственных (муниципальных) органов","005","01",13,"12 1 03 60830",120,928,928,928]
[null,null,null,null,null,null,null,null,null,null,null,null,null,null,null,null,null,null,null,null,null,null,null,"Закупка товаров, работ и услуг для обеспечения государственных (муниципальных) нужд","005","01",13,"12 1 03 60830",200,{"$f":"AD528","v":103},{"$f":"AE528","v":103},{"$f":"AF528","v":103}]
[null,null,null,null,null,null,null,null,null,null,null,null,null,null,null,null,null,null,null,null,null,null,null,"Иные закупки товаров, работ и услуг для обеспечения государственных (муниципальных) нужд","005","01",13,"12 1 03 60830",240,103,103,103]
[null,null,null,null,null,null,null,null,null,null,null,null,null,null,null,null,null,null,null,null,null,null,null,"Основное мероприятие \"Создание условий для реализации полномочий органов местного самоуправления\"","005","01",13,"12 1 04 00000",null,{"$f":"AD530","v":23017.8},{"$f":"AE530","v":23017.8},{"$f":"AF530","v":23017.8}]
[null,null,null,null,null,null,null,null,null,null,null,null,null,null,null,null,null,null,null,null,null,null,null,"Обеспечение деятельности органов местного самоуправления ","005","01",13,"12 1 04 00130",null,{"$f":"AD531+AD534+AD537","v":23017.8},{"$f":"AE531+AE534+AE537","v":23017.8},{"$f":"AF531+AF534+AF537","v":23017.8}]
[null,null,null,null,null,null,null,null,null,null,null,null,null,null,null,null,null,null,null,null,null,null,null,"Обеспечение деятельности органов местного самоуправления (расходы на обеспечение деятельности органов местного самоуправления)","005","01",13,"12 1 04 00131",null,{"$f":"AD532","v":1576.1},{"$f":"AE532","v":1576.1},1576.1]
[null,null,null,null,null,null,null,null,null,null,null,null,null,null,null,null,null,null,null,null,null,null,null,"Закупка товаров, работ и услуг для обеспечения государственных (муниципальных) нужд","005","01",13,"12 1 04 00131",200,{"$f":"AD533","v":1576.1},1576.1,1576.1]
[null,null,null,null,null,null,null,null,null,null,null,null,null,null,null,null,null,null,null,null,null,null,null,"Иные закупки товаров, работ и услуг для обеспечения государственных (муниципальных) нужд","005","01",13,"12 1 04 00131",240,1576.1,1576.1,1576.1]
[null,null,null,null,null,null,null,null,null,null,null,null,null,null,null,null,null,null,null,null,null,null,null,"Обеспечение деятельности органов местного самоуправления (расходы  на  содержание  лиц,  замещающих должности, не являющиеся должностями муниципальной  службы)","005","01",13,{"$f":"AB535","v":"12 1 04 00132"},null,{"$f":"AD536","v":7242.7},{"$f":"AE536","v":7242.7},{"$f":"AF536","v":7242.7}]
[null,null,null,null,null,null,null,null,null,null,null,null,null,null,null,null,null,null,null,null,null,null,null,"Расходы на выплаты персоналу в целях обеспечения выполнения функций государственными (муниципальными) органами, казенными учреждениями, органами управления государственными внебюджетными фондами ","005","01",13,{"$f":"AB536","v":"12 1 04 00132"},100,{"$f":"AD536","v":7242.7},{"$f":"AE536","v":7242.7},7242.7]
[null,null,null,null,null,null,null,null,null,null,null,null,null,null,null,null,null,null,null,null,null,null,null,"Расходы на выплаты персоналу государственных (муниципальных) органов","005","01",13,"12 1 04 00132",120,7242.7,7242.7,7242.7]
[null,null,null,null,null,null,null,null,null,null,null,null,null,null,null,null,null,null,null,null,null,null,null,"Обеспечение деятельности органов местного самоуправления (расходы  на  содержание  лиц,  замещающих должности  муниципальной  службы)","005","01",13,{"$f":"AB538","v":"12 1 04 00133"},null,{"$f":"AD539","v":14199},{"$f":"AE539","v":14199},{"$f":"AF539","v":14199}]
[null,null,null,null,null,null,null,null,null,null,null,null,null,null,null,null,null,null,null,null,null,null,null,"Расходы на выплаты персоналу в целях обеспечения выполнения функций государственными (муниципальными) органами, казенными учреждениями, органами управления государственными внебюджетными фондами ","005","01",13,{"$f":"AB539","v":"12 1 04 00133"},100,{"$f":"AD539","v":14199},{"$f":"AE539","v":14199},{"$f":"AF539","v":14199}]
[null,null,null,null,null,null,null,null,null,null,null,null,null,null,null,null,null,null,null,null,null,null,null,"Расходы на выплаты персоналу государственных (муниципальных) органов","005","01",13,"12 1 04 00133",120,14199,14199,14199]
[null,null,null,null,null,null,null,null,null,null,null,null,null,null,null,null,null,null,null,null,null,null,null,"Социальная политика","005","10",null,null,null,{"$f":"AD541+AD548","v":15759.4},{"$f":"AE541+AE548","v":25781.4},45826.400000000001]
[null,null,null,null,null,null,null,null,null,null,null,null,null,null,null,null,null,null,null,null,null,null,null,"Пенсионное обеспечение","005",10,"01",null,null,{"$f":"AD542","v":725.4},725.4,725.4]
[null,null,null,null,null,null,null,null,null,null,null,null,null,null,null,null,null,null,null,null,null,null,null,"Муниципальная программа «Социальная защита населения»                    ","005",10,"01","04 0 00 00000",null,725.4,725.4,725.4]
[null,null,null,null,null,null,null,null,null,null,null,null,null,null,null,null,null,null,null,null,null,null,null,"Подпрограмма «Социальная поддержка граждан»","005",10,"01","04 1 00 00000",null,725.4,725.4,725.4]
[null,null,null,null,null,null,null,null,null,null,null,null,null,null,null,null,null,null,null,null,null,null,null,"Основное мероприятие \"Предоставление государственных гарантий муниципальным служащим, поощрение за муниципальную службу\"","005",10,"01","04 1 15 00000",null,725.4,725.4,725.4]
[null,null,null,null,null,null,null,null,null,null,null,null,null,null,null,null,null,null,null,null,null,null,null,"Предоставление доплаты за выслугу лет к трудовой пенсии муниципальным служащим за счет средств местного бюджета","005",10,"01","04 1 15 00840",null,725.4,725.4,725.4]
[null,null,null,null,null,null,null,null,null,null,null,null,null,null,null,null,null,null,null,null,null,null,null,"Социальное обеспечение и иные выплаты населению","005",10,"01","04 1 15 00840",300,725.4,725.4,725.4]
[null,null,null,null,null,null,null,null,null,null,null,null,null,null,null,null,null,null,null,null,null,null,null,"Социальные выплаты гражданам, кроме публичных нормативных социальных выплат","005",10,"01","04 1 15 00840",320,725.4,725.4,725.4]
[null,null,null,null,null,null,null,null,null,null,null,null,null,null,null,null,null,null,null,null,null,null,null,"Охрана семьи и детства","005",10,"04",null,null,{"$f":"AD549","v":15034},25056,45101]
[null,null,null,null,null,null,null,null,null,null,null,null,null,null,null,null,null,null,null,null,null,null,null,"Муниципальная программа «Жилище»                    ","005",10,"04","09 0 00 00000",null,{"$f":"AD550","v":15034},{"$f":"AE550","v":25056},{"$f":"AF550","v":45101}]
[null,null,null,null,null,null,null,null,null,null,null,null,null,null,null,null,null,null,null,null,null,null,null,"Подпрограмма \"Обеспечение жильем детей-сирот и детей, оставшихся без попечения родителей, лиц из числа детей-сирот и детей, оставшихся без попечения родителей\"","005",10,"04","09 3 00 00000",null,{"$f":"AD552","v":15034},{"$f":"AE552","v":25056},{"$f":"AF552","v":45101}]
[null,null,null,null,null,null,null,null,null,null,null,null,null,null,null,null,null,null,null,null,null,null,null,"Основное мероприятие \"Оказание государственной поддержки в решении жилищной проблемы детей-сирот и детей, оставшихся без попечения родителей, лиц из числа детей-сирот и детей, оставшихся без попечения родителей\"","005",10,"04","09 3 01 00000",null,{"$f":"AD552","v":15034},{"$f":"AE552","v":25056},{"$f":"AF552","v":45101}]
[null,null,null,null,null,null,null,null,null,null,null,null,null,null,null,null,null,null,null,null,null,null,null,"Предоставление жилых помещений детям-сиротам и детям, оставшимся без попечения родителей, лицам из числа детей-сирот и детей, оставшихся без попечения родителей, по договорам найма специализированных жилых помещений","005",10,"04","09 3 01 60820",null,15034,25056,45101]
[null,null,null,null,null,null,null,null,null,null,null,null,null,null,null,null,null,null,null,null,null,null,null,"Капитальные вложения в объекты  государственной (муниципальной) собственности","005",10,"04","09 3 01 60820",400,15034,25056,45101]
[null,null,null,null,null,null,null,null,null,null,null,null,null,null,null,null,null,null,null,null,null,null,null,"Бюджетные инвестиции ","005",10,"04","09 3 01 60820",410,15034,25056,45101]
[null,null,null,null,null,null,null,null,null,null,null,null,null,null,null,null,null,null,null,null,null,null,null,"Управление  образования города  Лыткарино","901",null,null,null,null,{"$f":"AD556+AD564+AD698","v":1203710.2000000002},{"$f":"AE556+AE564+AE698","v":1212140.5000000002},{"$f":"AF556+AF564+AF698","v":1197947.8}]
[null,null,null,null,null,null,null,null,null,null,null,null,null,null,null,null,null,null,null,null,null,null,null,"Общегосударственные вопросы","901","01",null,null,null,{"$f":"AD557","v":23220.5},23220.5,23220.5]
[null,null,null,null,null,null,null,null,null,null,null,null,null,null,null,null,null,null,null,null,null,null,null,"Другие общегосударственные вопросы","901","01",13,null,null,23220.5,23220.5,23220.5]
[null,null,null,null,null,null,null,null,null,null,null,null,null,null,null,null,null,null,null,null,null,null,null,"Муниципальная программа «Управление имуществом и муниципальными финансами»   ","901","01",13,"12 0 00 00000",null,23220.5,23220.5,23220.5]
[null,null,null,null,null,null,null,null,null,null,null,null,null,null,null,null,null,null,null,null,null,null,null,"Обеспечивающая подпрограмма   ","901","01",13,"12 5 00 00000",null,23220.5,23220.5,23220.5]
[null,null,null,null,null,null,null,null,null,null,null,null,null,null,null,null,null,null,null,null,null,null,null,"Основное мероприятие «Создание условий для реализации полномочий органов местного самоуправления» ","901","01",13,"12 5 01 00000",null,{"$f":"AD561","v":23220.5},{"$f":"AE561","v":23220.5},{"$f":"AF561","v":23220.5}]
[null,null,null,null,null,null,null,null,null,null,null,null,null,null,null,null,null,null,null,null,null,null,null,"Расходы на обеспечение деятельности (оказание услуг) муниципальных учреждений - централизованная бухгалтерия муниципального образования","901","01",13,"12 5 01 06070",null,23220.5,23220.5,23220.5]
[null,null,null,null,null,null,null,null,null,null,null,null,null,null,null,null,null,null,null,null,null,null,null,"Предоставление субсидий бюджетным, автономным учреждениям и иным некоммерческим организациям","901","01",13,"12 5 01 06070",600,23220.5,23220.5,23220.5]
[null,null,null,null,null,null,null,null,null,null,null,null,null,null,null,null,null,null,null,null,null,null,null,"Субсидии бюджетным учреждениям","901","01",13,"12 5 01 06070",610,23220.5,23220.5,23220.5]
[null,null,null,null,null,null,null,null,null,null,null,null,null,null,null,null,null,null,null,null,null,null,null,"Образование","901","07",null,null,null,{"$f":"AD565+AD584+AD633+AD657","v":1161667.5000000002},{"$f":"AE565+AE584+AE633+AE657","v":1170097.8000000003},1155905.1000000001]
[null,null,null,null,null,null,null,null,null,null,null,null,null,null,null,null,null,null,null,null,null,null,null,"Дошкольное образование","901","07","01",null,null,{"$f":"AD566+AD579","v":470203},{"$f":"AE566+AE579","v":470203},468203]
[null,null,null,null,null,null,null,null,null,null,null,null,null,null,null,null,null,null,null,null,null,null,null,"Муниципальная программа «Образование»                    ","901","07","01","03 0 00 00000",null,{"$f":"AD567","v":470203},{"$f":"AE567","v":470203},468203]
[null,null,null,null,null,null,null,null,null,null,null,null,null,null,null,null,null,null,null,null,null,null,null,"Подпрограмма «Общее образование»                    ","901","07","01","03 1 00 00000",null,{"$f":"AD568","v":470203},470203,468203]
[null,null,null,null,null,null,null,null,null,null,null,null,null,null,null,null,null,null,null,null,null,null,null,"Основное мероприятие \"Финансовое обеспечение деятельности образовательных организаций\"","901","07","01","03 1 01 00000",null,{"$f":"AD569+AD576","v":470203},{"$f":"AE569+AE576","v":470203},468203]
[null,null,null,null,null,null,null,null,null,null,null,null,null,null,null,null,null,null,null,null,null,null,null,"Расходы на обеспечение деятельности (оказание услуг) муниципальных учреждений - дошкольные образовательные организации","901","07","01","03 1 01 06040",null,{"$f":"AD570+AD573","v":153879},{"$f":"AE570+AE573","v":153879},151879]
[null,null,null,null,null,null,null,null,null,null,null,null,null,null,null,null,null,null,null,null,null,null,null,"Расходы на обеспечение деятельности (оказание услуг) муниципальных учреждений - дошкольные образовательные организации (выполнение муниципального задания)","901","07","01","03 1 01 06041",null,{"$f":"AD571","v":153519},{"$f":"AE571","v":153519},151519]
[null,null,null,null,null,null,null,null,null,null,null,null,null,null,null,null,null,null,null,null,null,null,null,"Предоставление субсидий бюджетным, автономным учреждениям и иным некоммерческим организациям","901","07","01","03 1 01 06041",600,153519,153519,151519]
[null,null,null,null,null,null,null,null,null,null,null,null,null,null,null,null,null,null,null,null,null,null,null,"Субсидии бюджетным учреждениям","901","07","01","03 1 01 06041",610,{"$f":"133017.4+20501.6","v":153519},{"$f":"133017.4+20501.6","v":153519},{"$f":"133017.4+20501.6-2000","v":151519}]
[null,null,null,null,null,null,null,null,null,null,null,null,null,null,null,null,null,null,null,null,null,null,null,"Расходы на обеспечение деятельности (оказание услуг) муниципальных учреждений - дошкольные образовательные организации (мероприятия в сфере образования)","901","07","01","03 1 01 06042",null,{"$f":"AD574","v":360},360,360]
[null,null,null,null,null,null,null,null,null,null,null,null,null,null,null,null,null,null,null,null,null,null,null,"Предоставление субсидий бюджетным, автономным учреждениям и иным некоммерческим организациям","901","07","01","03 1 01 06042",600,360,360,360]
[null,null,null,null,null,null,null,null,null,null,null,null,null,null,null,null,null,null,null,null,null,null,null,"Субсидии бюджетным учреждениям","901","07","01","03 1 01 06042",610,360,360,360]
[null,null,null,null,null,null,null,null,null,null,null,null,null,null,null,null,null,null,null,null,null,null,null,"Финансовое обеспечение государственных гарантий реализации прав на получение общедоступного и бесплатного дошкольного образования в муниципальных дошкольных образовательных организациях, общедоступного и бесплатного дошкольного, начального общего, основного общего, среднего общего образования в муниципальных общеобразовательных организациях, обеспечение дополнительного образования детей в муниципальных общеобразовательных организациях, включая расходы на оплату труда, приобретение учебников и учебных пособий, средств обучения, игр, игрушек (за исключением расходов на содержание зданий и оплату коммунальных услуг)","901","07","01","03 1 01 62010",null,{"$f":"AD577","v":316324},316324,316324]
[null,null,null,null,null,null,null,null,null,null,null,null,null,null,null,null,null,null,null,null,null,null,null,"Предоставление субсидий бюджетным, автономным учреждениям и иным некоммерческим организациям","901","07","01","03 1 01 62010",600,316324,316324,316324]
[null,null,null,null,null,null,null,null,null,null,null,null,null,null,null,null,null,null,null,null,null,null,null,"Субсидии бюджетным учреждениям","901","07","01","03 1 01 62010",610,{"$f":"238182+72439+5203+500","v":316324},{"$f":"238182+72439+5203+500","v":316324},{"$f":"238182+72439+5203+500","v":316324}]
[null,null,null,null,null,null,null,null,null,null,null,null,null,null,null,null,null,null,null,null,null,null,null,"Непрограммные расходы ","901","07","01","99 0 00 00000",null,{"$f":"AD580","v":0},{"$f":"AE580","v":0},0]
[null,null,null,null,null,null,null,null,null,null,null,null,null,null,null,null,null,null,null,null,null,null,null,"Иные расходы","901","07","01","99 0 00 04000",null,{"$f":"AD581","v":0},0,0]
[null,null,null,null,null,null,null,null,null,null,null,null,null,null,null,null,null,null,null,null,null,null,null,"Иные расходы (возврат средств субвенции бюджетам муниципальных образований Московской области на финансовое обеспечение государственных гарантий реализации прав граждан на получение общедоступного и бесплатного дошкольного образования в муниципальных дошкольных образовательных организациях в Московской области, включая расходы на оплату труда, приобретение учебников и учебных пособий, средств обучения, игр, игрушек (за исключением расходов на содержание зданий и оплату коммунальных услуг)","901","07","01","99 0 00 04004",null,{"$f":"AD582","v":0},0,0]
[null,null,null,null,null,null,null,null,null,null,null,null,null,null,null,null,null,null,null,null,null,null,null,"Иные бюджетные ассигнования","901","07","01","99 0 00 04004","800",{"$f":"AD583","v":0},0,0]
[null,null,null,null,null,null,null,null,null,null,null,null,null,null,null,null,null,null,null,null,null,null,null,"Уплата налогов, сборов и иных платежей","901","07","01","99 0 00 04004","850",{"$f":"104-104","v":0},0,0]
[null,null,null,null,null,null,null,null,null,null,null,null,null,null,null,null,null,null,null,null,null,null,null,"Общее образование","901","07","02",null,null,{"$f":"AD585+AD622+AH6957+AD627","v":588125.20000000019},{"$f":"AE585+AE622+AI6957+AE627","v":600496.80000000016},{"$f":"AF585+AF622+AJ6957+AF627","v":587356.10000000009}]
[null,null,null,null,null,null,null,null,null,null,null,null,null,null,null,null,null,null,null,null,null,null,null,"Муниципальная программа «Образование»                    ","901","07","02","03 0 00 00000",null,{"$f":"AD586","v":585721.40000000014},{"$f":"AE586","v":600496.80000000016},{"$f":"AF586","v":587356.10000000009}]
[null,null,null,null,null,null,null,null,null,null,null,null,null,null,null,null,null,null,null,null,null,null,null,"Подпрограмма «Общее образование»                    ","901","07","02","03 1 00 00000",null,{"$f":"AD587+AD601+AD611+AD615","v":585721.40000000014},{"$f":"AE587+AE601+AE611+AE615","v":600496.80000000016},{"$f":"AF587+AF601+AF611+AF615","v":587356.10000000009}]
[null,null,null,null,null,null,null,null,null,null,null,null,null,null,null,null,null,null,null,null,null,null,null,"Основное мероприятие «Финансовое обеспечение деятельности образовательных организаций»","901","07","02","03 1 01 00000",null,{"$f":"AD588+AD598+AD595","v":532764.30000000005},{"$f":"AE588+AE598+AE595","v":533972.30000000005},{"$f":"AF588+AF598+AF595","v":530972.30000000005}]
[null,null,null,null,null,null,null,null,null,null,null,null,null,null,null,null,null,null,null,null,null,null,null,"Расходы на обеспечение деятельности (оказание услуг) муниципальных учреждений - общеобразовательные организации, оказывающие услуги дошкольного, начального общего, основного общего, среднего общего образования","901","07","02","03 1 01 06050",null,{"$f":"AD589+AD592","v":77341.3},{"$f":"AE589+AE592","v":77341.3},{"$f":"AF589+AF592","v":74341.3}]
[null,null,null,null,null,null,null,null,null,null,null,null,null,null,null,null,null,null,null,null,null,null,null,"Расходы на обеспечение деятельности (оказание услуг) муниципальных учреждений - общеобразовательные организации, оказывающие услуги дошкольного, начального общего, основного общего, среднего общего образования (выполнение муниципального задания)","901","07","02","03 1 01 06051",null,{"$f":"AD590","v":75507.199999999997},{"$f":"AE590","v":75507.199999999997},{"$f":"AF590","v":73507.199999999997}]
[null,null,null,null,null,null,null,null,null,null,null,null,null,null,null,null,null,null,null,null,null,null,null,"Предоставление субсидий бюджетным, автономным учреждениям и иным некоммерческим организациям","901","07","02","03 1 01 06051",600,{"$f":"AD591","v":75507.199999999997},75507.199999999997,73507.199999999997]
[null,null,null,null,null,null,null,null,null,null,null,null,null,null,null,null,null,null,null,null,null,null,null,"Субсидии бюджетным учреждениям","901","07","02","03 1 01 06051",610,{"$f":"66874.9+8632.3","v":75507.199999999997},{"$f":"66874.9+8632.3","v":75507.199999999997},{"$f":"66874.9+8632.3-2000","v":73507.199999999997}]
[null,null,null,null,null,null,null,null,null,null,null,null,null,null,null,null,null,null,null,null,null,null,null,"Расходы на обеспечение деятельности (оказание услуг) муниципальных учреждений - общеобразовательные организации, оказывающие услуги дошкольного, начального общего, основного общего, среднего общего образования (мероприятия в сфере образования)","901","07","02","03 1 01 06052",null,{"$f":"AD593","v":1834.1},{"$f":"AE593","v":1834.1},{"$f":"AF593","v":834.1}]
[null,null,null,null,null,null,null,null,null,null,null,null,null,null,null,null,null,null,null,null,null,null,null,"Предоставление субсидий бюджетным, автономным учреждениям и иным некоммерческим организациям","901","07","02","03 1 01 06052",600,1834.1,1834.1,834.1]
[null,null,null,null,null,null,null,null,null,null,null,null,null,null,null,null,null,null,null,null,null,null,null,"Субсидии бюджетным учреждениям","901","07","02","03 1 01 06052",610,1834.1,1834.1,834.1]
[null,null,null,null,null,null,null,null,null,null,null,null,null,null,null,null,null,null,null,null,null,null,null,"Ежемесячное денежное вознаграждение за классное руководство педагогическим работникам государственных и муниципальных общеобразовательных организаций (Финансовое обеспечение государственных гарантий реализации прав на получение общедоступного и бесплатного дошкольного образования в муниципальных дошкольных образовательных организациях, общедоступного и бесплатного дошкольного, начального общего, основного общего, среднего общего образования в муниципальных общеобразовательных организациях, обеспечение дополнительного образования детей в муниципальных общеобразовательных организациях, включая расходы на оплату труда, приобретение учебников и учебных пособий, средств обучения, игр, игрушек (за исключением расходов на содержание зданий и оплату коммунальных услуг)","901","07","02","03 1 01 53031",null,{"$f":"AD596","v":18147},19355,19355]
[null,null,null,null,null,null,null,null,null,null,null,null,null,null,null,null,null,null,null,null,null,null,null,"Предоставление субсидий бюджетным, автономным учреждениям и иным некоммерческим организациям","901","07","02","03 1 01 53031",600,18147,19355,19355]
[null,null,null,null,null,null,null,null,null,null,null,null,null,null,null,null,null,null,null,null,null,null,null,"Субсидии бюджетным учреждениям","901","07","02","03 1 01 53031",610,18147,19355,19355]
[null,null,null,null,null,null,null,null,null,null,null,null,null,null,null,null,null,null,null,null,null,null,null,"Финансовое обеспечение государственных гарантий реализации прав на получение общедоступного и бесплатного дошкольного образования в муниципальных дошкольных образовательных организациях, общедоступного и бесплатного дошкольного, начального общего, основного общего, среднего общего образования в муниципальных общеобразовательных организациях, обеспечение дополнительного образования детей в муниципальных общеобразовательных организациях, включая расходы на оплату труда, приобретение учебников и учебных пособий, средств обучения, игр, игрушек (за исключением расходов на содержание зданий и оплату коммунальных услуг)","901","07","02","03 1 01 62010",null,{"$f":"AD599","v":437276},437276,437276]
[null,null,null,null,null,null,null,null,null,null,null,null,null,null,null,null,null,null,null,null,null,null,null,"Предоставление субсидий бюджетным, автономным учреждениям и иным некоммерческим организациям","901","07","02","03 1 01 62010",600,437276,437276,437276]
[null,null,null,null,null,null,null,null,null,null,null,null,null,null,null,null,null,null,null,null,null,null,null,"Субсидии бюджетным учреждениям","901","07","02","03 1 01 62010",610,{"$f":"337511+75876+19218+900+3771","v":437276},{"$f":"337511+75876+19218+900+3771","v":437276},{"$f":"337511+75876+19218+900+3771","v":437276}]
[null,null,null,null,null,null,null,null,null,null,null,null,null,null,null,null,null,null,null,null,null,null,null,"Основное мероприятие «Реализация федеральных государственных образовательных стандартов общего образования, в том числе мероприятий по нормативному правовому и методическому сопровождению, обновлению содержания и технологий образования»","901","07","02","03 1 02 00000",null,{"$f":"AD608+AD602+AD605","v":51930.8},{"$f":"AE608+AE602+AE605","v":51930.8},55357.5]
[null,null,null,null,null,null,null,null,null,null,null,null,null,null,null,null,null,null,null,null,null,null,null,"Компенсация проезда к месту учебы и обратно отдельным категориям обучающихся по очной форме обучения муниципальных общеобразовательных организаций","901","07","02","03 1 02 62230",null,{"$f":"AD603","v":43},43,43]
[null,null,null,null,null,null,null,null,null,null,null,null,null,null,null,null,null,null,null,null,null,null,null,"Предоставление субсидий бюджетным, автономным учреждениям и иным некоммерческим организациям","901","07","02","03 1 02 62230",600,43,43,43]
[null,null,null,null,null,null,null,null,null,null,null,null,null,null,null,null,null,null,null,null,null,null,null,"Субсидии бюджетным учреждениям","901","07","02","03 1 02 62230",610,43,43,43]
[null,null,null,null,null,null,null,null,null,null,null,null,null,null,null,null,null,null,null,null,null,null,null,"Организация бесплатного горячего питания обучающихся, получающих начальное общее образование в муниципальных образовательных организациях","901","07","02","03 1 02 L3040",null,{"$f":"AD606","v":33277.800000000003},33277.800000000003,36704.5]
[null,null,null,null,null,null,null,null,null,null,null,null,null,null,null,null,null,null,null,null,null,null,null,"Закупка товаров, работ и услуг для обеспечения государственных (муниципальных) нужд","901","07","02","03 1 02 L3040",200,33277.800000000003,33277.800000000003,36704.5]
[null,null,null,null,null,null,null,null,null,null,null,null,null,null,null,null,null,null,null,null,null,null,null,"Иные закупки товаров, работ и услуг для обеспечения государственных (муниципальных) нужд","901","07","02","03 1 02 L3040",240,{"$f":"29950+3327.8","v":33277.800000000003},{"$f":"29950+3327.8","v":33277.800000000003},{"$f":"33034.1+3670.4","v":36704.5}]
[null,null,null,null,null,null,null,null,null,null,null,null,null,null,null,null,null,null,null,null,null,null,null,"Организация питания обучающихся, получающих основное и среднее общее образование, и отдельных категорий обучающихся, получающих начальное общее образование, в муниципальных общеобразовательных организациях","901","07","02","03 1 02 S2870",null,{"$f":"AD609","v":18610},{"$f":"AE609","v":18610},{"$f":"AF609","v":18610}]
[null,null,null,null,null,null,null,null,null,null,null,null,null,null,null,null,null,null,null,null,null,null,null,"Закупка товаров, работ и услуг для обеспечения государственных (муниципальных) нужд","901","07","02","03 1 02 S2870",200,18610,18610,18610]
[null,null,null,null,null,null,null,null,null,null,null,null,null,null,null,null,null,null,null,null,null,null,null,"Иные закупки товаров, работ и услуг для обеспечения государственных (муниципальных) нужд","901","07","02","03 1 02 S2870",240,{"$f":"15484+3126","v":18610},{"$f":"15484+3126","v":18610},{"$f":"15484+3126","v":18610}]
[null,null,null,null,null,null,null,null,null,null,null,null,null,null,null,null,null,null,null,null,null,null,null,"Основное мероприятие «Обеспечение и проведение государственной итоговой аттестации обучающихся, освоивших образовательные программы основного общего и среднего общего образования, в том числе в форме единого государственного экзамена»","901","07","02","03 1 04 00000",null,{"$f":"AD612","v":1026.3},1026.3,1026.3]
[null,null,null,null,null,null,null,null,null,null,null,null,null,null,null,null,null,null,null,null,null,null,null,"Расходы на обеспечение деятельности (оказание услуг) муниципальных учреждений - общеобразовательные организации, оказывающие услуги дошкольного, начального общего, основного общего, среднего общего образования","901","07","02","03 1 04 06050",null,1026.3,1026.3,1026.3]
[null,null,null,null,null,null,null,null,null,null,null,null,null,null,null,null,null,null,null,null,null,null,null,"Предоставление субсидий бюджетным, автономным учреждениям и иным некоммерческим организациям","901","07","02","03 1 04 06050",600,1026.3,1026.3,1026.3]
[null,null,null,null,null,null,null,null,null,null,null,null,null,null,null,null,null,null,null,null,null,null,null,"Субсидии бюджетным учреждениям","901","07","02","03 1 04 06050",610,1026.3,1026.3,1026.3]
[null,null,null,null,null,null,null,null,null,null,null,null,null,null,null,null,null,null,null,null,null,null,null,"Федеральный проект «Современная школа»","901","07","02","03 1 E1 00000",null,{"$f":"AD616+AD619","v":0},{"$f":"AE616+AE619","v":13567.400000000001},0]
[null,null,null,null,null,null,null,null,null,null,null,null,null,null,null,null,null,null,null,null,null,null,null,"Создание и обеспечение функционирования центров образования естественно-научной и технологической направленностей в общеобразовательных организациях, расположенных в сельской местности и малых городах","901","07","02","03 1 E1 51690",null,{"$f":"AD617","v":0},{"$f":"AE617","v":4530.3},0]
[null,null,null,null,null,null,null,null,null,null,null,null,null,null,null,null,null,null,null,null,null,null,null,"Предоставление субсидий бюджетным, автономным учреждениям и иным некоммерческим организациям","901","07","02","03 1 E1 51690",600,{"$f":"AD618","v":0},4530.3,0]
[null,null,null,null,null,null,null,null,null,null,null,null,null,null,null,null,null,null,null,null,null,null,null,"Субсидии бюджетным учреждениям","901","07","02","03 1 E1 51690",610,0,{"$f":"4419.8+110.5","v":4530.3},0]
[null,null,null,null,null,null,null,null,null,null,null,null,null,null,null,null,null,null,null,null,null,null,null,"Обновление материально-технической базы в организациях, осуществляющих образовательную деятельность исключительно по адаптированным основным общеобразовательным программам","901","07","02","03 1 E1 51870",null,{"$f":"AD620","v":0},{"$f":"AE620","v":9037.1},0]
[null,null,null,null,null,null,null,null,null,null,null,null,null,null,null,null,null,null,null,null,null,null,null,"Предоставление субсидий бюджетным, автономным учреждениям и иным некоммерческим организациям","901","07","02","03 1 E1 51870",600,{"$f":"AD621","v":0},9037.1,0]
[null,null,null,null,null,null,null,null,null,null,null,null,null,null,null,null,null,null,null,null,null,null,null,"Субсидии бюджетным учреждениям","901","07","02","03 1 E1 51870",610,0,{"$f":"8816.7+220.4","v":9037.1},0]
[null,null,null,null,null,null,null,null,null,null,null,null,null,null,null,null,null,null,null,null,null,null,null,"Непрограммные расходы ","901","07","02","99 0 00 00000",null,{"$f":"AD623","v":0},0,0]
[null,null,null,null,null,null,null,null,null,null,null,null,null,null,null,null,null,null,null,null,null,null,null,"Иные расходы","901","07","02","99 0 00 04000",null,0,0,0]
[null,null,null,null,null,null,null,null,null,null,null,null,null,null,null,null,null,null,null,null,null,null,null,"Иные расходы  (возврат средств субвенции на обеспечение государственных гарантий реализации прав граждан на получение общедоступного и бесплатного дошкольного, начального общего, основного общего, среднего общего образования в муниципальных общеобразовательных организациях в Московской области, обеспечение дополнительного образования детей в муниципальных общеобразовательных организациях в Московской области, включая расходы на оплату труда, приобретение учебников и учебных пособий, средств обучения, игр, игрушек (за исключением расходов на содержание зданий и оплату коммунальных услуг)","901","07","02","99 0 00 04008",null,0,0,0]
[null,null,null,null,null,null,null,null,null,null,null,null,null,null,null,null,null,null,null,null,null,null,null,"Иные бюджетные ассигнования","901","07","02","99 0 00 04008","800",0,0,0]
[null,null,null,null,null,null,null,null,null,null,null,null,null,null,null,null,null,null,null,null,null,null,null,"Уплата налогов, сборов и иных платежей","901","07","02","99 0 00 04008","850",{"$f":"3586-3586","v":0},0,0]
[null,null,null,null,null,null,null,null,null,null,null,null,null,null,null,null,null,null,null,null,null,null,null,"Муниципальная программа «Спорт»                    ","901","07","02","05 0 00 00000",null,{"$f":"AD628","v":2403.8000000000002},{"$f":"AE628","v":0},0]
[null,null,null,null,null,null,null,null,null,null,null,null,null,null,null,null,null,null,null,null,null,null,null,"Подпрограмма «Развитие физической культуры и спорта»","901","07","02","05 1 00 00000",null,{"$f":"AD629","v":2403.8000000000002},0,0]
[null,null,null,null,null,null,null,null,null,null,null,null,null,null,null,null,null,null,null,null,null,null,null,"Основное мероприятие \"Модернизация и материально-техническое обеспечение объектов физической культуры и спорта, находящихся в собственности муниципальных образований Московской области\"","901","07","02","05 1 03 00000",null,{"$f":"AD630","v":2403.8000000000002},{"$f":"AE630","v":0},0]
[null,null,null,null,null,null,null,null,null,null,null,null,null,null,null,null,null,null,null,null,null,null,null,"Укрепление материально-технической базы общеобразовательных организаций, команды которых заняли 1-5 места на соревнованиях «Веселые старты»","901","07","02","05 1 03 S2150",null,{"$f":"AD631","v":2403.8000000000002},{"$f":"AE631","v":0},0]
[null,null,null,null,null,null,null,null,null,null,null,null,null,null,null,null,null,null,null,null,null,null,null,"Предоставление субсидий бюджетным, автономным учреждениям и иным некоммерческим организациям","901","07","02","05 1 03 S2150",600,{"$f":"AD632","v":2403.8000000000002},{"$f":"AE632","v":0},0]
[null,null,null,null,null,null,null,null,null,null,null,null,null,null,null,null,null,null,null,null,null,null,null,"Субсидии бюджетным учреждениям","901","07","02","05 1 03 S2150",610,{"$f":"2000+403.8","v":2403.8000000000002},0,0]
[null,null,null,null,null,null,null,null,null,null,null,null,null,null,null,null,null,null,null,null,null,null,null,"Дополнительное образование детей","901","07","03",null,null,{"$f":"AD634","v":73898.8},{"$f":"AE634","v":73898.8},73898.8]
[null,null,null,null,null,null,null,null,null,null,null,null,null,null,null,null,null,null,null,null,null,null,null,"Муниципальная программа «Образование»                    ","901","07","03","03 0 00 00000",null,{"$f":"AD640+AD636","v":73898.8},{"$f":"AE640+AE636","v":73898.8},{"$f":"AF640+AF636","v":73898.8}]
[null,null,null,null,null,null,null,null,null,null,null,null,null,null,null,null,null,null,null,null,null,null,null,"Подпрограмма «Общее образование»                    ","901","07","03","03 1 00 00000",null,{"$f":"AD636","v":5295},{"$f":"AE636","v":5295},5295]
[null,null,null,null,null,null,null,null,null,null,null,null,null,null,null,null,null,null,null,null,null,null,null,"Основное мероприятие «Финансовое обеспечение деятельности образовательных организаций»","901","07","03","03 1 01 00000",null,{"$f":"AD637","v":5295},5295,5295]
[null,null,null,null,null,null,null,null,null,null,null,null,null,null,null,null,null,null,null,null,null,null,null,"Финансовое обеспечение государственных гарантий реализации прав на получение общедоступного и бесплатного дошкольного образования в муниципальных дошкольных образовательных организациях, общедоступного и бесплатного дошкольного, начального общего, основного общего, среднего общего образования в муниципальных общеобразовательных организациях, обеспечение дополнительного образования детей в муниципальных общеобразовательных организациях, включая расходы на оплату труда, приобретение учебников и учебных пособий, средств обучения, игр, игрушек (за исключением расходов на содержание зданий и оплату коммунальных услуг)","901","07","03","03 1 01 62010",null,{"$f":"AD638","v":5295},5295,5295]
[null,null,null,null,null,null,null,null,null,null,null,null,null,null,null,null,null,null,null,null,null,null,null,"Предоставление субсидий бюджетным, автономным учреждениям и иным некоммерческим организациям","901","07","03","03 1 01 62010",600,{"$f":"AD639","v":5295},5295,5295]
[null,null,null,null,null,null,null,null,null,null,null,null,null,null,null,null,null,null,null,null,null,null,null,"Субсидии бюджетным учреждениям","901","07","03","03 1 01 62010",610,{"$f":"4197+1098","v":5295},{"$f":"4197+1098","v":5295},{"$f":"4197+1098","v":5295}]
[null,null,null,null,null,null,null,null,null,null,null,null,null,null,null,null,null,null,null,null,null,null,null,"Подпрограмма \"Дополнительное образование, воспитание и психолого-социальное сопровождение детей\"",901,"07","03","03 2 00 00000",null,{"$f":"AD641+AD649","v":68603.8},{"$f":"AE641+AE649","v":68603.8},68603.8]
[null,null,null,null,null,null,null,null,null,null,null,null,null,null,null,null,null,null,null,null,null,null,null,"Основное мероприятие «Финансовое обеспечение деятельности организаций дополнительного образования\"",901,"07","03","03 2 02 00000",null,{"$f":"AD642","v":55538},{"$f":"AE642","v":55538},{"$f":"AF642","v":55538}]
[null,null,null,null,null,null,null,null,null,null,null,null,null,null,null,null,null,null,null,null,null,null,null,"Расходы на обеспечение деятельности (оказание услуг) муниципальных учреждений - организации дополнительного образования",901,"07","03","03 2 02 06060",null,{"$f":"AD643+AD646","v":55538},{"$f":"AE643+AE646","v":55538},{"$f":"AF643+AF646","v":55538}]
[null,null,null,null,null,null,null,null,null,null,null,null,null,null,null,null,null,null,null,null,null,null,null,"Расходы на обеспечение деятельности (оказание услуг) муниципальных учреждений - организации дополнительного образования (выполнение муниципального задания )",901,"07","03","03 2 02 06061",null,{"$f":"AD644","v":55298},55298,55298]
[null,null,null,null,null,null,null,null,null,null,null,null,null,null,null,null,null,null,null,null,null,null,null,"Предоставление субсидий бюджетным, автономным учреждениям и иным некоммерческим организациям",901,"07","03","03 2 02 06061",600,55298,55298,55298]
[null,null,null,null,null,null,null,null,null,null,null,null,null,null,null,null,null,null,null,null,null,null,null,"Субсидии бюджетным учреждениям",901,"07","03","03 2 02 06061",610,55298,55298,55298]
[null,null,null,null,null,null,null,null,null,null,null,null,null,null,null,null,null,null,null,null,null,null,null,"Расходы на обеспечение деятельности (оказание услуг) муниципальных учреждений - организации дополнительного образования (мероприятия в сфере образования)",901,"07","03","03 2 02 06062",null,{"$f":"AD647","v":240},240,240]
[null,null,null,null,null,null,null,null,null,null,null,null,null,null,null,null,null,null,null,null,null,null,null,"Предоставление субсидий бюджетным, автономным учреждениям и иным некоммерческим организациям",901,"07","03","03 2 02 06062",600,240,240,240]
[null,null,null,null,null,null,null,null,null,null,null,null,null,null,null,null,null,null,null,null,null,null,null,"Субсидии бюджетным учреждениям",901,"07","03","03 2 02 06062",610,240,240,240]
[null,null,null,null,null,null,null,null,null,null,null,null,null,null,null,null,null,null,null,null,null,null,null,"Основное мероприятие \"Обеспечение функционирования модели персонифицированного финансирования дополнительного образования детей\"",901,"07","03","03 2 04 00000",null,{"$f":"AD650","v":13065.800000000001},{"$f":"AE650","v":13065.800000000001},13065.800000000001]
[null,null,null,null,null,null,null,null,null,null,null,null,null,null,null,null,null,null,null,null,null,null,null,"Внедрение и обеспечение функционирования модели персонифицированного финансирования дополнительного образования детей",901,"07","03","03 2 04 00940",null,{"$f":"AD651+AD655","v":13065.800000000001},{"$f":"AE651+AE655","v":13065.800000000001},{"$f":"AF651+AF655","v":13065.800000000001}]
[null,null,null,null,null,null,null,null,null,null,null,null,null,null,null,null,null,null,null,null,null,null,null,"Предоставление субсидий бюджетным, автономным учреждениям и иным некоммерческим организациям",901,"07","03","03 2 04 00940",600,{"$f":"AD652+AD653+AD654","v":12689.500000000002},{"$f":"AE652+AE653+AE654","v":12689.500000000002},12689.500000000002]
[null,null,null,null,null,null,null,null,null,null,null,null,null,null,null,null,null,null,null,null,null,null,null,"Субсидии бюджетным учреждениям",901,"07","03","03 2 04 00940",610,12219.1,12219.1,12219.1]
[null,null,null,null,null,null,null,null,null,null,null,null,null,null,null,null,null,null,null,null,null,null,null,"Субсидии  автономным  учреждениям",901,"07","03","03 2 04 00940",620,235.2,235.2,235.2]
[null,null,null,null,null,null,null,null,null,null,null,null,null,null,null,null,null,null,null,null,null,null,null,"Субсидии некоммерческим организациям (за исключением государственных (муниципальных) учреждений, государственных корпораций (компаний), публично-правовых компаний)",901,"07","03","03 2 04 00940",630,235.2,235.2,235.2]
[null,null,null,null,null,null,null,null,null,null,null,null,null,null,null,null,null,null,null,null,null,null,null,"Иные бюджетные ассигнования",901,"07","03","03 2 04 00940",800,{"$f":"AD656","v":376.3},{"$f":"AE656","v":376.3},{"$f":"AF656","v":376.3}]
[null,null,null,null,null,null,null,null,null,null,null,null,null,null,null,null,null,null,null,null,null,null,null,"Субсидии юридическим лицам (кроме некоммерческих организаций), индивидуальным предпринимателям, физическим лицам - производителям товаров, работ, услуг",901,"07","03","03 2 04 00940",810,376.3,376.3,376.3]
[null,null,null,null,null,null,null,null,null,null,null,null,null,null,null,null,null,null,null,null,null,null,null," Другие вопросы в области образования",901,"07","09",null,null,{"$f":"AD658+AD679+AD689","v":29440.5},{"$f":"AE658+AE679+AE689","v":25499.200000000001},26447.200000000001]
[null,null,null,null,null,null,null,null,null,null,null,null,null,null,null,null,null,null,null,null,null,null,null,"Муниципальная программа «Образование»                    ","901","07","09","03 0 00 00000",null,{"$f":"AD659+AD664","v":23525.7},{"$f":"AE659+AE664","v":22861.200000000001},22861.200000000001]
[null,null,null,null,null,null,null,null,null,null,null,null,null,null,null,null,null,null,null,null,null,null,null,"Подпрограмма «Дополнительное образование, воспитание и психолого-социальное сопровождение детей","901","07","09","03 2 00 00000",null,{"$f":"AD660","v":664.5},{"$f":"AE660","v":0},0]
[null,null,null,null,null,null,null,null,null,null,null,null,null,null,null,null,null,null,null,null,null,null,null,"Федеральный проект «Патриотическое воспитание граждан Российской Федерации»",901,"07","09"," 03 2 EВ 00000",null,{"$f":"AD661","v":664.5},0,0]
[null,null,null,null,null,null,null,null,null,null,null,null,null,null,null,null,null,null,null,null,null,null,null,"Обеспечение оснащения муниципальных общеобразовательных организаций, в том числе структурных подразделений указанных организаций, государственными символами Российской Федерации","901","07","09","03 2 EВ 57860",null,{"$f":"AD662","v":664.5},0,0]
[null,null,null,null,null,null,null,null,null,null,null,null,null,null,null,null,null,null,null,null,null,null,null,"Закупка товаров, работ и услуг для обеспечения государственных (муниципальных) нужд","901","07","09","03 2 EВ 57860",200,{"$f":"AD663","v":664.5},0,0]
[null,null,null,null,null,null,null,null,null,null,null,null,null,null,null,null,null,null,null,null,null,null,null,"Иные закупки товаров, работ и услуг для обеспечения государственных (муниципальных) нужд","901","07","09","03 2 EВ 57860",240,{"$f":"656.3+8.2","v":664.5},0,0]
[null,null,null,null,null,null,null,null,null,null,null,null,null,null,null,null,null,null,null,null,null,null,null,"Подпрограмма \"Обеспечивающая подпрограмма\"","901","07","09","03 4 00 00000",null,{"$f":"AD665","v":22861.200000000001},{"$f":"AE665","v":22861.200000000001},{"$f":"AF665","v":22861.200000000001}]
[null,null,null,null,null,null,null,null,null,null,null,null,null,null,null,null,null,null,null,null,null,null,null,"Основное мероприятие «Создание условий для реализации полномочий органов местного самоуправления»","901","07","09","03 4 01 00000",null,{"$f":"AD666+AD676","v":22861.200000000001},{"$f":"AE666+AE676","v":22861.200000000001},{"$f":"AF666+AF676","v":22861.200000000001}]
[null,null,null,null,null,null,null,null,null,null,null,null,null,null,null,null,null,null,null,null,null,null,null,"Обеспечение деятельности органов местного самоуправления","901","07","09","03 4 01 00130",null,{"$f":"AD667+AD670+AD673","v":22673.3},{"$f":"AE667+AE670+AE673","v":22673.3},{"$f":"AF667+AF670+AF673","v":22673.3}]
[null,null,null,null,null,null,null,null,null,null,null,null,null,null,null,null,null,null,null,null,null,null,null,"Обеспечение деятельности органов местного самоуправления (расходы на обеспечение деятельности органов местного самоуправления)","901","07","09","03 4 01 00131",null,{"$f":"AD668","v":1363.8},{"$f":"AE668","v":1363.8},1363.8]
[null,null,null,null,null,null,null,null,null,null,null,null,null,null,null,null,null,null,null,null,null,null,null,"Закупка товаров, работ и услуг для обеспечения государственных (муниципальных) нужд","901","07","09","03 4 01 00131",200,{"$f":"AD669","v":1363.8},{"$f":"AE669","v":1363.8},{"$f":"AF669","v":1363.8}]
[null,null,null,null,null,null,null,null,null,null,null,null,null,null,null,null,null,null,null,null,null,null,null,"Иные закупки товаров, работ и услуг для обеспечения государственных (муниципальных) нужд","901","07","09","03 4 01 00131",240,1363.8,1363.8,1363.8]
[null,null,null,null,null,null,null,null,null,null,null,null,null,null,null,null,null,null,null,null,null,null,null,"Обеспечение деятельности органов местного самоуправления (расходы на содержание лиц, замещающих должности не являющиеся должностями муниципальной службы)","901","07","09","03 4 01 00132",null,{"$f":"AD671","v":8644.5},8644.5,8644.5]
[null,null,null,null,null,null,null,null,null,null,null,null,null,null,null,null,null,null,null,null,null,null,null,"Расходы на выплаты персоналу в целях обеспечения выполнения функций государственными (муниципальными) органами, казенными учреждениями, органами управления государственными внебюджетными фондами ","901","07","09","03 4 01 00132",100,8644.5,8644.5,8644.5]
[null,null,null,null,null,null,null,null,null,null,null,null,null,null,null,null,null,null,null,null,null,null,null,"Расходы на выплаты персоналу государственных (муниципальных) органов","901","07","09","03 4 01 00132",120,8644.5,8644.5,8644.5]
[null,null,null,null,null,null,null,null,null,null,null,null,null,null,null,null,null,null,null,null,null,null,null,"Обеспечение деятельности органов местного самоуправления (расходы на содержание лиц, замещающих должности муниципальной службы)","901","07","09","03 4 01 00133",null,{"$f":"AD674","v":12665},12665,12665]
[null,null,null,null,null,null,null,null,null,null,null,null,null,null,null,null,null,null,null,null,null,null,null,"Расходы на выплаты персоналу в целях обеспечения выполнения функций государственными (муниципальными) органами, казенными учреждениями, органами управления государственными внебюджетными фондами ","901","07","09","03 4 01 00133",100,12665,12665,12665]
[null,null,null,null,null,null,null,null,null,null,null,null,null,null,null,null,null,null,null,null,null,null,null,"Расходы на выплаты персоналу государственных (муниципальных) органов","901","07","09","03 4 01 00133",120,12665,12665,12665]
[null,null,null,null,null,null,null,null,null,null,null,null,null,null,null,null,null,null,null,null,null,null,null,"Мероприятия в сфере образования","901","07","09","03 4 01 00950",null,{"$f":"AD677","v":187.9},187.9,187.9]
[null,null,null,null,null,null,null,null,null,null,null,null,null,null,null,null,null,null,null,null,null,null,null,"Закупка товаров, работ и услуг для обеспечения государственных (муниципальных) нужд","901","07","09","03 4 01 00950",200,187.9,187.9,187.9]
[null,null,null,null,null,null,null,null,null,null,null,null,null,null,null,null,null,null,null,null,null,null,null,"Иные закупки товаров, работ и услуг для обеспечения государственных (муниципальных) нужд","901","07","09","03 4 01 00950",240,187.9,187.9,187.9]
[null,null,null,null,null,null,null,null,null,null,null,null,null,null,null,null,null,null,null,null,null,null,null,"Муниципальная программа «Социальная защита населения»                    ","901","07","09","04 0 00 00000",null,{"$f":"AD680","v":2638},2638,2638]
[null,null,null,null,null,null,null,null,null,null,null,null,null,null,null,null,null,null,null,null,null,null,null,"Подпрограмма «Развитие системы отдыха и оздоровления детей»","901","07","09","04 2 00 00000",null,2638,2638,2638]
[null,null,null,null,null,null,null,null,null,null,null,null,null,null,null,null,null,null,null,null,null,null,null,"Основное мероприятие «Мероприятия по организации отдыха детей в каникулярное время»","901","07","09","04 2 03 00000",null,{"$f":"AD682","v":2638},2638,2638]
[null,null,null,null,null,null,null,null,null,null,null,null,null,null,null,null,null,null,null,null,null,null,null,"Мероприятия по организации отдыха детей в каникулярное время","901","07","09","04 2 03 S2190",null,{"$f":"AD686+AD683","v":2638},{"$f":"AE686+AE683","v":2638},2638]
[null,null,null,null,null,null,null,null,null,null,null,null,null,null,null,null,null,null,null,null,null,null,null,"Мероприятия по организации отдыха детей в каникулярное время (организация  отдыха  детей  и  подростков  в  санаторно-курортных  учреждениях  и  загородных  оздоровительных  лагерях)","901","07","09","04 2 03 S2191",null,{"$f":"AD684","v":1148},{"$f":"AE684","v":1148},1148]
[null,null,null,null,null,null,null,null,null,null,null,null,null,null,null,null,null,null,null,null,null,null,null,"Предоставление субсидий бюджетным, автономным учреждениям и иным некоммерческим организациям","901","07","09","04 2 03 S2191",600,{"$f":"AD685","v":1148},1148,1148]
[null,null,null,null,null,null,null,null,null,null,null,null,null,null,null,null,null,null,null,null,null,null,null,"Субсидии бюджетным учреждениям","901","07","09","04 2 03 S2191",610,{"$f":"435+713","v":1148},{"$f":"435+713","v":1148},{"$f":"435+713","v":1148}]
[null,null,null,null,null,null,null,null,null,null,null,null,null,null,null,null,null,null,null,null,null,null,null,"Мероприятия по организации отдыха детей в каникулярное время(организация  отдыха  детей  и  подростков  в   лагерях  с  дневным  пребыванием) ","901","07","09","04 2 03 S2192",null,{"$f":"AD687","v":1490},1490,1490]
[null,null,null,null,null,null,null,null,null,null,null,null,null,null,null,null,null,null,null,null,null,null,null,"Предоставление субсидий бюджетным, автономным учреждениям и иным некоммерческим организациям","901","07","09","04 2 03 S2192",600,1490,1490,1490]
[null,null,null,null,null,null,null,null,null,null,null,null,null,null,null,null,null,null,null,null,null,null,null,"Субсидии бюджетным учреждениям","901","07","09","04 2 03 S2192",610,{"$f":"540+950","v":1490},{"$f":"540+950","v":1490},{"$f":"540+950","v":1490}]
[null,null,null,null,null,null,null,null,null,null,null,null,null,null,null,null,null,null,null,null,null,null,null,"Муниципальная программа «Цифровое муниципальное образование»                                   ","901","07","09","15 0 00 00000",null,{"$f":"AD690","v":3276.8},0,948]
[null,null,null,null,null,null,null,null,null,null,null,null,null,null,null,null,null,null,null,null,null,null,null,"Подпрограмма «Развитие информационной и технологической инфраструктуры экосистемы цифровой экономики муниципального образования Московской области»","901","07","09","15 2 00 00000",null,{"$f":"AD691","v":3276.8},0,948]
[null,null,null,null,null,null,null,null,null,null,null,null,null,null,null,null,null,null,null,null,null,null,null,"Федеральный проект \"Цифровая образовательная среда\"","901","07","09","15 2 E4 00000",null,{"$f":"AD692+AD695","v":3276.8},{"$f":"AE692+AE695","v":0},948]
[null,null,null,null,null,null,null,null,null,null,null,null,null,null,null,null,null,null,null,null,null,null,null,"Обеспечение образовательных организаций материально-технической базой для внедрения цифровой образовательной среды","901","07","09","15 2 E4 52100",null,{"$f":"AD693","v":3276.8},{"$f":"AE693","v":0},0]
[null,null,null,null,null,null,null,null,null,null,null,null,null,null,null,null,null,null,null,null,null,null,null,"Закупка товаров, работ и услуг для обеспечения государственных (муниципальных) нужд","901","07","09","15 2 E4 52100",200,{"$f":"AD694","v":3276.8},0,0]
[null,null,null,null,null,null,null,null,null,null,null,null,null,null,null,null,null,null,null,null,null,null,null,"Иные закупки товаров, работ и услуг для обеспечения государственных (муниципальных) нужд","901","07","09","15 2 E4 52100",240,{"$f":"3196.9+79.9","v":3276.8},0,0]
[null,null,null,null,null,null,null,null,null,null,null,null,null,null,null,null,null,null,null,null,null,null,null,"Обновление и техническое обслуживание (ремонт) средств (программного обеспечения и оборудования), приобретённых в рамках субсидий на внедрение целевой модели цифровой образовательной среды в общеобразовательных организациях, на государственную поддержку образовательных организаций в целях оснащения (обновления) их компьютерным, мультимедийным, презентационным оборудованием и программным обеспечением в рамках эксперимента по модернизации начального общего, основного общего и среднего общего образования","901","07","09","15 2 E4 S1690",null,{"$f":"AD696","v":0},{"$f":"AE696","v":0},948]
[null,null,null,null,null,null,null,null,null,null,null,null,null,null,null,null,null,null,null,null,null,null,null,"Закупка товаров, работ и услуг для обеспечения государственных (муниципальных) нужд","901","07","09","15 2 E4 S1690",200,{"$f":"AD697","v":0},0,948]
[null,null,null,null,null,null,null,null,null,null,null,null,null,null,null,null,null,null,null,null,null,null,null,"Иные закупки товаров, работ и услуг для обеспечения государственных (муниципальных) нужд","901","07","09","15 2 E4 S1690",240,0,0,{"$f":"788+160","v":948}]
[null,null,null,null,null,null,null,null,null,null,null,null,null,null,null,null,null,null,null,null,null,null,null,"Социальная политика","901","10",null,null,null,{"$f":"AD699+AD706","v":18822.2},{"$f":"AE699+AE706","v":18822.2},{"$f":"AF699+AF706","v":18822.2}]
[null,null,null,null,null,null,null,null,null,null,null,null,null,null,null,null,null,null,null,null,null,null,null,"Пенсионное обеспечение","901",10,"01",null,null,{"$f":"AD700","v":848.2},848.2,848.2]
[null,null,null,null,null,null,null,null,null,null,null,null,null,null,null,null,null,null,null,null,null,null,null,"Муниципальная программа «Социальная защита населения»                    ","901",10,"01","04 0 00 00000",null,848.2,848.2,848.2]
[null,null,null,null,null,null,null,null,null,null,null,null,null,null,null,null,null,null,null,null,null,null,null,"Подпрограмма «Социальная поддержка граждан»","901",10,"01","04 1 00 00000",null,848.2,848.2,848.2]
[null,null,null,null,null,null,null,null,null,null,null,null,null,null,null,null,null,null,null,null,null,null,null,"Основное мероприятие «Предоставление государственных гарантий муниципальным служащим, поощрение за муниципальную службу»","901",10,"01","04 1 15 00000",null,848.2,848.2,848.2]
[null,null,null,null,null,null,null,null,null,null,null,null,null,null,null,null,null,null,null,null,null,null,null,"Предоставление доплаты за выслугу лет к трудовой пенсии муниципальным служащим за счет средств местного бюджета","901",10,"01","04 1 15 00840",null,848.2,848.2,848.2]
[null,null,null,null,null,null,null,null,null,null,null,null,null,null,null,null,null,null,null,null,null,null,null,"Социальное обеспечение и иные выплаты населению","901",10,"01","04 1 15 00840",300,848.2,848.2,848.2]
[null,null,null,null,null,null,null,null,null,null,null,null,null,null,null,null,null,null,null,null,null,null,null,"Социальные выплаты гражданам, кроме публичных нормативных социальных выплат","901",10,"01","04 1 15 00840",320,848.2,848.2,848.2]
[null,null,null,null,null,null,null,null,null,null,null,null,null,null,null,null,null,null,null,null,null,null,null,"Охрана семьи и детства","901",10,"04",null,null,{"$f":"AD707","v":17974},{"$f":"AE707","v":17974},{"$f":"AF707","v":17974}]
[null,null,null,null,null,null,null,null,null,null,null,null,null,null,null,null,null,null,null,null,null,null,null,"Муниципальная программа «Образование»                    ","901",10,"04","03 0 00 00000",null,{"$f":"AD708","v":17974},17974,17974]
[null,null,null,null,null,null,null,null,null,null,null,null,null,null,null,null,null,null,null,null,null,null,null,"Подпрограмма «Общее образование»                   ","901",10,"04","03 1 00 00000",null,{"$f":"AD709","v":17974},{"$f":"AE709","v":17974},{"$f":"AF709","v":17974}]
[null,null,null,null,null,null,null,null,null,null,null,null,null,null,null,null,null,null,null,null,null,null,null,"Основное мероприятие «Финансовое обеспечение деятельности образовательных организаций»","901",10,"04","03 1 01 00000",null,17974,17974,17974]
[null,null,null,null,null,null,null,null,null,null,null,null,null,null,null,null,null,null,null,null,null,null,null,"Выплата компенсации родительской платы за присмотр и уход за детьми, осваивающими образовательные программы дошкольного образования в организациях Московской области, осуществляющих образовательную деятельность","901",10,"04","03 1 01 62140",null,{"$f":"AD713+AD711+AD715","v":17974},{"$f":"AE713+AE711+AE715","v":17974},17974]
[null,null,null,null,null,null,null,null,null,null,null,null,null,null,null,null,null,null,null,null,null,null,null,"Закупка товаров, работ и услуг для обеспечения государственных (муниципальных) нужд","901",10,"04","03 1 01 62140",200,{"$f":"AD712","v":170},{"$f":"AE712","v":170},{"$f":"AF712","v":170}]
[null,null,null,null,null,null,null,null,null,null,null,null,null,null,null,null,null,null,null,null,null,null,null,"Иные закупки товаров, работ и услуг для обеспечения государственных (муниципальных) нужд","901",10,"04","03 1 01 62140",240,170,170,170]
[null,null,null,null,null,null,null,null,null,null,null,null,null,null,null,null,null,null,null,null,null,null,null,"Социальное обеспечение и иные выплаты населению","901",10,"04","03 1 01 62140",300,{"$f":"AD714","v":16978},{"$f":"AE714","v":16978},{"$f":"AF714","v":16978}]
[null,null,null,null,null,null,null,null,null,null,null,null,null,null,null,null,null,null,null,null,null,null,null,"Публичные нормативные социальные выплаты гражданам","901",10,"04","03 1 01 62140",310,16978,16978,16978]
[null,null,null,null,null,null,null,null,null,null,null,null,null,null,null,null,null,null,null,null,null,null,null,"Предоставление субсидий бюджетным, автономным учреждениям и иным некоммерческим организациям","901",10,"04","03 1 01 62140",600,{"$f":"AD716","v":826},{"$f":"AE716","v":826},826]
[null,null,null,null,null,null,null,null,null,null,null,null,null,null,null,null,null,null,null,null,null,null,null,"Субсидии бюджетным учреждениям","901",10,"04","03 1 01 62140",610,826,826,826]
[null,null,null,null,null,null,null,null,null,null,null,null,null,null,null,null,null,null,null,null,null,null,null,"Управление  жилищно-коммунального  хозяйства    и  развития  городской  инфраструктуры  города  Лыткарино",902,null,null,null,null,{"$f":"AD718+AD752+AD838+AD862+AD884","v":1350955.6},{"$f":"AE718+AE752+AE838+AE862+AE884","v":638922.30000000005},{"$f":"AF718+AF752+AF838+AF862+AF884","v":325482.5}]
[null,null,null,null,null,null,null,null,null,null,null,null,null,null,null,null,null,null,null,null,null,null,null,"Национальная экономика","902","04",null,null,null,{"$f":"AD719+AD726","v":63920.700000000004},{"$f":"AE719+AE726","v":18531.8},{"$f":"AF719+AF726","v":13963.8}]
[null,null,null,null,null,null,null,null,null,null,null,null,null,null,null,null,null,null,null,null,null,null,null,"Сельское хозяйство и рыболовство","902","04","05",null,null,{"$f":"AD720","v":1482},1482,1482]
[null,null,null,null,null,null,null,null,null,null,null,null,null,null,null,null,null,null,null,null,null,null,null,"Муниципальная программа «Развитие сельского хозяйства»                    ","902","04","05","06 0 00 00000",null,1482,1482,1482]
[null,null,null,null,null,null,null,null,null,null,null,null,null,null,null,null,null,null,null,null,null,null,null,"Подпрограмма \"Обеспечение эпизоотического и ветеринарно-санитарного благополучия и развитие государственной ветеринарной службы\"","902","04","05","06 4 00 00000",null,1482,1482,1482]
[null,null,null,null,null,null,null,null,null,null,null,null,null,null,null,null,null,null,null,null,null,null,null,"Основное мероприятие \"Сохранение ветеринарно-санитарного благополучия\"","902","04","05","06 4 01 00000",null,1482,1482,1482]
[null,null,null,null,null,null,null,null,null,null,null,null,null,null,null,null,null,null,null,null,null,null,null,"Осуществление переданных полномочий Московской области по организации мероприятий при осуществлении деятельности по обращению с собаками без владельцев","902","04","05","06 4 01 60870",null,1482,1482,1482]
[null,null,null,null,null,null,null,null,null,null,null,null,null,null,null,null,null,null,null,null,null,null,null,"Закупка товаров, работ и услуг для обеспечения государственных (муниципальных) нужд","902","04","05","06 4 01 60870",200,1482,1482,1482]
[null,null,null,null,null,null,null,null,null,null,null,null,null,null,null,null,null,null,null,null,null,null,null,"Иные закупки товаров, работ и услуг для обеспечения государственных (муниципальных) нужд","902","04","05","06 4 01 60870",240,1482,1482,1482]
[null,null,null,null,null,null,null,null,null,null,null,null,null,null,null,null,null,null,null,null,null,null,null,"Дорожное  хозяйство  (дорожные  фонды)  ","902","04","09",null,null,{"$f":"AD727+AD739","v":62438.700000000004},{"$f":"AE727+AE739","v":17049.8},{"$f":"AF727+AF739","v":12481.8}]
[null,null,null,null,null,null,null,null,null,null,null,null,null,null,null,null,null,null,null,null,null,null,null,"Муниципальная программа «Развитие и функционирование дорожно-транспортного комплекса»                ","902","04","09","14 0 00 00000",null,{"$f":"AD728","v":35318.800000000003},17049.8,12481.8]
[null,null,null,null,null,null,null,null,null,null,null,null,null,null,null,null,null,null,null,null,null,null,null,"Подпрограмма «Дороги Подмосковья»","902","04","09","14 2 00 00000",null,{"$f":"AD729","v":35318.800000000003},17049.8,12481.8]
[null,null,null,null,null,null,null,null,null,null,null,null,null,null,null,null,null,null,null,null,null,null,null,"Основное мероприятие «Ремонт, капитальный ремонт сети автомобильных дорог, мостов и путепроводов местного значения»","902","04","09","14 2 04 00000",null,{"$f":"AD733+AD736+AD730","v":35318.800000000003},{"$f":"AE733+AE736+AE730","v":17049.8},{"$f":"AF733+AF736+AF730","v":12481.8}]
[null,null,null,null,null,null,null,null,null,null,null,null,null,null,null,null,null,null,null,null,null,null,null,"Дорожная деятельность в отношении автомобильных дорог местного значения в границах городского округа","902","04","09","14 2 04 00200",null,{"$f":"AD731","v":630.79999999999995},630.79999999999995,630.79999999999995]
[null,null,null,null,null,null,null,null,null,null,null,null,null,null,null,null,null,null,null,null,null,null,null,"Закупка товаров, работ и услуг для обеспечения государственных (муниципальных) нужд","902","04","09","14 2 04 00200",200,630.79999999999995,630.79999999999995,630.79999999999995]
[null,null,null,null,null,null,null,null,null,null,null,null,null,null,null,null,null,null,null,null,null,null,null,"Иные закупки товаров, работ и услуг для обеспечения государственных (муниципальных) нужд","902","04","09","14 2 04 00200",240,630.79999999999995,630.79999999999995,630.79999999999995]
[null,null,null,null,null,null,null,null,null,null,null,null,null,null,null,null,null,null,null,null,null,null,null,"Мероприятия по обеспечению безопасности дорожного движения","902","04","09","14 2 04 00210",null,{"$f":"AD734","v":5000},5000,5000]
[null,null,null,null,null,null,null,null,null,null,null,null,null,null,null,null,null,null,null,null,null,null,null,"Закупка товаров, работ и услуг для обеспечения государственных (муниципальных) нужд","902","04","09","14 2 04 00210",200,5000,5000,5000]
[null,null,null,null,null,null,null,null,null,null,null,null,null,null,null,null,null,null,null,null,null,null,null,"Иные закупки товаров, работ и услуг для обеспечения государственных (муниципальных) нужд","902","04","09","14 2 04 00210",240,5000,5000,5000]
[null,null,null,null,null,null,null,null,null,null,null,null,null,null,null,null,null,null,null,null,null,null,null,"Софинансирование работ по капитальному ремонту и ремонту автомобильных дорог общего пользования местного значения","902","04","09","14 2 04 S0240",null,{"$f":"AD737","v":29688},11419,6851]
[null,null,null,null,null,null,null,null,null,null,null,null,null,null,null,null,null,null,null,null,null,null,null,"Закупка товаров, работ и услуг для обеспечения государственных (муниципальных) нужд","902","04","09","14 2 04 S0240",200,29688,11419,6851]
[null,null,null,null,null,null,null,null,null,null,null,null,null,null,null,null,null,null,null,null,null,null,null,"Иные закупки товаров, работ и услуг для обеспечения государственных (муниципальных) нужд","902","04","09","14 2 04 S0240",240,{"$f":"24700+4988","v":29688},{"$f":"9500+1919","v":11419},{"$f":"5700+1151","v":6851}]
[null,null,null,null,null,null,null,null,null,null,null,null,null,null,null,null,null,null,null,null,null,null,null,"Муниципальная программа «Формирование современной комфортной городской среды»   ","902","04","09","17 0 00 00000",null,{"$f":"AD740","v":27119.9},{"$f":"AE740","v":0},0]
[null,null,null,null,null,null,null,null,null,null,null,null,null,null,null,null,null,null,null,null,null,null,null,"Подпрограмма «Создание условий для обеспечения комфортного проживания жителей, в том числе в многоквартирных домах на территории Московской области»","902","04","09","17 2 00 00000",null,{"$f":"AD741+AD749","v":27119.9},{"$f":"AE741+AE749","v":0},{"$f":"AF741+AF749","v":0}]
[null,null,null,null,null,null,null,null,null,null,null,null,null,null,null,null,null,null,null,null,null,null,null,"Основное мероприятие «Обеспечение комфортной среды проживания на территории муниципального образования Московской области»","902","04","09","17 2 01 00000",null,{"$f":"AD742+AD745","v":7619.9},{"$f":"AE742+AE745","v":0},0]
[null,null,null,null,null,null,null,null,null,null,null,null,null,null,null,null,null,null,null,null,null,null,null,"Создание и ремонт пешеходных коммуникаций","902","04","09","17 2 01 S1870",null,{"$f":"AD743","v":4302.3999999999996},{"$f":"AE743","v":0},0]
[null,null,null,null,null,null,null,null,null,null,null,null,null,null,null,null,null,null,null,null,null,null,null,"Закупка товаров, работ и услуг для обеспечения государственных (муниципальных) нужд","902","04","09","17 2 01 S1870",200,{"$f":"AD744","v":4302.3999999999996},{"$f":"AE744","v":0},0]
[null,null,null,null,null,null,null,null,null,null,null,null,null,null,null,null,null,null,null,null,null,null,null,"Иные закупки товаров, работ и услуг для обеспечения государственных (муниципальных) нужд","902","04","09","17 2 01 S1870",240,{"$f":"3579.6+722.8","v":4302.3999999999996},0,0]
[null,null,null,null,null,null,null,null,null,null,null,null,null,null,null,null,null,null,null,null,null,null,null,"Ямочный ремонт асфальтового покрытия дворовых территорий","902","04","09","17 2 01 S2890",null,{"$f":"AD746","v":3317.5},{"$f":"AE746","v":0},0]
[null,null,null,null,null,null,null,null,null,null,null,null,null,null,null,null,null,null,null,null,null,null,null,"Закупка товаров, работ и услуг для обеспечения государственных (муниципальных) нужд","902","04","09","17 2 01 S2890","200",{"$f":"AD747","v":3317.5},0,0]
[null,null,null,null,null,null,null,null,null,null,null,null,null,null,null,null,null,null,null,null,null,null,null,"Иные закупки товаров, работ и услуг для обеспечения государственных (муниципальных) нужд","902","04","09","17 2 01 S2890","240",{"$f":"2760.2+557.3","v":3317.5},0,{"$f":"'Функц. 2022-2024'!J418","v":0}]
[null,null,null,null,null,null,null,null,null,null,null,null,null,null,null,null,null,null,null,null,null,null,null,"Федеральный проект «Формирование комфортной городской среды»","902","04","09","17 2 F2 00000",null,{"$f":"AD749","v":19500},{"$f":"AE749","v":0},0]
[null,null,null,null,null,null,null,null,null,null,null,null,null,null,null,null,null,null,null,null,null,null,null,"Ремонт дворовых территорий","902","04","09","17 2 F2 S2740",null,{"$f":"AD750","v":19500},0,0]
[null,null,null,null,null,null,null,null,null,null,null,null,null,null,null,null,null,null,null,null,null,null,null,"Закупка товаров, работ и услуг для обеспечения государственных (муниципальных) нужд","902","04","09","17 2 F2 S2740",200,19500,0,0]
[null,null,null,null,null,null,null,null,null,null,null,null,null,null,null,null,null,null,null,null,null,null,null,"Иные закупки товаров, работ и услуг для обеспечения государственных (муниципальных) нужд","902","04","09","17 2 F2 S2740",240,{"$f":"16224+3276","v":19500},0,0]
[null,null,null,null,null,null,null,null,null,null,null,null,null,null,null,null,null,null,null,null,null,null,null,"Жилищно-коммунальное хозяйство","902","05",null,null,null,{"$f":"AD753+AD778+AD809+AD766","v":905898.50000000012},{"$f":"AE753+AE778+AE809+AE766","v":308682.5},{"$f":"AF753+AF778+AF809+AF766","v":65574.8}]
[null,null,null,null,null,null,null,null,null,null,null,null,null,null,null,null,null,null,null,null,null,null,null," Жилищное хозяйство","902","05","01",null,null,{"$f":"AD754+AD760","v":56725.799999999996},{"$f":"AE754+AE760","v":100},{"$f":"AF754+AF760","v":100}]
[null,null,null,null,null,null,null,null,null,null,null,null,null,null,null,null,null,null,null,null,null,null,null,"Муниципальная программа «Формирование современной комфортной городской среды»   ","902","05","01","17 0 00 00000",null,{"$f":"AD755","v":100},100,100]
[null,null,null,null,null,null,null,null,null,null,null,null,null,null,null,null,null,null,null,null,null,null,null,"Подпрограмма «Создание условий для обеспечения комфортного проживания жителей, в том числе в многоквартирных домах на территории Московской области»","902","05","01","17 2 00 00000",null,{"$f":"AD756","v":100},{"$f":"AE756","v":100},{"$f":"AF756","v":100}]
[null,null,null,null,null,null,null,null,null,null,null,null,null,null,null,null,null,null,null,null,null,null,null,"Основное мероприятие «Создание благоприятных условий для проживания граждан в многоквартирных домах, расположенных на территории Московской области»","902","05","01","17 2 02 00000",null,100,100,100]
[null,null,null,null,null,null,null,null,null,null,null,null,null,null,null,null,null,null,null,null,null,null,null,"Проведение капитального ремонта многоквартирных домов","902","05","01","17 2 02 01260",null,100,100,100]
[null,null,null,null,null,null,null,null,null,null,null,null,null,null,null,null,null,null,null,null,null,null,null,"Закупка товаров, работ и услуг для обеспечения государственных (муниципальных) нужд","902","05","01","17 2 02 01260","200",100,100,100]
[null,null,null,null,null,null,null,null,null,null,null,null,null,null,null,null,null,null,null,null,null,null,null,"Иные закупки товаров, работ и услуг для обеспечения государственных (муниципальных) нужд","902","05","01","17 2 02 01260","240",100,100,100]
[null,null,null,null,null,null,null,null,null,null,null,null,null,null,null,null,null,null,null,null,null,null,null,"Муниципальная программа \"Переселение граждан из аварийного жилищного фонда\"","902","05","01","19 0 00 00000",null,{"$f":"AD761","v":56625.799999999996},{"$f":"AE761","v":0},0]
[null,null,null,null,null,null,null,null,null,null,null,null,null,null,null,null,null,null,null,null,null,null,null,"Подпрограмма \"Обеспечение мероприятий по переселению граждан из аварийного жилищного фонда в Московской области\"","902","05","01","19 2 00 00000",null,{"$f":"AD762","v":56625.799999999996},0,0]
[null,null,null,null,null,null,null,null,null,null,null,null,null,null,null,null,null,null,null,null,null,null,null,"Основное мероприятие \"Переселение граждан из аварийного жилищного фонда\"","902","05","01","19 2 02 00000",null,{"$f":"AD763","v":56625.799999999996},0,0]
[null,null,null,null,null,null,null,null,null,null,null,null,null,null,null,null,null,null,null,null,null,null,null,"Обеспечение мероприятий по переселению граждан из аварийного жилищного фонда","902","05","01","19 2 02 S9605",null,{"$f":"AD764","v":56625.799999999996},0,0]
[null,null,null,null,null,null,null,null,null,null,null,null,null,null,null,null,null,null,null,null,null,null,null," Капитальные вложения в объекты государственной(муниципальной) собственности","902","05","01","19 2 02 S9605","400",{"$f":"AD765","v":56625.799999999996},0,0]
[null,null,null,null,null,null,null,null,null,null,null,null,null,null,null,null,null,null,null,null,null,null,null,"Бюджетные инвестиции ","902","05","01","19 2 02 S9605","410",{"$f":"47339.2+9286.6","v":56625.799999999996},0,0]
[null,null,null,null,null,null,null,null,null,null,null,null,null,null,null,null,null,null,null,null,null,null,null,"Коммунальное  хозяйство","902","05","02",null,null,{"$f":"AD767","v":23652},{"$f":"AE767","v":55122},50]
[null,null,null,null,null,null,null,null,null,null,null,null,null,null,null,null,null,null,null,null,null,null,null,"Муниципальная программа «Развитие инженерной инфраструктуры, энергоэффективности и отрасли обращения с отходами»   ","902","05","02","10 0 00 00000",null,{"$f":"AD768","v":23652},55122,50]
[null,null,null,null,null,null,null,null,null,null,null,null,null,null,null,null,null,null,null,null,null,null,null,"Подпрограмма \"Объекты теплоснабжения, инженерные коммуникации\"","902","05","02","10 3 00 00000",null,{"$f":"AD769","v":23652},55122,50]
[null,null,null,null,null,null,null,null,null,null,null,null,null,null,null,null,null,null,null,null,null,null,null,"Основное мероприятие \"Строительство, реконструкция, капитальный ремонт объектов теплоснабжения на территории муниципальных образований Московской области\"","902","05","02","10 3 01 00000",null,{"$f":"AD776+AD770","v":23652},{"$f":"AE776+AE770","v":55122},{"$f":"AF776+AF770","v":50}]
[null,null,null,null,null,null,null,null,null,null,null,null,null,null,null,null,null,null,null,null,null,null,null,"Строительство и реконструкция объектов теплоснабжения за счет средств местного бюджета","902","05","02","10 3 01 74730",null,{"$f":"AD771","v":50},{"$f":"AE771","v":50},{"$f":"AF771","v":50}]
[null,null,null,null,null,null,null,null,null,null,null,null,null,null,null,null,null,null,null,null,null,null,null,"Строительство и реконструкция объектов теплоснабжения за счет средств местного бюджета (Реконструкция котельной № 1 г.Лыткарино (в т.ч. ПИР)","902","05","02","10 3 01 74731",null,{"$f":"AD772","v":50},{"$f":"AE772","v":50},50]
[null,null,null,null,null,null,null,null,null,null,null,null,null,null,null,null,null,null,null,null,null,null,null,"Закупка товаров, работ и услуг для обеспечения государственных (муниципальных) нужд","902","05","02","10 3 01 74731","200",{"$f":"AD773","v":50},50,50]
[null,null,null,null,null,null,null,null,null,null,null,null,null,null,null,null,null,null,null,null,null,null,null,"Иные закупки товаров, работ и услуг для обеспечения государственных (муниципальных) нужд","902","05","02","10 3 01 74731","240",50,50,50]
[null,null,null,null,null,null,null,null,null,null,null,null,null,null,null,null,null,null,null,null,null,null,null,"Строительство и реконструкция объектов теплоснабжения","902","05","02","10 3 01 S4730",null,{"$f":"AD775","v":23602},{"$f":"AE775","v":55072},0]
[null,null,null,null,null,null,null,null,null,null,null,null,null,null,null,null,null,null,null,null,null,null,null,"Строительство и реконструкция объектов теплоснабжения (Реконструкция котельной № 1 г.Лыткарино (в т.ч. ПИР)","902","05","02","10 3 01 S4731",null,{"$f":"AD776","v":23602},{"$f":"AE776","v":55072},0]
[null,null,null,null,null,null,null,null,null,null,null,null,null,null,null,null,null,null,null,null,null,null,null," Капитальные вложения в объекты государственной(муниципальной) собственности","902","05","02","10 3 01 S4731","400",{"$f":"AD777","v":23602},{"$f":"AE777","v":55072},0]
[null,null,null,null,null,null,null,null,null,null,null,null,null,null,null,null,null,null,null,null,null,null,null,"Бюджетные инвестиции ","902","05","02","10 3 01 S4731","410",{"$f":"19636.9+3965.1","v":23602},{"$f":"45819.9+9252.1","v":55072},0]
[null,null,null,null,null,null,null,null,null,null,null,null,null,null,null,null,null,null,null,null,null,null,null,"Благоустройство","902","05","03",null,null,{"$f":"AD779","v":804617.8},{"$f":"AE779","v":232557.6},44521.9]
[null,null,null,null,null,null,null,null,null,null,null,null,null,null,null,null,null,null,null,null,null,null,null,"Муниципальная программа «Формирование современной комфортной городской среды»   ","902","05","03","17 0 00 00000",null,{"$f":"AD798+AD780","v":804617.8},{"$f":"AE798+AE780","v":232557.6},{"$f":"AF798+AF780","v":44521.9}]
[null,null,null,null,null,null,null,null,null,null,null,null,null,null,null,null,null,null,null,null,null,null,null,"Подпрограмма «Комфортная городская среда»","902","05","03","17 1 00 00000",null,{"$f":"AD781+AD791","v":760095.9},{"$f":"AE781+AE791","v":188035.7},{"$f":"AF781+AF791","v":0}]
[null,null,null,null,null,null,null,null,null,null,null,null,null,null,null,null,null,null,null,null,null,null,null,"Основное мероприятие \"Благоустройство общественных территорий муниципальных образований Московской области\"","902","05","03","17 1 01 00000",null,{"$f":"AD782+AD785+AD788","v":720095.9},{"$f":"AE782+AE785+AE788","v":0},0]
[null,null,null,null,null,null,null,null,null,null,null,null,null,null,null,null,null,null,null,null,null,null,null,"Обустройство и установка детских игровых площадок на территории муниципальных образований","902","05","03","17 1 01 S1580",null,{"$f":"AD783","v":8855},0,0]
[null,null,null,null,null,null,null,null,null,null,null,null,null,null,null,null,null,null,null,null,null,null,null,"Закупка товаров, работ и услуг для обеспечения государственных (муниципальных) нужд","902","05","03","17 1 01 S1580","200",8855,0,0]
[null,null,null,null,null,null,null,null,null,null,null,null,null,null,null,null,null,null,null,null,null,null,null,"Иные закупки товаров, работ и услуг для обеспечения государственных (муниципальных) нужд","902","05","03","17 1 01 S1580","240",{"$f":"2656.5+6198.5","v":8855},0,0]
[null,null,null,null,null,null,null,null,null,null,null,null,null,null,null,null,null,null,null,null,null,null,null,"Устройство систем наружного освещения в рамках реализации проекта «Светлый город»","902","05","03","17 1 01 S2630",null,{"$f":"AD786","v":2500},{"$f":"AE786","v":0},0]
[null,null,null,null,null,null,null,null,null,null,null,null,null,null,null,null,null,null,null,null,null,null,null,"Закупка товаров, работ и услуг для обеспечения государственных (муниципальных) нужд","902","05","03","17 1 01 S2630","200",{"$f":"AD787","v":2500},0,0]
[null,null,null,null,null,null,null,null,null,null,null,null,null,null,null,null,null,null,null,null,null,null,null,"Иные закупки товаров, работ и услуг для обеспечения государственных (муниципальных) нужд","902","05","03","17 1 01 S2630","240",{"$f":"750+1750","v":2500},0,0]
[null,null,null,null,null,null,null,null,null,null,null,null,null,null,null,null,null,null,null,null,null,null,null,"Благоустройство лесопарковых зон","902","05","03","17 1 01 S3730",null,{"$f":"AD789","v":708740.9},{"$f":"AE789","v":0},0]
[null,null,null,null,null,null,null,null,null,null,null,null,null,null,null,null,null,null,null,null,null,null,null,"Закупка товаров, работ и услуг для обеспечения государственных (муниципальных) нужд","902","05","03","17 1 01 S3730","200",{"$f":"AD790","v":708740.9},0,0]
[null,null,null,null,null,null,null,null,null,null,null,null,null,null,null,null,null,null,null,null,null,null,null,"Иные закупки товаров, работ и услуг для обеспечения государственных (муниципальных) нужд","902","05","03","17 1 01 S3730","240",{"$f":"589672.4+119068.5","v":708740.9},0,0]
[null,null,null,null,null,null,null,null,null,null,null,null,null,null,null,null,null,null,null,null,null,null,null,"Федеральный проект «Формирование комфортной городской среды»","902","05","03","17 1 F2 00000",null,{"$f":"AD792+AD795","v":40000},{"$f":"AE792+AE795","v":188035.7},0]
[null,null,null,null,null,null,null,null,null,null,null,null,null,null,null,null,null,null,null,null,null,null,null,"Реализация программ формирования современной городской среды в части благоустройства общественных территорий","902","05","03","17 1 F2 55551",null,{"$f":"AD793","v":0},{"$f":"AE793","v":188035.7},0]
[null,null,null,null,null,null,null,null,null,null,null,null,null,null,null,null,null,null,null,null,null,null,null,"Закупка товаров, работ и услуг для обеспечения государственных (муниципальных) нужд","902","05","03","17 1 F2 55551","200",{"$f":"AD794","v":0},188035.7,0]
[null,null,null,null,null,null,null,null,null,null,null,null,null,null,null,null,null,null,null,null,null,null,null,"Иные закупки товаров, работ и услуг для обеспечения государственных (муниципальных) нужд","902","05","03","17 1 F2 55551","240",0,{"$f":"156445.7+31590","v":188035.7},0]
[null,null,null,null,null,null,null,null,null,null,null,null,null,null,null,null,null,null,null,null,null,null,null,"Реализация программ формирования современной городской среды в части достижения основного результата по благоустройству общественных территорий (благоустройство скверов)","902","05","03","17 1 F2 55555",null,{"$f":"AD796","v":40000},{"$f":"AE796","v":0},0]
[null,null,null,null,null,null,null,null,null,null,null,null,null,null,null,null,null,null,null,null,null,null,null,"Закупка товаров, работ и услуг для обеспечения государственных (муниципальных) нужд","902","05","03","17 1 F2 55555","200",{"$f":"AD797","v":40000},0,0]
[null,null,null,null,null,null,null,null,null,null,null,null,null,null,null,null,null,null,null,null,null,null,null,"Иные закупки товаров, работ и услуг для обеспечения государственных (муниципальных) нужд","902","05","03","17 1 F2 55555","240",{"$f":"33280+6720","v":40000},0,0]
[null,null,null,null,null,null,null,null,null,null,null,null,null,null,null,null,null,null,null,null,null,null,null,"Подпрограмма «Создание условий для обеспечения комфортного проживания жителей, в том числе в многоквартирных домах на территории Московской области»","902","05","03","17 2 00 00000",null,{"$f":"AD799","v":44521.9},44521.9,44521.9]
[null,null,null,null,null,null,null,null,null,null,null,null,null,null,null,null,null,null,null,null,null,null,null,"Основное мероприятие «Обеспечение комфортной среды проживания на территории муниципального образования Московской области»","902","05","03","17 2 01 00000",null,{"$f":"AD803+AD806+AD800","v":44521.9},{"$f":"AE803+AE806+AE800","v":44521.9},44521.9]
[null,null,null,null,null,null,null,null,null,null,null,null,null,null,null,null,null,null,null,null,null,null,null,"Содержание территорий в нормативном состоянии","902","05","03","17 2 01 00620",null,{"$f":"AD801","v":11470.1},{"$f":"AE801","v":0},0]
[null,null,null,null,null,null,null,null,null,null,null,null,null,null,null,null,null,null,null,null,null,null,null,"Закупка товаров, работ и услуг для обеспечения государственных (муниципальных) нужд","902","05","03","17 2 01 00620",200,{"$f":"AD802","v":11470.1},{"$f":"AE802","v":0},0]
[null,null,null,null,null,null,null,null,null,null,null,null,null,null,null,null,null,null,null,null,null,null,null,"Иные закупки товаров, работ и услуг для обеспечения государственных (муниципальных) нужд","902","05","03","17 2 01 00620",240,11470.1,0,0]
[null,null,null,null,null,null,null,null,null,null,null,null,null,null,null,null,null,null,null,null,null,null,null,"Комплексное благоустройство дворовых территорий","902","05","03","17 2 01 01330",null,{"$f":"AD804","v":14403.4},25873.5,25873.5]
[null,null,null,null,null,null,null,null,null,null,null,null,null,null,null,null,null,null,null,null,null,null,null,"Закупка товаров, работ и услуг для обеспечения государственных (муниципальных) нужд","902","05","03","17 2 01 01330",200,14403.4,25873.5,25873.5]
[null,null,null,null,null,null,null,null,null,null,null,null,null,null,null,null,null,null,null,null,null,null,null,"Иные закупки товаров, работ и услуг для обеспечения государственных (муниципальных) нужд","902","05","03","17 2 01 01330",240,14403.4,{"$f":"3002.2+1600+8385.3+12886","v":25873.5},{"$f":"3002.2+1600+8385.3+12886","v":25873.5}]
[null,null,null,null,null,null,null,null,null,null,null,null,null,null,null,null,null,null,null,null,null,null,null,"Организация наружного освещения","902","05","03","17 2 01 01480",null,{"$f":"AD807","v":18648.400000000001},{"$f":"AE807","v":18648.400000000001},18648.400000000001]
[null,null,null,null,null,null,null,null,null,null,null,null,null,null,null,null,null,null,null,null,null,null,null,"Закупка товаров, работ и услуг для обеспечения государственных (муниципальных) нужд","902","05","03","17 2 01 01480",200,{"$f":"AD808","v":18648.400000000001},{"$f":"AE808","v":18648.400000000001},18648.400000000001]
[null,null,null,null,null,null,null,null,null,null,null,null,null,null,null,null,null,null,null,null,null,null,null,"Иные закупки товаров, работ и услуг для обеспечения государственных (муниципальных) нужд","902","05","03","17 2 01 01480",240,{"$f":"12115+6533.4","v":18648.400000000001},{"$f":"9800+8848.4","v":18648.400000000001},{"$f":"8848.4+9800","v":18648.400000000001}]
[null,null,null,null,null,null,null,null,null,null,null,null,null,null,null,null,null,null,null,null,null,null,null,"Другие вопросы в области жилищно-коммунального хозяйства","902","05","05",null,null,{"$f":"AD818+AD810","v":20902.900000000001},{"$f":"AE818+AE810","v":20902.900000000001},20902.900000000001]
[null,null,null,null,null,null,null,null,null,null,null,null,null,null,null,null,null,null,null,null,null,null,null,"Муниципальная программа «Развитие инженерной инфраструктуры, энергоэффективности и отрасли обращения с отходами»   ","902","05","05","10 0 00 00000",null,{"$f":"AD811","v":268},{"$f":"AE811","v":268},268]
[null,null,null,null,null,null,null,null,null,null,null,null,null,null,null,null,null,null,null,null,null,null,null,"Подпрограмма \"Реализация полномочий в сфере жилищно-коммунального хозяйства\"","902","05","05","10 8 00 00000",null,{"$f":"AD812","v":268},{"$f":"AE812","v":268},268]
[null,null,null,null,null,null,null,null,null,null,null,null,null,null,null,null,null,null,null,null,null,null,null,"Основное мероприятие \"Финансовое обеспечение расходов, направленных на осуществление полномочий в сфере жилищно-коммунального хозяйства\"","902","05","05","10 8 02 00000",null,{"$f":"AD813","v":268},{"$f":"AE813","v":268},268]
[null,null,null,null,null,null,null,null,null,null,null,null,null,null,null,null,null,null,null,null,null,null,null,"Осуществление переданных органам местного самоуправления полномочий по региональному государственному жилищному контролю (надзору) за соблюдением гражданами требований правил пользования газом","902","05","05","10 8 02 61930",null,{"$f":"AD814+AD816","v":268},{"$f":"AE814+AE816","v":268},268]
[null,null,null,null,null,null,null,null,null,null,null,null,null,null,null,null,null,null,null,null,null,null,null,"Расходы на выплаты персоналу в целях обеспечения выполнения функций государственными (муниципальными) органами, казенными учреждениями, органами управления государственными внебюджетными фондами ","902","05","05","10 8 02 61930",100,{"$f":"AD815","v":245},{"$f":"AE815","v":245},245]
[null,null,null,null,null,null,null,null,null,null,null,null,null,null,null,null,null,null,null,null,null,null,null,"Расходы на выплаты персоналу государственных (муниципальных) органов","902","05","05","10 8 02 61930",120,245,245,245]
[null,null,null,null,null,null,null,null,null,null,null,null,null,null,null,null,null,null,null,null,null,null,null,"Закупка товаров, работ и услуг для обеспечения государственных (муниципальных) нужд","902","05","05","10 8 02 61930",200,{"$f":"AD817","v":23},{"$f":"AE817","v":23},23]
[null,null,null,null,null,null,null,null,null,null,null,null,null,null,null,null,null,null,null,null,null,null,null,"Иные закупки товаров, работ и услуг для обеспечения государственных (муниципальных) нужд","902","05","05","10 8 02 61930",240,23,23,23]
[null,null,null,null,null,null,null,null,null,null,null,null,null,null,null,null,null,null,null,null,null,null,null,"Муниципальная программа «Формирование современной комфортной городской среды»   ","902","05","05","17 0 00 00000",null,{"$f":"AD826+AD819","v":20634.900000000001},{"$f":"AE826+AE819","v":20634.900000000001},20634.900000000001]
[null,null,null,null,null,null,null,null,null,null,null,null,null,null,null,null,null,null,null,null,null,null,null,"Подпрограмма «Создание условий для обеспечения комфортного проживания жителей, в том числе в многоквартирных домах на территории Московской области»","902","05","05","17 2 00 00000",null,{"$f":"AD820","v":671},{"$f":"AE820","v":671},671]
[null,null,null,null,null,null,null,null,null,null,null,null,null,null,null,null,null,null,null,null,null,null,null,"Основное мероприятие «Обеспечение комфортной среды проживания на территории муниципального образования Московской области»","902","05","05","17 2 01 00000",null,{"$f":"AD821","v":671},671,671]
[null,null,null,null,null,null,null,null,null,null,null,null,null,null,null,null,null,null,null,null,null,null,null,"Создание административных комиссий, уполномоченных рассматривать дела об административных правонарушениях в сфере благоустройства","902","05","05","17 2 01 62670",null,{"$f":"AD822+AD824","v":671},{"$f":"AE822+AE824","v":671},671]
[null,null,null,null,null,null,null,null,null,null,null,null,null,null,null,null,null,null,null,null,null,null,null,"Расходы на выплаты персоналу в целях обеспечения выполнения функций государственными (муниципальными) органами, казенными учреждениями, органами управления государственными внебюджетными фондами ","902","05","05","17 2 01 62670",100,{"$f":"AD823","v":607},{"$f":"AE823","v":607},{"$f":"AF823","v":607}]
[null,null,null,null,null,null,null,null,null,null,null,null,null,null,null,null,null,null,null,null,null,null,null,"Расходы на выплаты персоналу государственных (муниципальных) органов","902","05","05","17 2 01 62670",120,607,607,607]
[null,null,null,null,null,null,null,null,null,null,null,null,null,null,null,null,null,null,null,null,null,null,null,"Закупка товаров, работ и услуг для обеспечения государственных (муниципальных) нужд","902","05","05","17 2 01 62670",200,{"$f":"AD825","v":64},{"$f":"AE825","v":64},64]
[null,null,null,null,null,null,null,null,null,null,null,null,null,null,null,null,null,null,null,null,null,null,null,"Иные закупки товаров, работ и услуг для обеспечения государственных (муниципальных) нужд","902","05","05","17 2 01 62670",240,64,64,64]
[null,null,null,null,null,null,null,null,null,null,null,null,null,null,null,null,null,null,null,null,null,null,null,"Обеспечивающая подпрограмма   ","902","05","05","17 3 00 00000",null,{"$f":"AD827","v":19963.900000000001},19963.900000000001,19963.900000000001]
[null,null,null,null,null,null,null,null,null,null,null,null,null,null,null,null,null,null,null,null,null,null,null,"Основное мероприятие «Создание условий для реализации полномочий органов местного самоуправления» ","902","05","05","17 3 01 00000",null,{"$f":"AD828","v":19963.900000000001},19963.900000000001,19963.900000000001]
[null,null,null,null,null,null,null,null,null,null,null,null,null,null,null,null,null,null,null,null,null,null,null,"Обеспечение деятельности органов местного самоуправления","902","05","05","17 3 01 00130",null,{"$f":"AD829+AD832+AD835","v":19963.900000000001},{"$f":"AE829+AE832+AE835","v":19963.900000000001},{"$f":"AF829+AF832+AF835","v":19963.900000000001}]
[null,null,null,null,null,null,null,null,null,null,null,null,null,null,null,null,null,null,null,null,null,null,null,"Обеспечение деятельности органов местного самоуправления (расходы на обеспечение деятельности органов местного самоуправления)","902","05","05","17 3 01 00131",null,{"$f":"AD830","v":2086.9},{"$f":"AE830","v":2086.9},2086.9]
[null,null,null,null,null,null,null,null,null,null,null,null,null,null,null,null,null,null,null,null,null,null,null,"Закупка товаров, работ и услуг для обеспечения государственных (муниципальных) нужд","902","05","05","17 3 01 00131",200,{"$f":"AD831","v":2086.9},2086.9,2086.9]
[null,null,null,null,null,null,null,null,null,null,null,null,null,null,null,null,null,null,null,null,null,null,null,"Иные закупки товаров, работ и услуг для обеспечения государственных (муниципальных) нужд","902","05","05","17 3 01 00131",240,2086.9,2086.9,2086.9]
[null,null,null,null,null,null,null,null,null,null,null,null,null,null,null,null,null,null,null,null,null,null,null,"Обеспечение деятельности органов местного самоуправления (расходы  на  содержание  лиц,  замещающих должности, не являющиеся должностями муниципальной  службы)","902","05","05","17 3 01 00132",null,{"$f":"AD833","v":10659.7},10659.7,10659.7]
[null,null,null,null,null,null,null,null,null,null,null,null,null,null,null,null,null,null,null,null,null,null,null,"Расходы на выплаты персоналу в целях обеспечения выполнения функций государственными (муниципальными) органами, казенными учреждениями, органами управления государственными внебюджетными фондами ","902","05","05","17 3 01 00132",100,10659.7,10659.7,10659.7]
[null,null,null,null,null,null,null,null,null,null,null,null,null,null,null,null,null,null,null,null,null,null,null,"Расходы на выплаты персоналу государственных (муниципальных) органов","902","05","05","17 3 01 00132",120,10659.7,10659.7,10659.7]
[null,null,null,null,null,null,null,null,null,null,null,null,null,null,null,null,null,null,null,null,null,null,null,"Обеспечение деятельности органов местного самоуправления (расходы  на  содержание  лиц,  замещающих должности  муниципальной  службы)","902","05","05","17 3 01 00133",null,{"$f":"AD836","v":7217.3},7217.3,7217.3]
[null,null,null,null,null,null,null,null,null,null,null,null,null,null,null,null,null,null,null,null,null,null,null,"Расходы на выплаты персоналу в целях обеспечения выполнения функций государственными (муниципальными) органами, казенными учреждениями, органами управления государственными внебюджетными фондами ","902","05","05","17 3 01 00133",100,7217.3,7217.3,7217.3]
[null,null,null,null,null,null,null,null,null,null,null,null,null,null,null,null,null,null,null,null,null,null,null,"Расходы на выплаты персоналу государственных (муниципальных) органов","902","05","05","17 3 01 00133",120,7217.3,7217.3,7217.3]
[null,null,null,null,null,null,null,null,null,null,null,null,null,null,null,null,null,null,null,null,null,null,null,"Образование","902","07",null,null,null,{"$f":"AD839","v":371634},196140,207031]
[null,null,null,null,null,null,null,null,null,null,null,null,null,null,null,null,null,null,null,null,null,null,null,"Общее образование","902","07","02",null,null,{"$f":"AD855+AD840","v":371634},{"$f":"AE855+AE840","v":196140},{"$f":"AF855+AF840","v":207031}]
[null,null,null,null,null,null,null,null,null,null,null,null,null,null,null,null,null,null,null,null,null,null,null,"Муниципальная программа «Образование»                    ","902","07","02","03 0 00 00000",null,{"$f":"AD841","v":356676.8},{"$f":"AE841","v":0},0]
[null,null,null,null,null,null,null,null,null,null,null,null,null,null,null,null,null,null,null,null,null,null,null,"Подпрограмма \"Общее образование\"","902","07","02","03 1 00 00000",null,{"$f":"AD842","v":356676.8},0,0]
[null,null,null,null,null,null,null,null,null,null,null,null,null,null,null,null,null,null,null,null,null,null,null,"Основное мероприятие «Модернизация школьных систем образования в рамках государственной программы Российской Федерации «Развитие образования»","902","07","02","03 1 08 00000",null,{"$f":"AD843+AD846+AD849+AD852","v":356676.8},{"$f":"AE843+AE846+AE849+AE852","v":0},0]
[null,null,null,null,null,null,null,null,null,null,null,null,null,null,null,null,null,null,null,null,null,null,null,"Реализация мероприятий по модернизации школьных систем образования (проведение работ по капитальному ремонту зданий региональных (муниципальных) общеобразовательных организаций)","902","07","02","03 1 08 L7501",null,{"$f":"AD844","v":287742.5},{"$f":"AE844","v":0},0]
[null,null,null,null,null,null,null,null,null,null,null,null,null,null,null,null,null,null,null,null,null,null,null,"Закупка товаров, работ и услуг для обеспечения государственных (муниципальных) нужд","902","07","02","03 1 08 L7501",200,{"$f":"AD845","v":287742.5},0,0]
[null,null,null,null,null,null,null,null,null,null,null,null,null,null,null,null,null,null,null,null,null,null,null,"Иные закупки товаров, работ и услуг для обеспечения государственных (муниципальных) нужд","902","07","02","03 1 08 L7501",240,{"$f":"258968.3+28774.2","v":287742.5},0,0]
[null,null,null,null,null,null,null,null,null,null,null,null,null,null,null,null,null,null,null,null,null,null,null,"Реализация мероприятий по модернизации школьных систем образования (оснащение отремонтированных зданий общеобразовательных организаций средствами обучения и воспитания)","902","07","02","03 1 08 L7502",null,{"$f":"AD847","v":26000},{"$f":"AE847","v":0},0]
[null,null,null,null,null,null,null,null,null,null,null,null,null,null,null,null,null,null,null,null,null,null,null,"Закупка товаров, работ и услуг для обеспечения государственных (муниципальных) нужд","902","07","02","03 1 08 L7502",200,{"$f":"AD848","v":26000},0,0]
[null,null,null,null,null,null,null,null,null,null,null,null,null,null,null,null,null,null,null,null,null,null,null,"Иные закупки товаров, работ и услуг для обеспечения государственных (муниципальных) нужд","902","07","02","03 1 08 L7502",240,{"$f":"23400+2600","v":26000},0,0]
[null,null,null,null,null,null,null,null,null,null,null,null,null,null,null,null,null,null,null,null,null,null,null,"Благоустройство территорий муниципальных общеобразовательных организаций, в зданиях которых выполнен капитальный ремонт","902","07","02","03 1 08 S2950",null,{"$f":"AD850","v":17889.3},{"$f":"AE850","v":0},0]
[null,null,null,null,null,null,null,null,null,null,null,null,null,null,null,null,null,null,null,null,null,null,null,"Закупка товаров, работ и услуг для обеспечения государственных (муниципальных) нужд","902","07","02","03 1 08 S2950",200,{"$f":"AD851","v":17889.3},0,0]
[null,null,null,null,null,null,null,null,null,null,null,null,null,null,null,null,null,null,null,null,null,null,null,"Иные закупки товаров, работ и услуг для обеспечения государственных (муниципальных) нужд","902","07","02","03 1 08 S2950",240,{"$f":"16100.4+1788.9","v":17889.3},0,0]
[null,null,null,null,null,null,null,null,null,null,null,null,null,null,null,null,null,null,null,null,null,null,null,"Разработка проектно-сметной документации на проведение капитального ремонта зданий муниципальных общеобразовательных организаций","902","07","02","03 1 08 S3800",null,{"$f":"AD853","v":25045},0,0]
[null,null,null,null,null,null,null,null,null,null,null,null,null,null,null,null,null,null,null,null,null,null,null,"Закупка товаров, работ и услуг для обеспечения государственных (муниципальных) нужд","902","07","02","03 1 08 S3800",200,25045,0,0]
[null,null,null,null,null,null,null,null,null,null,null,null,null,null,null,null,null,null,null,null,null,null,null,"Иные закупки товаров, работ и услуг для обеспечения государственных (муниципальных) нужд","902","07","02","03 1 08 S3800",240,{"$f":"22540.5+2504.5","v":25045},0,0]
[null,null,null,null,null,null,null,null,null,null,null,null,null,null,null,null,null,null,null,null,null,null,null,"Муниципальная программа «Строительство объектов социальной инфраструктуры»","902","07","02","18 0 00 00000",null,14957.199999999999,196140,207031]
[null,null,null,null,null,null,null,null,null,null,null,null,null,null,null,null,null,null,null,null,null,null,null,"Подпрограмма \"Строительство (реконструкция) объектов образования\"","902","07","02","18 3 00 00000",null,14957.199999999999,196140,207031]
[null,null,null,null,null,null,null,null,null,null,null,null,null,null,null,null,null,null,null,null,null,null,null,"Основное мероприятие \"Организация строительства (реконструкции) объектов общего образования\"","902","07","02","18 3 02 00000",null,{"$f":"AD858","v":14957.199999999999},196140,207031]
[null,null,null,null,null,null,null,null,null,null,null,null,null,null,null,null,null,null,null,null,null,null,null,"Капитальные вложения в общеобразовательные организации в целях обеспечения односменного режима обучения","902","07","02","18 3 02 S4480",null,{"$f":"AD859","v":14957.199999999999},196140,207031]
[null,null,null,null,null,null,null,null,null,null,null,null,null,null,null,null,null,null,null,null,null,null,null,"Капитальные вложения в общеобразовательные организации в целях обеспечения односменного режима обучения (МС(К)ОУ специальная (коррекционная) общеобр.школа N 8 для детей с ОВЗ на 216  мест, г.о. Лыткарино, ул.Пионерская д.12б ","902","07","02","18 3 02 S4481",null,14957.199999999999,196140,207031]
[null,null,null,null,null,null,null,null,null,null,null,null,null,null,null,null,null,null,null,null,null,null,null," Капитальные вложения в объекты государственной(муниципальной) собственности","902","07","02","18 3 02 S4481",400,14957.199999999999,196140,207031]
[null,null,null,null,null,null,null,null,null,null,null,null,null,null,null,null,null,null,null,null,null,null,null,"Бюджетные инвестиции ","902","07","02","18 3 02 S4481",410,{"$f":"14209.3+747.9","v":14957.199999999999},{"$f":"186333+9807","v":196140},{"$f":"196679.4+10351.6","v":207031}]
[null,null,null,null,null,null,null,null,null,null,null,null,null,null,null,null,null,null,null,null,null,null,null,"Социальная политика","902","10",null,null,null,{"$f":"AD863+AD877+AD870","v":9502.4},{"$f":"AE863+AE877+AE870","v":10858},12734.199999999999]
[null,null,null,null,null,null,null,null,null,null,null,null,null,null,null,null,null,null,null,null,null,null,null,"Пенсионное обеспечение","902",10,"01",null,null,{"$f":"AD864","v":890.9},890.9,890.9]
[null,null,null,null,null,null,null,null,null,null,null,null,null,null,null,null,null,null,null,null,null,null,null,"Муниципальная программа «Социальная защита населения»                    ","902",10,"01","04 0 00 00000",null,890.9,890.9,890.9]
[null,null,null,null,null,null,null,null,null,null,null,null,null,null,null,null,null,null,null,null,null,null,null,"Подпрограмма «Социальная поддержка граждан»","902",10,"01","04 1 00 00000",null,890.9,890.9,890.9]
[null,null,null,null,null,null,null,null,null,null,null,null,null,null,null,null,null,null,null,null,null,null,null,"Основное мероприятие «Предоставление государственных гарантий муниципальным служащим, поощрение за муниципальную службу»","902",10,"01","04 1 15 00000",null,890.9,890.9,890.9]
[null,null,null,null,null,null,null,null,null,null,null,null,null,null,null,null,null,null,null,null,null,null,null,"Предоставление доплаты за выслугу лет к трудовой пенсии муниципальным служащим за счет средств местного бюджета","902",10,"01","04 1 15 00840",null,890.9,890.9,890.9]
[null,null,null,null,null,null,null,null,null,null,null,null,null,null,null,null,null,null,null,null,null,null,null,"Социальное обеспечение и иные выплаты населению","902",10,"01","04 1 15 00840",300,890.9,890.9,890.9]
[null,null,null,null,null,null,null,null,null,null,null,null,null,null,null,null,null,null,null,null,null,null,null,"Социальные выплаты гражданам, кроме публичных нормативных социальных выплат","902",10,"01","04 1 15 00840",320,890.9,890.9,890.9]
[null,null,null,null,null,null,null,null,null,null,null,null,null,null,null,null,null,null,null,null,null,null,null,"Социальное обеспечение населения","902",10,"03",null,null,{"$f":"AD871","v":0},{"$f":"AE871","v":0},2430]
[null,null,null,null,null,null,null,null,null,null,null,null,null,null,null,null,null,null,null,null,null,null,null,"Муниципальная программа «Жилище»                    ","902",10,"03","09 0 00 00000",null,0,{"$f":"AE872","v":0},2430]
[null,null,null,null,null,null,null,null,null,null,null,null,null,null,null,null,null,null,null,null,null,null,null,"Подпрограмма \"Обеспечение жильем отдельных категорий граждан за счет средств федерального бюджета\"","902",10,"03","09 6 00 00000",null,0,0,2430]
[null,null,null,null,null,null,null,null,null,null,null,null,null,null,null,null,null,null,null,null,null,null,null,"Основное мероприятие \"Оказание государственной поддержки по обеспечению жильем отдельных категорий граждан, установленных федеральными законами от 12 января 1995 года № 5-ФЗ \"О ветеранах\" и от 24 ноября 1995 года № 181-ФЗ \"О социальной защите инвалидов в Российской Федерации\"","902",10,"03","09 6 02 00000",null,0,{"$f":"AE874","v":0},2430]
[null,null,null,null,null,null,null,null,null,null,null,null,null,null,null,null,null,null,null,null,null,null,null,"Осуществление полномочий по обеспечению жильем отдельных категорий граждан, установленных Федеральным законом от 24 ноября 1995 года № 181-ФЗ \"О социальной защите инвалидов в Российской Федерации\"","902",10,"03","09 6 02 51760",null,0,{"$f":"AE875","v":0},2430]
[null,null,null,null,null,null,null,null,null,null,null,null,null,null,null,null,null,null,null,null,null,null,null,"Социальное обеспечение и иные выплаты населению","902",10,"03","09 6 02 51760",300,0,{"$f":"AE876","v":0},2430]
[null,null,null,null,null,null,null,null,null,null,null,null,null,null,null,null,null,null,null,null,null,null,null,"Социальные выплаты гражданам, кроме публичных  нормативных  социальных  выплат","902",10,"03","09 6 02 51760",320,0,0,2430]
[null,null,null,null,null,null,null,null,null,null,null,null,null,null,null,null,null,null,null,null,null,null,null,"Охрана семьи и детства","902",10,"04",null,null,{"$f":"AD878","v":8611.5},9967.1,9413.2999999999993]
[null,null,null,null,null,null,null,null,null,null,null,null,null,null,null,null,null,null,null,null,null,null,null,"Муниципальная программа «Жилище»                    ","902",10,"04","09 0 00 00000",null,8611.5,9967.1,9413.2999999999993]
[null,null,null,null,null,null,null,null,null,null,null,null,null,null,null,null,null,null,null,null,null,null,null,"Подпрограмма «Обеспечение жильем молодых семей»","902",10,"04","09 2 00 00000",null,8611.5,9967.1,9413.2999999999993]
[null,null,null,null,null,null,null,null,null,null,null,null,null,null,null,null,null,null,null,null,null,null,null,"Основное мероприятие \"Оказание государственной поддержки молодым семьям в виде социальных выплат на приобретение жилого помещения или создание объекта индивидуального жилищного строительства\"","902",10,"04","09 2 01 00000",null,{"$f":"AD881","v":8611.5},9967.1,9413.2999999999993]
[null,null,null,null,null,null,null,null,null,null,null,null,null,null,null,null,null,null,null,null,null,null,null,"Реализация мероприятий по обеспечению жильем молодых семей","902",10,"04","09 2 01 L4970",null,8611.5,9967.1,9413.2999999999993]
[null,null,null,null,null,null,null,null,null,null,null,null,null,null,null,null,null,null,null,null,null,null,null,"Социальное обеспечение и иные выплаты населению","902",10,"04","09 2 01 L4970",300,8611.5,9967.1,9413.2999999999993]
[null,null,null,null,null,null,null,null,null,null,null,null,null,null,null,null,null,null,null,null,null,null,null,"Социальные выплаты гражданам, кроме публичных  нормативных  социальных  выплат","902",10,"04","09 2 01 L4970",320,{"$f":"5002.7+3608.8","v":8611.5},{"$f":"5823.1+4144","v":9967.1},{"$f":"5388.6+4024.7","v":9413.2999999999993}]
[null,null,null,null,null,null,null,null,null,null,null,null,null,null,null,null,null,null,null,null,null,null,null,"Физическая  культура  и  спорт","902",11,null,null,null,{"$f":"AD885","v":0},{"$f":"AE885","v":104710},26178.7]
[null,null,null,null,null,null,null,null,null,null,null,null,null,null,null,null,null,null,null,null,null,null,null,"Массовый  спорт","902",11,"02",null,null,0,{"$f":"AE886","v":104710},26178.7]
[null,null,null,null,null,null,null,null,null,null,null,null,null,null,null,null,null,null,null,null,null,null,null,"Муниципальная программа «Спорт»                    ","902",11,"02","05 0 00 00000",null,0,{"$f":"AE887","v":104710},26178.7]
[null,null,null,null,null,null,null,null,null,null,null,null,null,null,null,null,null,null,null,null,null,null,null,"Подпрограмма «Развитие физической культуры и спорта»","902",11,"02","05 1 00 00000",null,0,{"$f":"AE888","v":104710},26178.7]
[null,null,null,null,null,null,null,null,null,null,null,null,null,null,null,null,null,null,null,null,null,null,null,"Основное мероприятие \"Модернизация и материально-техническое обеспечение объектов физической культуры и спорта, находящихся в собственности муниципальных образований Московской области\"","902",11,"02","05 1 03 00000",null,0,{"$f":"AE889","v":104710},26178.7]
[null,null,null,null,null,null,null,null,null,null,null,null,null,null,null,null,null,null,null,null,null,null,null,"Проведение капитального ремонта муниципальных объектов физической культуры и спорта","902",11,"02","05 1 03 S0770",null,0,{"$f":"AE890","v":104710},26178.7]
[null,null,null,null,null,null,null,null,null,null,null,null,null,null,null,null,null,null,null,null,null,null,null,"Закупка товаров, работ и услуг для обеспечения государственных (муниципальных) нужд","902",11,"02","05 1 03 S0770",200,0,{"$f":"AE891","v":104710},26178.7]
[null,null,null,null,null,null,null,null,null,null,null,null,null,null,null,null,null,null,null,null,null,null,null,"Иные закупки товаров, работ и услуг для обеспечения государственных (муниципальных) нужд","902",11,"02","05 1 03 S0770",240,0,{"$f":"87118.7+17591.3","v":104710},{"$f":"21780.7+4398","v":26178.7}]
[null,null,null,null,null,null,null,null,null,null,null,null,null,null,null,null,null,null,null,null,null,null,null,"Контрольно-счетная палата городского округа  Лыткарино  Московской  области",904,null,null,null,null,{"$f":"AD893+AD909","v":10547.900000000001},{"$f":"AE893+AE909","v":10547.900000000001},{"$f":"AF893+AF909","v":10547.900000000001}]
[null,null,null,null,null,null,null,null,null,null,null,null,null,null,null,null,null,null,null,null,null,null,null,"Общегосударственные вопросы",904,"01",null,null,null,{"$f":"AD894","v":10001.200000000001},{"$f":"AE894","v":10001.200000000001},{"$f":"AF894","v":10001.200000000001}]
[null,null,null,null,null,null,null,null,null,null,null,null,null,null,null,null,null,null,null,null,null,null,null,"Обеспечение  деятельности  финансовых,налоговых  и  таможенных  органов  и  органов  финансового  (финансово-бюджетного)  надзора",904,"01","06",null,null,{"$f":"AD895","v":10001.200000000001},{"$f":"AE895","v":10001.200000000001},10001.200000000001]
[null,null,null,null,null,null,null,null,null,null,null,null,null,null,null,null,null,null,null,null,null,null,null,"Руководство и управление в сфере установленных функций органов местного самоуправления",904,"01","06","95 0 00 00000",null,{"$f":"AD896","v":10001.200000000001},{"$f":"AE896","v":10001.200000000001},10001.200000000001]
[null,null,null,null,null,null,null,null,null,null,null,null,null,null,null,null,null,null,null,null,null,null,null,"Обеспечение деятельности контрольно-счетной палаты ",904,"01","06","95 0 00 00150",null,{"$f":"AD897+AD903+AD900+AD906","v":10001.200000000001},{"$f":"AE897+AE903+AE900+AE906","v":10001.200000000001},{"$f":"AF897+AF903+AF900+AF906","v":10001.200000000001}]
[null,null,null,null,null,null,null,null,null,null,null,null,null,null,null,null,null,null,null,null,null,null,null,"Обеспечение деятельности контрольно-счетной палаты (обеспечение деятельности)",904,"01","06","95 0 00 00151",null,{"$f":"AD898","v":1041},{"$f":"AE898","v":1041},1041]
[null,null,null,null,null,null,null,null,null,null,null,null,null,null,null,null,null,null,null,null,null,null,null,"Закупка товаров, работ и услуг для обеспечения государственных (муниципальных) нужд",904,"01","06","95 0 00 00151",200,{"$f":"AD899","v":1041},1041,1041]
[null,null,null,null,null,null,null,null,null,null,null,null,null,null,null,null,null,null,null,null,null,null,null,"Иные закупки товаров, работ и услуг для обеспечения государственных (муниципальных) нужд",904,"01","06","95 0 00 00151",240,1041,1041,1041]
[null,null,null,null,null,null,null,null,null,null,null,null,null,null,null,null,null,null,null,null,null,null,null,"Обеспечение деятельности контрольно-счетной палаты(расходы  на  содержание  лиц,  замещающих должности, не являющиеся должностями муниципальной  службы)",904,"01","06","95 0 00 00152",null,{"$f":"AD901","v":2131.9},2131.9,2131.9]
[null,null,null,null,null,null,null,null,null,null,null,null,null,null,null,null,null,null,null,null,null,null,null,"Расходы на выплаты персоналу в целях обеспечения выполнения функций государственными (муниципальными) органами, казенными учреждениями, органами управления государственными внебюджетными фондами ",904,"01","06","95 0 00 00152",100,2131.9,2131.9,2131.9]
[null,null,null,null,null,null,null,null,null,null,null,null,null,null,null,null,null,null,null,null,null,null,null,"Расходы на выплаты персоналу государственных (муниципальных) органов",904,"01","06","95 0 00 00152",120,2131.9,2131.9,2131.9]
[null,null,null,null,null,null,null,null,null,null,null,null,null,null,null,null,null,null,null,null,null,null,null,"Обеспечение деятельности контрольно-счетной палаты (расходы  на  содержание  лиц,  замещающих должности  муниципальной  службы)",904,"01","06","95 0 00 00153",null,{"$f":"AD904","v":2647.4},2647.4,2647.4]
[null,null,null,null,null,null,null,null,null,null,null,null,null,null,null,null,null,null,null,null,null,null,null,"Расходы на выплаты персоналу в целях обеспечения выполнения функций государственными (муниципальными) органами, казенными учреждениями, органами управления государственными внебюджетными фондами ",904,"01","06","95 0 00 00153",100,2647.4,2647.4,2647.4]
[null,null,null,null,null,null,null,null,null,null,null,null,null,null,null,null,null,null,null,null,null,null,null,"Расходы на выплаты персоналу государственных (муниципальных) органов",904,"01","06","95 0 00 00153",120,2647.4,2647.4,2647.4]
[null,null,null,null,null,null,null,null,null,null,null,null,null,null,null,null,null,null,null,null,null,null,null,"Обеспечение деятельности контрольно-счетной палаты (расходы  на  содержание  лиц,  замещающих муниципальные должности)",904,"01","06","95 0 00 00154",null,{"$f":"AD907","v":4180.8999999999996},{"$f":"AE907","v":4180.8999999999996},4180.8999999999996]
[null,null,null,null,null,null,null,null,null,null,null,null,null,null,null,null,null,null,null,null,null,null,null,"Расходы на выплаты персоналу в целях обеспечения выполнения функций государственными (муниципальными) органами, казенными учреждениями, органами управления государственными внебюджетными фондами ",904,"01","06","95 0 00 00154",100,{"$f":"AD908","v":4180.8999999999996},{"$f":"AE908","v":4180.8999999999996},4180.8999999999996]
[null,null,null,null,null,null,null,null,null,null,null,null,null,null,null,null,null,null,null,null,null,null,null,"Расходы на выплаты персоналу государственных (муниципальных) органов",904,"01","06","95 0 00 00154",120,4180.8999999999996,4180.8999999999996,4180.8999999999996]
[null,null,null,null,null,null,null,null,null,null,null,null,null,null,null,null,null,null,null,null,null,null,null,"Социальная политика","904","10",null,null,null,{"$f":"AD910","v":546.70000000000005},546.70000000000005,546.70000000000005]
[null,null,null,null,null,null,null,null,null,null,null,null,null,null,null,null,null,null,null,null,null,null,null,"Пенсионное обеспечение",904,10,"01",null,null,546.70000000000005,546.70000000000005,546.70000000000005]
[null,null,null,null,null,null,null,null,null,null,null,null,null,null,null,null,null,null,null,null,null,null,null,"Муниципальная программа «Социальная защита населения»                    ",904,10,"01","04 0 00 00000",null,546.70000000000005,546.70000000000005,546.70000000000005]
[null,null,null,null,null,null,null,null,null,null,null,null,null,null,null,null,null,null,null,null,null,null,null,"Подпрограмма «Социальная поддержка граждан»",904,10,"01","04 1 00 00000",null,{"$f":"AD913","v":546.70000000000005},{"$f":"AE913","v":546.70000000000005},{"$f":"AF913","v":546.70000000000005}]
[null,null,null,null,null,null,null,null,null,null,null,null,null,null,null,null,null,null,null,null,null,null,null,"Основное мероприятие «Предоставление государственных гарантий муниципальным служащим, поощрение за муниципальную службу»",904,10,"01","04 1 15 00000",null,546.70000000000005,546.70000000000005,546.70000000000005]
[null,null,null,null,null,null,null,null,null,null,null,null,null,null,null,null,null,null,null,null,null,null,null,"Предоставление доплаты за выслугу лет к трудовой пенсии муниципальным служащим за счет средств местного бюджета",904,10,"01","04 1 15 00840",null,546.70000000000005,546.70000000000005,546.70000000000005]
[null,null,null,null,null,null,null,null,null,null,null,null,null,null,null,null,null,null,null,null,null,null,null,"Социальное обеспечение и иные выплаты населению",904,10,"01","04 1 15 00840",300,546.70000000000005,546.70000000000005,546.70000000000005]
[null,null,null,null,null,null,null,null,null,null,null,null,null,null,null,null,null,null,null,null,null,null,null,"Социальные выплаты гражданам, кроме публичных нормативных социальных выплат",904,10,"01","04 1 15 00840",320,546.70000000000005,546.70000000000005,546.70000000000005]
[null,null,null,null,null,null,null,null,null,null,null,null,null,null,null,null,null,null,null,null,null,null,null,"ВСЕГО",null,null,null,null,null,{"$f":"AD892+AD717+AD555+AD508+AD478+AD444+AD10","v":3334771.1},{"$f":"AE892+AE717+AE555+AE508+AE478+AE444+AE10","v":2572675},{"$f":"AF892+AF717+AF555+AF508+AF478+AF444+AF10","v":2247180.9000000004}]

{"sheet":"Лист1","index":7,"n_rows":0,"n_cols":0,"rows_kept":0,"cut":false,"hidden":false,"merged":[]}